BEGIN:VCALENDAR
VERSION:2.0
PRODID:-//Events - ECPv6.15.20//NONSGML v1.0//EN
CALSCALE:GREGORIAN
METHOD:PUBLISH
X-ORIGINAL-URL:https://www.monmouth.edu/events
X-WR-CALDESC:Events for Events
REFRESH-INTERVAL;VALUE=DURATION:PT1H
X-Robots-Tag:noindex
X-PUBLISHED-TTL:PT1H
BEGIN:VTIMEZONE
TZID:America/New_York
BEGIN:DAYLIGHT
TZOFFSETFROM:-0500
TZOFFSETTO:-0400
TZNAME:EDT
DTSTART:20230312T070000
END:DAYLIGHT
BEGIN:STANDARD
TZOFFSETFROM:-0400
TZOFFSETTO:-0500
TZNAME:EST
DTSTART:20231105T060000
END:STANDARD
BEGIN:DAYLIGHT
TZOFFSETFROM:-0500
TZOFFSETTO:-0400
TZNAME:EDT
DTSTART:20240310T070000
END:DAYLIGHT
BEGIN:STANDARD
TZOFFSETFROM:-0400
TZOFFSETTO:-0500
TZNAME:EST
DTSTART:20241103T060000
END:STANDARD
BEGIN:DAYLIGHT
TZOFFSETFROM:-0500
TZOFFSETTO:-0400
TZNAME:EDT
DTSTART:20250309T070000
END:DAYLIGHT
BEGIN:STANDARD
TZOFFSETFROM:-0400
TZOFFSETTO:-0500
TZNAME:EST
DTSTART:20251102T060000
END:STANDARD
END:VTIMEZONE
BEGIN:VEVENT
DTSTART;TZID=America/New_York:20241217T190000
DTEND;TZID=America/New_York:20241217T200000
DTSTAMP:20260423T060428
CREATED:20241011T130722Z
LAST-MODIFIED:20241011T130722Z
UID:40810114869-1734462000-1734465600@www.monmouth.edu
SUMMARY:CrunchTime
DESCRIPTION:Sculpt your abs and core with this beginner/moderate-intensity level class focusing on basic body weight movements such as planks\, crunches\, and other exercises for a total core workout.  Sign up on the ‘Monmouth Rec” app or at fitdegree.com.
URL:https://www.monmouth.edu/events/event/crunchtime/2024-12-17/
LOCATION:Boylan Gym South
CATEGORIES:Recreational Sports
END:VEVENT
BEGIN:VEVENT
DTSTART;TZID=America/New_York:20241216T183000
DTEND;TZID=America/New_York:20241216T193000
DTSTAMP:20260423T060428
CREATED:20241011T130820Z
LAST-MODIFIED:20241011T130820Z
UID:40810114532-1734373800-1734377400@www.monmouth.edu
SUMMARY:Abs\, Legs and Butt
DESCRIPTION:Sculpt your abs\, legs\, and butt with this moderate-intensity level class focusing on basic body weight movements such as squats and lunges. Work your core with planks\, crunches\, and other exercises for a total lower body/core workout.
URL:https://www.monmouth.edu/events/event/abs-legs-and-butt/2024-12-16/
LOCATION:Boylan Gym South
CATEGORIES:Recreational Sports
END:VEVENT
BEGIN:VEVENT
DTSTART;TZID=America/New_York:20241211T183000
DTEND;TZID=America/New_York:20241211T193000
DTSTAMP:20260423T060428
CREATED:20241011T130820Z
LAST-MODIFIED:20241011T130820Z
UID:40810114529-1733941800-1733945400@www.monmouth.edu
SUMMARY:Abs\, Legs and Butt
DESCRIPTION:Sculpt your abs\, legs\, and butt with this moderate-intensity level class focusing on basic body weight movements such as squats and lunges. Work your core with planks\, crunches\, and other exercises for a total lower body/core workout.
URL:https://www.monmouth.edu/events/event/abs-legs-and-butt/2024-12-11/
LOCATION:Boylan Gym South
CATEGORIES:Recreational Sports
END:VEVENT
BEGIN:VEVENT
DTSTART;TZID=America/New_York:20241210T190000
DTEND;TZID=America/New_York:20241210T200000
DTSTAMP:20260423T060428
CREATED:20241011T130722Z
LAST-MODIFIED:20241011T130722Z
UID:40810114866-1733857200-1733860800@www.monmouth.edu
SUMMARY:CrunchTime
DESCRIPTION:Sculpt your abs and core with this beginner/moderate-intensity level class focusing on basic body weight movements such as planks\, crunches\, and other exercises for a total core workout.  Sign up on the ‘Monmouth Rec” app or at fitdegree.com.
URL:https://www.monmouth.edu/events/event/crunchtime/2024-12-10/
LOCATION:Boylan Gym South
CATEGORIES:Recreational Sports
END:VEVENT
BEGIN:VEVENT
DTSTART;TZID=America/New_York:20241209T183000
DTEND;TZID=America/New_York:20241209T193000
DTSTAMP:20260423T060428
CREATED:20241011T130820Z
LAST-MODIFIED:20241011T130820Z
UID:40810114526-1733769000-1733772600@www.monmouth.edu
SUMMARY:Abs\, Legs and Butt
DESCRIPTION:Sculpt your abs\, legs\, and butt with this moderate-intensity level class focusing on basic body weight movements such as squats and lunges. Work your core with planks\, crunches\, and other exercises for a total lower body/core workout.
URL:https://www.monmouth.edu/events/event/abs-legs-and-butt/2024-12-09/
LOCATION:Boylan Gym South
CATEGORIES:Recreational Sports
END:VEVENT
BEGIN:VEVENT
DTSTART;TZID=America/New_York:20241204T183000
DTEND;TZID=America/New_York:20241204T193000
DTSTAMP:20260423T060428
CREATED:20241011T130820Z
LAST-MODIFIED:20241011T130820Z
UID:40810114523-1733337000-1733340600@www.monmouth.edu
SUMMARY:Abs\, Legs and Butt
DESCRIPTION:Sculpt your abs\, legs\, and butt with this moderate-intensity level class focusing on basic body weight movements such as squats and lunges. Work your core with planks\, crunches\, and other exercises for a total lower body/core workout.
URL:https://www.monmouth.edu/events/event/abs-legs-and-butt/2024-12-04/
LOCATION:Boylan Gym South
CATEGORIES:Recreational Sports
END:VEVENT
BEGIN:VEVENT
DTSTART;TZID=America/New_York:20241203T190000
DTEND;TZID=America/New_York:20241203T200000
DTSTAMP:20260423T060428
CREATED:20241011T130722Z
LAST-MODIFIED:20241011T130722Z
UID:40810114863-1733252400-1733256000@www.monmouth.edu
SUMMARY:CrunchTime
DESCRIPTION:Sculpt your abs and core with this beginner/moderate-intensity level class focusing on basic body weight movements such as planks\, crunches\, and other exercises for a total core workout.  Sign up on the ‘Monmouth Rec” app or at fitdegree.com.
URL:https://www.monmouth.edu/events/event/crunchtime/2024-12-03/
LOCATION:Boylan Gym South
CATEGORIES:Recreational Sports
END:VEVENT
BEGIN:VEVENT
DTSTART;TZID=America/New_York:20241202T183000
DTEND;TZID=America/New_York:20241202T193000
DTSTAMP:20260423T060428
CREATED:20241011T130820Z
LAST-MODIFIED:20241011T130820Z
UID:40810114520-1733164200-1733167800@www.monmouth.edu
SUMMARY:Abs\, Legs and Butt
DESCRIPTION:Sculpt your abs\, legs\, and butt with this moderate-intensity level class focusing on basic body weight movements such as squats and lunges. Work your core with planks\, crunches\, and other exercises for a total lower body/core workout.
URL:https://www.monmouth.edu/events/event/abs-legs-and-butt/2024-12-02/
LOCATION:Boylan Gym South
CATEGORIES:Recreational Sports
END:VEVENT
BEGIN:VEVENT
DTSTART;TZID=America/New_York:20241125T183000
DTEND;TZID=America/New_York:20241125T193000
DTSTAMP:20260423T060428
CREATED:20241011T130820Z
LAST-MODIFIED:20241011T130820Z
UID:40810114517-1732559400-1732563000@www.monmouth.edu
SUMMARY:Abs\, Legs and Butt
DESCRIPTION:Sculpt your abs\, legs\, and butt with this moderate-intensity level class focusing on basic body weight movements such as squats and lunges. Work your core with planks\, crunches\, and other exercises for a total lower body/core workout.
URL:https://www.monmouth.edu/events/event/abs-legs-and-butt/2024-11-25/
LOCATION:Boylan Gym South
CATEGORIES:Recreational Sports
END:VEVENT
BEGIN:VEVENT
DTSTART;TZID=America/New_York:20241120T183000
DTEND;TZID=America/New_York:20241120T193000
DTSTAMP:20260423T060428
CREATED:20241011T130820Z
LAST-MODIFIED:20241011T130820Z
UID:40810114514-1732127400-1732131000@www.monmouth.edu
SUMMARY:Abs\, Legs and Butt
DESCRIPTION:Sculpt your abs\, legs\, and butt with this moderate-intensity level class focusing on basic body weight movements such as squats and lunges. Work your core with planks\, crunches\, and other exercises for a total lower body/core workout.
URL:https://www.monmouth.edu/events/event/abs-legs-and-butt/2024-11-20/
LOCATION:Boylan Gym South
CATEGORIES:Recreational Sports
END:VEVENT
BEGIN:VEVENT
DTSTART;TZID=America/New_York:20241119T190000
DTEND;TZID=America/New_York:20241119T200000
DTSTAMP:20260423T060428
CREATED:20241011T130722Z
LAST-MODIFIED:20241011T130722Z
UID:40810114860-1732042800-1732046400@www.monmouth.edu
SUMMARY:CrunchTime
DESCRIPTION:Sculpt your abs and core with this beginner/moderate-intensity level class focusing on basic body weight movements such as planks\, crunches\, and other exercises for a total core workout.  Sign up on the ‘Monmouth Rec” app or at fitdegree.com.
URL:https://www.monmouth.edu/events/event/crunchtime/2024-11-19/
LOCATION:Boylan Gym South
CATEGORIES:Recreational Sports
END:VEVENT
BEGIN:VEVENT
DTSTART;TZID=America/New_York:20241118T183000
DTEND;TZID=America/New_York:20241118T193000
DTSTAMP:20260423T060428
CREATED:20241011T130820Z
LAST-MODIFIED:20241011T130820Z
UID:40810114511-1731954600-1731958200@www.monmouth.edu
SUMMARY:Abs\, Legs and Butt
DESCRIPTION:Sculpt your abs\, legs\, and butt with this moderate-intensity level class focusing on basic body weight movements such as squats and lunges. Work your core with planks\, crunches\, and other exercises for a total lower body/core workout.
URL:https://www.monmouth.edu/events/event/abs-legs-and-butt/2024-11-18/
LOCATION:Boylan Gym South
CATEGORIES:Recreational Sports
END:VEVENT
BEGIN:VEVENT
DTSTART;TZID=America/New_York:20241113T183000
DTEND;TZID=America/New_York:20241113T193000
DTSTAMP:20260423T060428
CREATED:20241011T130820Z
LAST-MODIFIED:20241011T130820Z
UID:40810114508-1731522600-1731526200@www.monmouth.edu
SUMMARY:Abs\, Legs and Butt
DESCRIPTION:Sculpt your abs\, legs\, and butt with this moderate-intensity level class focusing on basic body weight movements such as squats and lunges. Work your core with planks\, crunches\, and other exercises for a total lower body/core workout.
URL:https://www.monmouth.edu/events/event/abs-legs-and-butt/2024-11-13/
LOCATION:Boylan Gym South
CATEGORIES:Recreational Sports
END:VEVENT
BEGIN:VEVENT
DTSTART;TZID=America/New_York:20241112T190000
DTEND;TZID=America/New_York:20241112T200000
DTSTAMP:20260423T060428
CREATED:20241011T130722Z
LAST-MODIFIED:20241011T130722Z
UID:40810114857-1731438000-1731441600@www.monmouth.edu
SUMMARY:CrunchTime
DESCRIPTION:Sculpt your abs and core with this beginner/moderate-intensity level class focusing on basic body weight movements such as planks\, crunches\, and other exercises for a total core workout.  Sign up on the ‘Monmouth Rec” app or at fitdegree.com.
URL:https://www.monmouth.edu/events/event/crunchtime/2024-11-12/
LOCATION:Boylan Gym South
CATEGORIES:Recreational Sports
END:VEVENT
BEGIN:VEVENT
DTSTART;TZID=America/New_York:20241111T183000
DTEND;TZID=America/New_York:20241111T193000
DTSTAMP:20260423T060428
CREATED:20241011T130820Z
LAST-MODIFIED:20241011T130820Z
UID:40810114505-1731349800-1731353400@www.monmouth.edu
SUMMARY:Abs\, Legs and Butt
DESCRIPTION:Sculpt your abs\, legs\, and butt with this moderate-intensity level class focusing on basic body weight movements such as squats and lunges. Work your core with planks\, crunches\, and other exercises for a total lower body/core workout.
URL:https://www.monmouth.edu/events/event/abs-legs-and-butt/2024-11-11/
LOCATION:Boylan Gym South
CATEGORIES:Recreational Sports
END:VEVENT
BEGIN:VEVENT
DTSTART;TZID=America/New_York:20241106T183000
DTEND;TZID=America/New_York:20241106T193000
DTSTAMP:20260423T060428
CREATED:20241011T130820Z
LAST-MODIFIED:20241011T130820Z
UID:40810114502-1730917800-1730921400@www.monmouth.edu
SUMMARY:Abs\, Legs and Butt
DESCRIPTION:Sculpt your abs\, legs\, and butt with this moderate-intensity level class focusing on basic body weight movements such as squats and lunges. Work your core with planks\, crunches\, and other exercises for a total lower body/core workout.
URL:https://www.monmouth.edu/events/event/abs-legs-and-butt/2024-11-06/
LOCATION:Boylan Gym South
CATEGORIES:Recreational Sports
END:VEVENT
BEGIN:VEVENT
DTSTART;TZID=America/New_York:20241105T190000
DTEND;TZID=America/New_York:20241105T200000
DTSTAMP:20260423T060428
CREATED:20241011T130722Z
LAST-MODIFIED:20241011T130722Z
UID:40810117800-1730833200-1730836800@www.monmouth.edu
SUMMARY:CrunchTime
DESCRIPTION:Sculpt your abs and core with this beginner/moderate-intensity level class focusing on basic body weight movements such as planks\, crunches\, and other exercises for a total core workout.  Sign up on the ‘Monmouth Rec” app or at fitdegree.com.
URL:https://www.monmouth.edu/events/event/crunchtime/2024-11-05/
LOCATION:Boylan Gym South
CATEGORIES:Recreational Sports
END:VEVENT
BEGIN:VEVENT
DTSTART;TZID=America/New_York:20241104T183000
DTEND;TZID=America/New_York:20241104T193000
DTSTAMP:20260423T060428
CREATED:20241011T130820Z
LAST-MODIFIED:20241011T130820Z
UID:40810114499-1730745000-1730748600@www.monmouth.edu
SUMMARY:Abs\, Legs and Butt
DESCRIPTION:Sculpt your abs\, legs\, and butt with this moderate-intensity level class focusing on basic body weight movements such as squats and lunges. Work your core with planks\, crunches\, and other exercises for a total lower body/core workout.
URL:https://www.monmouth.edu/events/event/abs-legs-and-butt/2024-11-04/
LOCATION:Boylan Gym South
CATEGORIES:Recreational Sports
END:VEVENT
BEGIN:VEVENT
DTSTART;TZID=America/New_York:20241030T183000
DTEND;TZID=America/New_York:20241030T193000
DTSTAMP:20260423T060428
CREATED:20241011T130820Z
LAST-MODIFIED:20241011T130820Z
UID:40810114496-1730313000-1730316600@www.monmouth.edu
SUMMARY:Abs\, Legs and Butt
DESCRIPTION:Sculpt your abs\, legs\, and butt with this moderate-intensity level class focusing on basic body weight movements such as squats and lunges. Work your core with planks\, crunches\, and other exercises for a total lower body/core workout.
URL:https://www.monmouth.edu/events/event/abs-legs-and-butt/2024-10-30/
LOCATION:Boylan Gym South
CATEGORIES:Recreational Sports
END:VEVENT
BEGIN:VEVENT
DTSTART;TZID=America/New_York:20241029T190000
DTEND;TZID=America/New_York:20241029T200000
DTSTAMP:20260423T060428
CREATED:20241011T130722Z
LAST-MODIFIED:20241011T130722Z
UID:40810114851-1730228400-1730232000@www.monmouth.edu
SUMMARY:CrunchTime
DESCRIPTION:Sculpt your abs and core with this beginner/moderate-intensity level class focusing on basic body weight movements such as planks\, crunches\, and other exercises for a total core workout.  Sign up on the ‘Monmouth Rec” app or at fitdegree.com.
URL:https://www.monmouth.edu/events/event/crunchtime/2024-10-29/
LOCATION:Boylan Gym South
CATEGORIES:Recreational Sports
END:VEVENT
BEGIN:VEVENT
DTSTART;TZID=America/New_York:20241028T183000
DTEND;TZID=America/New_York:20241028T193000
DTSTAMP:20260423T060428
CREATED:20241011T130820Z
LAST-MODIFIED:20241011T130820Z
UID:40810114493-1730140200-1730143800@www.monmouth.edu
SUMMARY:Abs\, Legs and Butt
DESCRIPTION:Sculpt your abs\, legs\, and butt with this moderate-intensity level class focusing on basic body weight movements such as squats and lunges. Work your core with planks\, crunches\, and other exercises for a total lower body/core workout.
URL:https://www.monmouth.edu/events/event/abs-legs-and-butt/2024-10-28/
LOCATION:Boylan Gym South
CATEGORIES:Recreational Sports
END:VEVENT
BEGIN:VEVENT
DTSTART;TZID=America/New_York:20241025T180000
DTEND;TZID=America/New_York:20241025T200000
DTSTAMP:20260423T060428
CREATED:20241017T193921Z
LAST-MODIFIED:20241017T193921Z
UID:40810115076-1729879200-1729886400@www.monmouth.edu
SUMMARY:Monmouth University Club Volleyball - Open Gym
DESCRIPTION:Please join both the Women’s and Men’s Club Volleyball team on 10/25 from 6-8 PM in Boylan Gym for an open gym! This open gym is open to all students\, men and women\, of all skill levels!
URL:https://www.monmouth.edu/events/event/monmouth-university-club-volleyball-open-gym/
LOCATION:Boylan Gymnasium
CATEGORIES:Recreational Sports
END:VEVENT
BEGIN:VEVENT
DTSTART;TZID=America/New_York:20241023T183000
DTEND;TZID=America/New_York:20241023T193000
DTSTAMP:20260423T060428
CREATED:20241011T130820Z
LAST-MODIFIED:20241011T130820Z
UID:40810114490-1729708200-1729711800@www.monmouth.edu
SUMMARY:Abs\, Legs and Butt
DESCRIPTION:Sculpt your abs\, legs\, and butt with this moderate-intensity level class focusing on basic body weight movements such as squats and lunges. Work your core with planks\, crunches\, and other exercises for a total lower body/core workout.
URL:https://www.monmouth.edu/events/event/abs-legs-and-butt/2024-10-23/
LOCATION:Boylan Gym South
CATEGORIES:Recreational Sports
END:VEVENT
BEGIN:VEVENT
DTSTART;TZID=America/New_York:20241022T190000
DTEND;TZID=America/New_York:20241022T200000
DTSTAMP:20260423T060428
CREATED:20241011T130722Z
LAST-MODIFIED:20241011T130722Z
UID:40810114848-1729623600-1729627200@www.monmouth.edu
SUMMARY:CrunchTime
DESCRIPTION:Sculpt your abs and core with this beginner/moderate-intensity level class focusing on basic body weight movements such as planks\, crunches\, and other exercises for a total core workout.  Sign up on the ‘Monmouth Rec” app or at fitdegree.com.
URL:https://www.monmouth.edu/events/event/crunchtime/2024-10-22/
LOCATION:Boylan Gym South
CATEGORIES:Recreational Sports
END:VEVENT
BEGIN:VEVENT
DTSTART;TZID=America/New_York:20241021T183000
DTEND;TZID=America/New_York:20241021T193000
DTSTAMP:20260423T060428
CREATED:20241011T130820Z
LAST-MODIFIED:20241011T130820Z
UID:40810114487-1729535400-1729539000@www.monmouth.edu
SUMMARY:Abs\, Legs and Butt
DESCRIPTION:Sculpt your abs\, legs\, and butt with this moderate-intensity level class focusing on basic body weight movements such as squats and lunges. Work your core with planks\, crunches\, and other exercises for a total lower body/core workout.
URL:https://www.monmouth.edu/events/event/abs-legs-and-butt/2024-10-21/
LOCATION:Boylan Gym South
CATEGORIES:Recreational Sports
END:VEVENT
BEGIN:VEVENT
DTSTART;TZID=America/New_York:20241016T183000
DTEND;TZID=America/New_York:20241016T193000
DTSTAMP:20260423T060428
CREATED:20241011T130820Z
LAST-MODIFIED:20241011T130820Z
UID:40810114484-1729103400-1729107000@www.monmouth.edu
SUMMARY:Abs\, Legs and Butt
DESCRIPTION:Sculpt your abs\, legs\, and butt with this moderate-intensity level class focusing on basic body weight movements such as squats and lunges. Work your core with planks\, crunches\, and other exercises for a total lower body/core workout.
URL:https://www.monmouth.edu/events/event/abs-legs-and-butt/2024-10-16/
LOCATION:Boylan Gym South
CATEGORIES:Recreational Sports
END:VEVENT
BEGIN:VEVENT
DTSTART;TZID=America/New_York:20240916T000000
DTEND;TZID=America/New_York:20241012T235959
DTSTAMP:20260423T060428
CREATED:20240906T185644Z
LAST-MODIFIED:20240906T185644Z
UID:40810113752-1726444800-1728777599@www.monmouth.edu
SUMMARY:Women's Flag Football Clinic
DESCRIPTION:Monmouth Recreation will be offering a Women’s Flag Football Clinic. Clinics open to all girls of any skill level! We will teach you flag football skills\, knowledge and strategy\, and students will have the opportunity to play actual games. Our clinics are an awesome way to meet people and make new friends on campus! Additionally\, students will have a chance to make the flag football team that will play in the NIRSA Regional Championships down at the University of Maryland. The clinic will begin the week of September 16th! \nRegister for the clinic or email  for any questions!
URL:https://www.monmouth.edu/events/event/womens-flag-football-clinic/
LOCATION:Hesse Field on The Great Lawn
CATEGORIES:Recreational Sports
ATTACH;FMTTYPE=image/jpeg:https://www.monmouth.edu/events/wp-content/uploads/sites/19/2024/09/Womens-Flag-Clinic.jpeg
END:VEVENT
END:VCALENDAR