BEGIN:VCALENDAR
VERSION:2.0
PRODID:-//Events - ECPv6.15.20//NONSGML v1.0//EN
CALSCALE:GREGORIAN
METHOD:PUBLISH
X-WR-CALNAME:Events
X-ORIGINAL-URL:https://www.monmouth.edu/events
X-WR-CALDESC:Events for Events
REFRESH-INTERVAL;VALUE=DURATION:PT1H
X-Robots-Tag:noindex
X-PUBLISHED-TTL:PT1H
BEGIN:VTIMEZONE
TZID:America/New_York
BEGIN:DAYLIGHT
TZOFFSETFROM:-0500
TZOFFSETTO:-0400
TZNAME:EDT
DTSTART:20250309T070000
END:DAYLIGHT
BEGIN:STANDARD
TZOFFSETFROM:-0400
TZOFFSETTO:-0500
TZNAME:EST
DTSTART:20251102T060000
END:STANDARD
BEGIN:DAYLIGHT
TZOFFSETFROM:-0500
TZOFFSETTO:-0400
TZNAME:EDT
DTSTART:20260308T070000
END:DAYLIGHT
BEGIN:STANDARD
TZOFFSETFROM:-0400
TZOFFSETTO:-0500
TZNAME:EST
DTSTART:20261101T060000
END:STANDARD
BEGIN:DAYLIGHT
TZOFFSETFROM:-0500
TZOFFSETTO:-0400
TZNAME:EDT
DTSTART:20270314T070000
END:DAYLIGHT
BEGIN:STANDARD
TZOFFSETFROM:-0400
TZOFFSETTO:-0500
TZNAME:EST
DTSTART:20271107T060000
END:STANDARD
END:VTIMEZONE
BEGIN:VEVENT
DTSTART;TZID=America/New_York:20260423T193000
DTEND;TZID=America/New_York:20260430T210000
DTSTAMP:20260422T080109
CREATED:20250722T181833Z
LAST-MODIFIED:20250722T181833Z
UID:40810119340-1776972600-1777582800@www.monmouth.edu
SUMMARY:'60s Girl Groups\, Part II
DESCRIPTION:Class Schedule: April 23\, 28\, & 30\, 2026 | 7:30 – 9:00 PM \nThe early 1960s began the girl group renaissance\, with prominent Brill Building songwriters and emerging producers such as Phil Spector crafting hits. Motown would further set the template\, with Martha and the Vandellas\, the Velvettes\, and the Marvelettes inspiring even British Invasion groups.  Perhaps no one defined the girl group aesthetic like the Supremes\, one of the most successful (and influential) acts of the 1960s. \n\n\nAs the next decade loomed\, the girl group genre was not as prominent on the charts.  Yet the Honey Cone\, the Emotions\, the Three Degrees\, and LaBelle added a thoroughly modern spin on the girl group sound\, adding elements of disco and funk.  The Pointer Sisters would achieve even greater success in the late 1970s and 1980s\, with the 1990s bringing a new wave of groups such as En Vogue\, the Spice Girls\, and SWV.  The trend continues today with an international flair\, as the hugely popular K-Pop genre has redrawn the blueprint with artists such as Blackpink and Twice. Part two travels through these eras\, exploring why the girl group genre continues to thrive. Multimedia presentations and discussions will help define how girl groups changed music and pop culture. \nZoom Link will be provided upon registration.
URL:https://www.monmouth.edu/events/event/60s-girl-groups-part-ii/
LOCATION:Virtual (Zoom)
CATEGORIES:Alumni,Arts at Monmouth,Community Member,Current Student,Faculty,Music,Music + Theatre Arts,Virtual
ATTACH;FMTTYPE=image/png:https://www.monmouth.edu/events/wp-content/uploads/sites/19/2025/07/Screenshot-2025-07-19-at-7.59.42-PM-1.png
ORGANIZER;CN="Kenneth Womack":MAILTO:kwomack@monmouth.edu
END:VEVENT
BEGIN:VEVENT
DTSTART;TZID=America/New_York:20260502T130000
DTEND;TZID=America/New_York:20260502T170000
DTSTAMP:20260422T080109
CREATED:20250731T165037Z
LAST-MODIFIED:20260109T204815Z
UID:40810119481-1777726800-1777741200@www.monmouth.edu
SUMMARY:Eugene Onegin
DESCRIPTION:Following her acclaimed 2024 company debut in Puccini’s Madama Butterfly\, soprano Asmik Grigorian returns to the Met as Tatiana\, the lovestruck young heroine in this ardent operatic adaptation of Pushkin. Baritone Igor Golovatenko also stars as the urbane Onegin\, who realizes his affection for her all too late. \nTchaikovsky’s universally beloved melodic gifts are at their most powerful and multilayered in this opera\, featuring rich ensembles\, buoyant dance numbers\, and some of the most striking vocal solos in the repertory.
URL:https://www.monmouth.edu/events/event/eugene-onegin/
LOCATION:Pollak Theatre
CATEGORIES:Alumni,Alumni Affairs,Alumni Events,Arts at Monmouth,Broadcast in HD,Community Member,Current Student,Faculty,Music,Music + Theatre Arts
ATTACH;FMTTYPE=image/jpeg:https://www.monmouth.edu/events/wp-content/uploads/sites/19/2025/07/onegin-1600x685-1.jpg
ORGANIZER;CN="Center for the Arts":MAILTO:kbarratt@monmouth.edu
END:VEVENT
END:VCALENDAR