BEGIN:VCALENDAR
VERSION:2.0
PRODID:-//Events - ECPv6.15.20//NONSGML v1.0//EN
CALSCALE:GREGORIAN
METHOD:PUBLISH
X-WR-CALNAME:Events
X-ORIGINAL-URL:https://www.monmouth.edu/events
X-WR-CALDESC:Events for Events
REFRESH-INTERVAL;VALUE=DURATION:PT1H
X-Robots-Tag:noindex
X-PUBLISHED-TTL:PT1H
BEGIN:VTIMEZONE
TZID:America/New_York
BEGIN:DAYLIGHT
TZOFFSETFROM:-0500
TZOFFSETTO:-0400
TZNAME:EDT
DTSTART:20170312T070000
END:DAYLIGHT
BEGIN:STANDARD
TZOFFSETFROM:-0400
TZOFFSETTO:-0500
TZNAME:EST
DTSTART:20171105T060000
END:STANDARD
BEGIN:DAYLIGHT
TZOFFSETFROM:-0500
TZOFFSETTO:-0400
TZNAME:EDT
DTSTART:20180311T070000
END:DAYLIGHT
BEGIN:STANDARD
TZOFFSETFROM:-0400
TZOFFSETTO:-0500
TZNAME:EST
DTSTART:20181104T060000
END:STANDARD
BEGIN:DAYLIGHT
TZOFFSETFROM:-0500
TZOFFSETTO:-0400
TZNAME:EDT
DTSTART:20190310T070000
END:DAYLIGHT
BEGIN:STANDARD
TZOFFSETFROM:-0400
TZOFFSETTO:-0500
TZNAME:EST
DTSTART:20191103T060000
END:STANDARD
END:VTIMEZONE
BEGIN:VEVENT
DTSTART;TZID=America/New_York:20180203T200000
DTEND;TZID=America/New_York:20180203T230000
DTSTAMP:20260425T125010
CREATED:20180725T203417Z
LAST-MODIFIED:20180725T203417Z
UID:40810101050-1517688000-1517698800@www.monmouth.edu
SUMMARY:CSNsongs - Celebrating the music of Crosby\, Stills\, Nash & Young
DESCRIPTION:Returning to Monmouth by popular renowned for an encore engagement\, CSN Songs is an ensemble of accomplished musicians who pay homage to the folk/rock legends that revolutionized music in the 1960’s and 70’s. Crosby\, Stills\, Nash & Young’s compositions are perfectly and respectfully reproduced as they were originally written and recorded. Relive these historical musical moments with CSN Songs impeccable recreations of Suite Judy Blue Eyes\, Ohio\, Love the One Your With\, Just a Song Before I Go\, Southern Man and many other CSN&Y treasures.      \n“If you closed your eyes you would think it was the real CSN!”
URL:https://www.monmouth.edu/events/event/csnsongs18/
LOCATION:Pollak Theatre
CATEGORIES:Arts at Monmouth,Music
ATTACH;FMTTYPE=image/jpeg:https://www.monmouth.edu/events/wp-content/uploads/sites/19/2018/07/csnsongs_hero11.jpg
END:VEVENT
END:VCALENDAR