BEGIN:VCALENDAR
VERSION:2.0
PRODID:-//Events - ECPv6.15.20//NONSGML v1.0//EN
CALSCALE:GREGORIAN
METHOD:PUBLISH
X-ORIGINAL-URL:https://www.monmouth.edu/events
X-WR-CALDESC:Events for Events
REFRESH-INTERVAL;VALUE=DURATION:PT1H
X-Robots-Tag:noindex
X-PUBLISHED-TTL:PT1H
BEGIN:VTIMEZONE
TZID:America/New_York
BEGIN:DAYLIGHT
TZOFFSETFROM:-0500
TZOFFSETTO:-0400
TZNAME:EDT
DTSTART:20160313T070000
END:DAYLIGHT
BEGIN:STANDARD
TZOFFSETFROM:-0400
TZOFFSETTO:-0500
TZNAME:EST
DTSTART:20161106T060000
END:STANDARD
BEGIN:DAYLIGHT
TZOFFSETFROM:-0500
TZOFFSETTO:-0400
TZNAME:EDT
DTSTART:20170312T070000
END:DAYLIGHT
BEGIN:STANDARD
TZOFFSETFROM:-0400
TZOFFSETTO:-0500
TZNAME:EST
DTSTART:20171105T060000
END:STANDARD
BEGIN:DAYLIGHT
TZOFFSETFROM:-0500
TZOFFSETTO:-0400
TZNAME:EDT
DTSTART:20180311T070000
END:DAYLIGHT
BEGIN:STANDARD
TZOFFSETFROM:-0400
TZOFFSETTO:-0500
TZNAME:EST
DTSTART:20181104T060000
END:STANDARD
END:VTIMEZONE
BEGIN:VEVENT
DTSTART;TZID=America/New_York:20171203T130000
DTEND;TZID=America/New_York:20171203T175900
DTSTAMP:20260425T071015
CREATED:20180725T203651Z
LAST-MODIFIED:20180725T203651Z
UID:40810101245-1512306000-1512323940@www.monmouth.edu
SUMMARY:The Exterminating Angel (Encore)
DESCRIPTION:The Exterminating Angel has its Met premiere this season\, conducted by the composer\, Thomas Adès. The 2016 opera\, co-commissioned by the Met and sung in English\, is based on the screenplay by Luis Buñuel and Luis Alcoriza for the acclaimed 1962 Buñuel film. Directed by the librettist Tom Cairns\, the ensemble cast features Audrey Luna as Leticia Maynar; Amanda Echalaz as Lucia de Nobile; Sally Matthews as Silvia de Ávila and Sophie Bevan as Beatriz\, both in Met debuts; Alice Coote as Leonora Palma; Christine Rice as Blanca Delgado; Iestyn Davies as Francisco de Ávila; Joseph Kaiser as Edundo de Nobile; Frédéric Antoun in his Met debut as Raúl Yebenes; David Portillo as Edmundo; David Adam Moore in his Met debut as Col. Álvaro Gómez; Rod Gilfry as Alberto Roc; Kevin Burdette as Señor Russell; Christian Van Horn as Julio; and John Tomlinson as Dr Carlos Conde. The Exterminating Angel is a co-commission and co-production with the Royal Opera House\, Covent Garden; Royal Danish Theatre; and Salzburg Festival\, where the production premiered in 2016. \nTotal runtime: 2 hours\, 27 minutes
URL:https://www.monmouth.edu/events/event/theexterminatingangelencore17/
LOCATION:Pollak Theatre
CATEGORIES:Arts at Monmouth,Broadcast in HD,Music,Theatre
ATTACH;FMTTYPE=image/jpeg:https://www.monmouth.edu/events/wp-content/uploads/sites/19/2018/07/angel_hero2.jpg
END:VEVENT
BEGIN:VEVENT
DTSTART;TZID=America/New_York:20171205T193000
DTEND;TZID=America/New_York:20171205T230000
DTSTAMP:20260425T071015
CREATED:20180725T203549Z
LAST-MODIFIED:20180725T203549Z
UID:40810101158-1512502200-1512514800@www.monmouth.edu
SUMMARY:Winter Dance Showcase
DESCRIPTION:Join us for an evening of Dance performed by the dance program students\, the University Dance Team\, and candidates for the National Honor Society for Dance Arts. Students will perform original works by faculty members and distinguished students.
URL:https://www.monmouth.edu/events/event/winterdanceshowcase17/
LOCATION:Lauren K. Woods Theatre
CATEGORIES:Arts at Monmouth,Dance,Free,Music,Music + Theatre Arts,Student Performances,Theatre
ATTACH;FMTTYPE=image/jpeg:https://www.monmouth.edu/events/wp-content/uploads/sites/19/2018/07/wintershowcase_hero1.jpg
END:VEVENT
BEGIN:VEVENT
DTSTART;TZID=America/New_York:20171207T193000
DTEND;TZID=America/New_York:20171207T230000
DTSTAMP:20260425T071015
CREATED:20180725T203546Z
LAST-MODIFIED:20190228T145037Z
UID:40810101155-1512675000-1512687600@www.monmouth.edu
SUMMARY:A MUSICAL WINTER WONDERLAND
DESCRIPTION:This event is SOLD OUT. However a limited amount of standing room only tickets will be available at the door for $10 (Cash Only). A cavalcade of holiday favorites featuring the Monmouth University Chamber Orchestra\, The Jazz Hawks\, The Concert Choir\, the Chamber Choir\, soloists\, and a special appearance by the Colts Neck Reformed Church  Exultation Ringers\, all in the magisterial setting of Wilson Hall.
URL:https://www.monmouth.edu/events/event/winterconcert-2/
LOCATION:The Great Hall
CATEGORIES:Arts at Monmouth,Concerts,Music,Music + Theatre Arts,Student Performances
ATTACH;FMTTYPE=image/jpeg:https://www.monmouth.edu/events/wp-content/uploads/sites/19/2018/07/winterconcert_hero1.jpg
END:VEVENT
BEGIN:VEVENT
DTSTART;TZID=America/New_York:20171208T193000
DTEND;TZID=America/New_York:20171208T235900
DTSTAMP:20260425T071015
CREATED:20180725T203414Z
LAST-MODIFIED:20180725T203414Z
UID:40810101047-1512761400-1512777540@www.monmouth.edu
SUMMARY:The Lords of 52nd Street - LEGENDS OF THE BILLY JOEL BAND with Special Guest Matt McAndrew
DESCRIPTION:The Lords of 52nd Street are Billy Joel’s original band\, including Liberty\nDeVitto on drums\, Russell Javors on rhythm guitar\, and Richie Cannata on\nsaxophone and keyboards. The band recorded and toured with Joel for over a\ndecade performing alongside the Piano Man at famous arenas including Wembley\nStadium\, Sydney Opera House\, Madison Square Garden\, and the LA Forum. The band\nmembers (along with Doug Stegmeyer – bass guitar) recorded the Turnstiles album\,\nand then teamed up with legendary producer Phil Ramone to record The\nStranger. The album was a commercial success\, it holds a RIAA diamond\ncertification (10x platinum)\, and several #1 singles including\, Only\nThe Good Die Young and Just The Way You Are. They continued to\ncreate many other successful albums including 52nd Street\, Glass\nHouses\, The Nylon Curtain. In 2014\, Javors\, Cannata\, and DeVitto (with Stegmeyer\,\nposthumously) were inducted into the Long Island Music Hall of Fame. At that\ntime\, they decided to\nreunite after a 30-year separation and began performing in front of live\naudiences together. Fans declared that The Lords’ live performances sound\njust like the original recordings with Billy Joel\, if not better and they\ncontinue to awe fans from around the world!  \nThe show will open with a performance by Matt McAndrew\, singer songwriter\, from\nseason seven of The Voice.  Matt is a New\nJersey native who creates sincere\, guitar-driven music. Matt’s original single\nfrom The Voice\, Wasted Love\, dominated the charts and hearts of fans worldwide.
URL:https://www.monmouth.edu/events/event/lords17/
LOCATION:Pollak Theatre
CATEGORIES:Arts at Monmouth,Music,School of Social Work,Special Events
ATTACH;FMTTYPE=image/jpeg:https://www.monmouth.edu/events/wp-content/uploads/sites/19/2018/07/lords_hero1.jpg
END:VEVENT
END:VCALENDAR