BEGIN:VCALENDAR
VERSION:2.0
PRODID:-//Events - ECPv6.15.20//NONSGML v1.0//EN
CALSCALE:GREGORIAN
METHOD:PUBLISH
X-WR-CALNAME:Events
X-ORIGINAL-URL:https://www.monmouth.edu/events
X-WR-CALDESC:Events for Events
REFRESH-INTERVAL;VALUE=DURATION:PT1H
X-Robots-Tag:noindex
X-PUBLISHED-TTL:PT1H
BEGIN:VTIMEZONE
TZID:America/New_York
BEGIN:DAYLIGHT
TZOFFSETFROM:-0500
TZOFFSETTO:-0400
TZNAME:EDT
DTSTART:20230312T070000
END:DAYLIGHT
BEGIN:STANDARD
TZOFFSETFROM:-0400
TZOFFSETTO:-0500
TZNAME:EST
DTSTART:20231105T060000
END:STANDARD
BEGIN:DAYLIGHT
TZOFFSETFROM:-0500
TZOFFSETTO:-0400
TZNAME:EDT
DTSTART:20240310T070000
END:DAYLIGHT
BEGIN:STANDARD
TZOFFSETFROM:-0400
TZOFFSETTO:-0500
TZNAME:EST
DTSTART:20241103T060000
END:STANDARD
BEGIN:DAYLIGHT
TZOFFSETFROM:-0500
TZOFFSETTO:-0400
TZNAME:EDT
DTSTART:20250309T070000
END:DAYLIGHT
BEGIN:STANDARD
TZOFFSETFROM:-0400
TZOFFSETTO:-0500
TZNAME:EST
DTSTART:20251102T060000
END:STANDARD
END:VTIMEZONE
BEGIN:VEVENT
DTSTART;TZID=America/New_York:20241202T163000
DTEND;TZID=America/New_York:20241202T183000
DTSTAMP:20260425T071010
CREATED:20240909T193155Z
LAST-MODIFIED:20241122T201556Z
UID:40810113860-1733157000-1733164200@www.monmouth.edu
SUMMARY:Brute Force
DESCRIPTION:Born in 1940\, Monmouth University alumnus Stephen Friedland performs under the name Brute Force. A lifelong singer-songwriter\, Friedland began his musical journey a songwriter for Bright Tunes Productions at the behest of doo-wop group The Tokens\, who had scored a hit with “The Lion Sleeps Tonight.” Friedland joined the band as their keyboard player. For Bright Tunes\, Friedland composed the Chiffons’ 1965 hit “Nobody Knows What’s Goin’ On (in My Mind But Me).” He also composed hit songs for Del Shannon\, Peggy March\,  and The Cyrkle. \n\n\n \n\n\nIn 1968\, The Beatles famously invited musicians around the world to submit their work for consideration for release by Apple Records. Friedland answered the call with his original composition “The King of Fuh\,” which has emerged as one of the most notorious songs in annals of Apple Records history. Against all odds\, John Lennon and George Harrison opted to release the song\, which tells the tongue-in-cheek story about a monarch toiling in the land of Fuh. Under Harrison’s supervision\, the song was overdubbed with a string arrangement composed by John Barham. Given the song’s irreverent nature\, EMI (Apple’s parent company) refused to distribute the single\, of which only 1\,000 copies were pressed. In 2010\, more than four decades after its original rejection by EMI\, “The King of Fuh” was released by Apple Records on the Come and Get It compilation. Friedland is currently developing a play titled Color Talk for production.\n\n\n 
URL:https://www.monmouth.edu/events/event/brute-force/
LOCATION:Lauren K Woods Theatre\, 398 Cedar Ave\, Long Branch\, NJ\, United States
CATEGORIES:Alumni,Alumni Affairs,Alumni Events,Arts at Monmouth,Concerts,Music
ATTACH;FMTTYPE=image/jpeg:https://www.monmouth.edu/events/wp-content/uploads/sites/19/2024/09/header_brute.jpg
ORGANIZER;CN="Center for the Arts":MAILTO:kbarratt@monmouth.edu
GEO:40.281658;-74.001637
X-APPLE-STRUCTURED-LOCATION;VALUE=URI;X-ADDRESS=Lauren K Woods Theatre 398 Cedar Ave Long Branch NJ United States;X-APPLE-RADIUS=500;X-TITLE=398 Cedar Ave:geo:-74.001637,40.281658
END:VEVENT
END:VCALENDAR