BEGIN:VCALENDAR
VERSION:2.0
PRODID:-//Events - ECPv6.15.20//NONSGML v1.0//EN
CALSCALE:GREGORIAN
METHOD:PUBLISH
X-WR-CALNAME:Events
X-ORIGINAL-URL:https://www.monmouth.edu/events
X-WR-CALDESC:Events for Events
REFRESH-INTERVAL;VALUE=DURATION:PT1H
X-Robots-Tag:noindex
X-PUBLISHED-TTL:PT1H
BEGIN:VTIMEZONE
TZID:America/New_York
BEGIN:DAYLIGHT
TZOFFSETFROM:-0500
TZOFFSETTO:-0400
TZNAME:EDT
DTSTART:20170312T070000
END:DAYLIGHT
BEGIN:STANDARD
TZOFFSETFROM:-0400
TZOFFSETTO:-0500
TZNAME:EST
DTSTART:20171105T060000
END:STANDARD
BEGIN:DAYLIGHT
TZOFFSETFROM:-0500
TZOFFSETTO:-0400
TZNAME:EDT
DTSTART:20180311T070000
END:DAYLIGHT
BEGIN:STANDARD
TZOFFSETFROM:-0400
TZOFFSETTO:-0500
TZNAME:EST
DTSTART:20181104T060000
END:STANDARD
BEGIN:DAYLIGHT
TZOFFSETFROM:-0500
TZOFFSETTO:-0400
TZNAME:EDT
DTSTART:20190310T070000
END:DAYLIGHT
BEGIN:STANDARD
TZOFFSETFROM:-0400
TZOFFSETTO:-0500
TZNAME:EST
DTSTART:20191103T060000
END:STANDARD
END:VTIMEZONE
BEGIN:VEVENT
DTSTART;TZID=America/New_York:20180210T120000
DTEND;TZID=America/New_York:20180210T175900
DTSTAMP:20260425T223746
CREATED:20180725T203647Z
LAST-MODIFIED:20180725T203647Z
UID:40810101236-1518264000-1518285540@www.monmouth.edu
SUMMARY:L’Elisir d’Amore
DESCRIPTION:Donizetti’s comic gem L’Elisir d’Amore\, staged by Bartlett Sher and conducted by Domingo Hindoyan\, stars Pretty Yende as the spirited Adina\, with Matthew Polenzani as Nemorino\, the simple peasant who falls in love with her. Davide Luciano makes his Met debut as the role of Adina’s arrogant fiancé\, Belcore and Ildebrando D’Arcangelo sings the role of the magic potion-peddling Doctor Dulcamara. Domingo Hindoyan makes his company debut conducting. \nTotal Run Time: 2 hours\, 22 minutes
URL:https://www.monmouth.edu/events/event/lelisirdamore18/
LOCATION:Pollak Theatre
CATEGORIES:Arts at Monmouth,Broadcast in HD,Music,Theatre
ATTACH;FMTTYPE=image/jpeg:https://www.monmouth.edu/events/wp-content/uploads/sites/19/2018/07/lelisir_hero1.jpg
END:VEVENT
END:VCALENDAR