BEGIN:VCALENDAR
VERSION:2.0
PRODID:-//Events - ECPv6.15.20//NONSGML v1.0//EN
CALSCALE:GREGORIAN
METHOD:PUBLISH
X-ORIGINAL-URL:https://www.monmouth.edu/events
X-WR-CALDESC:Events for Events
REFRESH-INTERVAL;VALUE=DURATION:PT1H
X-Robots-Tag:noindex
X-PUBLISHED-TTL:PT1H
BEGIN:VTIMEZONE
TZID:America/New_York
BEGIN:DAYLIGHT
TZOFFSETFROM:-0500
TZOFFSETTO:-0400
TZNAME:EDT
DTSTART:20250309T070000
END:DAYLIGHT
BEGIN:STANDARD
TZOFFSETFROM:-0400
TZOFFSETTO:-0500
TZNAME:EST
DTSTART:20251102T060000
END:STANDARD
BEGIN:DAYLIGHT
TZOFFSETFROM:-0500
TZOFFSETTO:-0400
TZNAME:EDT
DTSTART:20260308T070000
END:DAYLIGHT
BEGIN:STANDARD
TZOFFSETFROM:-0400
TZOFFSETTO:-0500
TZNAME:EST
DTSTART:20261101T060000
END:STANDARD
BEGIN:DAYLIGHT
TZOFFSETFROM:-0500
TZOFFSETTO:-0400
TZNAME:EDT
DTSTART:20270314T070000
END:DAYLIGHT
BEGIN:STANDARD
TZOFFSETFROM:-0400
TZOFFSETTO:-0500
TZNAME:EST
DTSTART:20271107T060000
END:STANDARD
END:VTIMEZONE
BEGIN:VEVENT
DTSTART;TZID=America/New_York:20260106T193000
DTEND;TZID=America/New_York:20260106T210000
DTSTAMP:20260422T133649
CREATED:20250502T154529Z
LAST-MODIFIED:20251222T215355Z
UID:40810119147-1767727800-1767733200@www.monmouth.edu
SUMMARY:The Band\, Music from Big Pink
DESCRIPTION:It’s just like book club but with albums! With new advances in technology\, the way we consume music through our devices\, apps and on demand streaming services like Pandora\, Spotify and iTunes is making the idea of the “album” as an art form extinct. Get together with other music enthusiasts on Tuesday nights to discuss some of the greatest records of all-time! Listen to the album beforehand and then come prepared to discuss. This event will feature The Band\, Music from Big Pink. \nThis event is offered BOTH in person and via Zoom. Join us in person at the Great Hall Auditorium on the Campus of Monmouth University or join us via zoom. When you register you will be provided the ZOOM meeting link to join the conversation. \nFree and open to the public\, but registration is required.
URL:https://www.monmouth.edu/events/event/the-band-music-from-big-pink/
LOCATION:The Great Hall Auditorium/Virtual\, 400 Cedar Ave\, West Long Branch\, NJ\, 07720\, United States
CATEGORIES:Alumni,Arts at Monmouth,Community Member,Current Student,Faculty,Free,Music,Virtual
ATTACH;FMTTYPE=image/jpeg:https://www.monmouth.edu/events/wp-content/uploads/sites/19/2025/05/Band-e1746562292342.jpg
ORGANIZER;CN="Kenneth Womack":MAILTO:kwomack@monmouth.edu
END:VEVENT
BEGIN:VEVENT
DTSTART;TZID=America/New_York:20260109T190000
DTEND;TZID=America/New_York:20260109T200000
DTSTAMP:20260422T133649
CREATED:20250625T151528Z
LAST-MODIFIED:20250707T191902Z
UID:40810119241-1767985200-1767988800@www.monmouth.edu
SUMMARY:Tribute to Queen and The Beatles
DESCRIPTION:Candlelight concerts bring the magic of a live\, multi-sensory musical experience to awe-inspiring locations like never seen before in Long Branch. Get your tickets now to discover the music of Queen and The Beatles at Pollak Theatre under the gentle glow of candlelight. \nFever Up’s concert series was created with the intention of democratizing access to classical music\, and the space and performers are illuminated by thousands of candles to create a truly magical experience. \nThe String Quartet has a tentative program that includes songs such as Here Comes the Sun\, Yesterday\, I Want to Break Free\, Bohemian Rhapsody\, and more!
URL:https://www.monmouth.edu/events/event/candlelight-concert-tribute-to-queen-and-the-beatles-4/
LOCATION:Pollak Theatre
CATEGORIES:Alumni,Arts at Monmouth,Community Member,Concerts,Current Student,Faculty,Music,Music + Theatre Arts
ATTACH;FMTTYPE=image/jpeg:https://www.monmouth.edu/events/wp-content/uploads/sites/19/2025/01/CandeleLight_withoutQR_header-1.jpg
ORGANIZER;CN="Center for the Arts":MAILTO:kbarratt@monmouth.edu
END:VEVENT
BEGIN:VEVENT
DTSTART;TZID=America/New_York:20260110T130000
DTEND;TZID=America/New_York:20260110T170000
DTSTAMP:20260422T133649
CREATED:20250731T170019Z
LAST-MODIFIED:20260105T160513Z
UID:40810119483-1768050000-1768064400@www.monmouth.edu
SUMMARY:I Puritani
DESCRIPTION:For gorgeous melody\, spellbinding coloratura\, and virtuoso vocal fireworks\, I Puritani has few equals. On January 10\, the first new Met production of Bellini’s final masterpiece in nearly 50 years—a striking staging by Charles Edwards\, who makes his company directorial debut after many successes as a set designer—arrives in cinemas worldwide. The Met has assembled a  world-beating quartet of stars\, conducted by Marco Armiliato\, for the demanding principal roles. Soprano Lisette Oropesa and tenor Lawrence Brownlee are Elvira and Arturo\, brought together by love and torn apart by the political rifts of the English Civil War\, with baritone Artur Ruciński as Riccardo\, betrothed to Elvira against her will\, and bass-baritone Christian Van Horn as Elvira’s sympathetic uncle\, Giorgio.
URL:https://www.monmouth.edu/events/event/i-puritani/
LOCATION:Pollak Theatre
CATEGORIES:Alumni,Alumni Affairs,Alumni Events,Arts at Monmouth,Broadcast in HD,Community Member,Current Student,Faculty,Music,Music + Theatre Arts
ATTACH;FMTTYPE=image/jpeg:https://www.monmouth.edu/events/wp-content/uploads/sites/19/2025/07/puritani-1600x685-2.jpg
ORGANIZER;CN="Center for the Arts":MAILTO:kbarratt@monmouth.edu
END:VEVENT
BEGIN:VEVENT
DTSTART;TZID=America/New_York:20260116T180000
DTEND;TZID=America/New_York:20260116T190000
DTSTAMP:20260422T133649
CREATED:20251030T172242Z
LAST-MODIFIED:20260226T184525Z
UID:40810120087-1768586400-1768590000@www.monmouth.edu
SUMMARY:Best of Bridgerton on Strings
DESCRIPTION:Dearest Reader\, Lady Whistledown has already given her verdict: the event of the season is here! Join us for a magical live music performance with Candlelight: Best of Bridgerton on Strings in Pollak Theatre. Surrounded by the soft glow of candlelight\, listen to your favorite melodies from Shondaland’s ‘Bridgerton’ series on Netflix\, reimagined by a talented string ensemble. Ready to make amazing memories? Get your tickets today!
URL:https://www.monmouth.edu/events/event/bridgerton-on-strings/
LOCATION:Pollak Theatre
CATEGORIES:Alumni,Alumni Affairs,Alumni Events,Arts at Monmouth,Community Member,CommWorks,Concerts,Council of Endowed Chairs,Current Student,Faculty,Graduate Student,Honors School,Institute for Health and Wellness,Media,Music,Undergraduate Student
ATTACH;FMTTYPE=image/jpeg:https://www.monmouth.edu/events/wp-content/uploads/sites/19/2025/10/Bridgertonlandscape-e1761844934899.jpg
ORGANIZER;CN="Center for the Arts":MAILTO:kbarratt@monmouth.edu
END:VEVENT
BEGIN:VEVENT
DTSTART;TZID=America/New_York:20260120T193000
DTEND;TZID=America/New_York:20260120T213000
DTSTAMP:20260422T133649
CREATED:20250707T154658Z
LAST-MODIFIED:20251223T185854Z
UID:40810119289-1768937400-1768944600@www.monmouth.edu
SUMMARY:Classic for a Reason: Pink Floyd's Dark Side of the Moon
DESCRIPTION:Class Schedule: January 20\, 2026 | 7:30 – 9:00 PM \nJoin music historians Ken Womack & Kit O’Toole as they revisit classic record albums. With Classic for a Reason\, Ken & Kit will take listeners on a guided tour of our history’s most enduring popular musical accomplishments.
URL:https://www.monmouth.edu/events/event/classic-for-a-reason-pink-floyds-dark-side-of-the-moon/
LOCATION:Virtual (Zoom)
CATEGORIES:Alumni,Arts at Monmouth,Community Member,Current Student,Faculty,Music,Virtual
ATTACH;FMTTYPE=image/png:https://www.monmouth.edu/events/wp-content/uploads/sites/19/2025/07/Screenshot-2025-05-05-at-10.01.26 PM-1-e1751903151129.png
ORGANIZER;CN="Kenneth Womack":MAILTO:kwomack@monmouth.edu
END:VEVENT
BEGIN:VEVENT
DTSTART;TZID=America/New_York:20260122T193000
DTEND;TZID=America/New_York:20260129T210000
DTSTAMP:20260422T133649
CREATED:20250722T180529Z
LAST-MODIFIED:20251223T190123Z
UID:40810119338-1769110200-1769720400@www.monmouth.edu
SUMMARY:'60s Girl Groups\, Part I
DESCRIPTION:Class Schedule: January 22\, 27\, & 29\, 2026 | 7:30 – 9:00 PM \nThe 1960s may be remembered for the British Invasion\, soul\, and the birth of the Beatles and art rock. However\, the early-to-mid 1960s is also known for its “girl groups\,” trios or quartets singing Brill Building compositions and other pop.  Motown also perfected the girl group formula\, with the Supremes reigning as one of the most successful and influential acts of the 1960s. Indeed\, the girl group tradition continues today with Fifth Harmony\, Blackpink\, and many others.  However\, the genre’s roots extend back even further\, to the 1960s. \n\n\nPart one of the “Girl Groups” course will trace the beginnings of these acts\, with the 1920s and 1930s producing singers such as the Andrews Sisters and the Boswell Sisters.  By the 1950s the McGuire Sisters and the Chordettes picked up the baton\, lending a pop sheen to an otherwise jazz-dominated genre.  The early 1960s kicked off the genre’s peak\, with UK and US acts such as the Vernons Girls\, the Shirelles\, and the Shangri-Las scoring hits on the charts. Perhaps no one defined the early girl group era like Phil Spector\, who produced such groups as the Ronettes and the Crystals. The course will explore these roots and the earliest girl group successes through multimedia presentations and discussion. \nZoom Link will be provided upon registration.
URL:https://www.monmouth.edu/events/event/60s-girl-groups-part-i/
LOCATION:Virtual (Zoom)
CATEGORIES:Alumni,Arts at Monmouth,Community Member,Current Student,Faculty,Lectures,Music,Music + Theatre Arts,Virtual
ATTACH;FMTTYPE=image/png:https://www.monmouth.edu/events/wp-content/uploads/sites/19/2025/07/Screenshot-2025-07-19-at-7.59.42-PM.png
ORGANIZER;CN="Kenneth Womack":MAILTO:kwomack@monmouth.edu
END:VEVENT
BEGIN:VEVENT
DTSTART;TZID=America/New_York:20260123T190000
DTEND;TZID=America/New_York:20260123T200000
DTSTAMP:20260422T133649
CREATED:20250609T205945Z
LAST-MODIFIED:20251223T190424Z
UID:40810119183-1769194800-1769198400@www.monmouth.edu
SUMMARY:Featuring Vivaldi's Four Seasons and More
DESCRIPTION:Candlelight concerts bring the magic of a live\, multi-sensory musical experience to awe-inspiring locations like never seen before in Long Branch. This concert series was created with the intention of democratizing access to classical music\, and the space and performers are illuminated by thousands of candles to create a truly magical experience.  \nThe String Quartet has a tentative program that includes works such as The Four Seasons and Thaïs: Méditation.
URL:https://www.monmouth.edu/events/event/candlelight-concert-featuring-vivaldis-four-seasons-and-more/
LOCATION:Pollak Theatre
CATEGORIES:Alumni,Arts at Monmouth,Community Member,Concerts,Current Student,Faculty,Music,Music + Theatre Arts
ATTACH;FMTTYPE=image/png:https://www.monmouth.edu/events/wp-content/uploads/sites/19/2025/05/2022_12_08_Scottish-Rite-Theatre_PEORIA-INDIANAPOLIS_US_02_tuq3wh-1-1024x683-1-e1749498225525.png
END:VEVENT
BEGIN:VEVENT
DTSTART;TZID=America/New_York:20260130T180000
DTEND;TZID=America/New_York:20260130T190000
DTSTAMP:20260422T133649
CREATED:20251023T180933Z
LAST-MODIFIED:20260226T184511Z
UID:40810119871-1769796000-1769799600@www.monmouth.edu
SUMMARY:Tribute to Fleetwood Mac
DESCRIPTION:Candlelight Concerts were created with the intention of democratizing access to classical music\, and the space and performers are illuminated by thousands of candles to create a truly magical experience. Featuring works from Fleetwood Mac\, Candlelight Concerts allow audiences to connect with the most iconic pieces of the greatest composers and listen to the top hits of well-known artists in a different way. \nThe string quartet has a tentative program that includes Rhiannon\, Gypsy\, Landslide\, Don’t Stop\, and many more!
URL:https://www.monmouth.edu/events/event/fleetwood-mac/
LOCATION:Pollak Theatre
CATEGORIES:Alumni,Alumni Affairs,Alumni Events,Arts at Monmouth,Community Member,CommWorks,Concerts,Council of Endowed Chairs,Current Student,Faculty,Graduate Student,Honors School,Institute for Health and Wellness,Media,Music,Undergraduate Student
ATTACH;FMTTYPE=image/jpeg:https://www.monmouth.edu/events/wp-content/uploads/sites/19/2025/10/464888-452463-Candlelight-Talent-00010-ea036d-original-1669222249-2e0e27-original-1674141712.jpg
ORGANIZER;CN="Center for the Arts":MAILTO:kbarratt@monmouth.edu
END:VEVENT
BEGIN:VEVENT
DTSTART;TZID=America/New_York:20260130T203000
DTEND;TZID=America/New_York:20260130T213000
DTSTAMP:20260422T133650
CREATED:20251030T170635Z
LAST-MODIFIED:20260226T184331Z
UID:40810120086-1769805000-1769808600@www.monmouth.edu
SUMMARY:90s Hip-Hop on Strings
DESCRIPTION:Candlelight Concerts were created with the intention of democratizing access to classical music\, and the space and performers are illuminated by thousands of candles to create a truly magical experience. \nFeaturing works from the 90s Hip Hop genre\, Candlelight Concerts allow audiences to connect with the most iconic pieces of the greatest composers and listen to the top hits of well-known artists in a different way. The string quartet has a tentative program that includes Killing Me Softly\, Can I Kick It\, Gin and Juice\, Hypnotize and many more!
URL:https://www.monmouth.edu/events/event/90s-hip-hop/
LOCATION:Pollak Theatre
CATEGORIES:Alumni,Alumni Affairs,Alumni Events,Arts at Monmouth,Community Member,CommWorks,Concerts,Council of Endowed Chairs,Current Student,Faculty,Graduate Student,Honors School,Institute for Health and Wellness,Media,Music,Undergraduate Student
ATTACH;FMTTYPE=image/jpeg:https://www.monmouth.edu/events/wp-content/uploads/sites/19/2025/10/464888-452463-Candlelight-Talent-00010-ea036d-original-1669222249-2e0e27-original-1674141712.jpg
ORGANIZER;CN="Center for the Arts":MAILTO:kbarratt@monmouth.edu
END:VEVENT
END:VCALENDAR