BEGIN:VCALENDAR
VERSION:2.0
PRODID:-//Events - ECPv6.15.20//NONSGML v1.0//EN
CALSCALE:GREGORIAN
METHOD:PUBLISH
X-ORIGINAL-URL:https://www.monmouth.edu/events
X-WR-CALDESC:Events for Events
REFRESH-INTERVAL;VALUE=DURATION:PT1H
X-Robots-Tag:noindex
X-PUBLISHED-TTL:PT1H
BEGIN:VTIMEZONE
TZID:America/New_York
BEGIN:DAYLIGHT
TZOFFSETFROM:-0500
TZOFFSETTO:-0400
TZNAME:EDT
DTSTART:20240310T070000
END:DAYLIGHT
BEGIN:STANDARD
TZOFFSETFROM:-0400
TZOFFSETTO:-0500
TZNAME:EST
DTSTART:20241103T060000
END:STANDARD
BEGIN:DAYLIGHT
TZOFFSETFROM:-0500
TZOFFSETTO:-0400
TZNAME:EDT
DTSTART:20250309T070000
END:DAYLIGHT
BEGIN:STANDARD
TZOFFSETFROM:-0400
TZOFFSETTO:-0500
TZNAME:EST
DTSTART:20251102T060000
END:STANDARD
BEGIN:DAYLIGHT
TZOFFSETFROM:-0500
TZOFFSETTO:-0400
TZNAME:EDT
DTSTART:20260308T070000
END:DAYLIGHT
BEGIN:STANDARD
TZOFFSETFROM:-0400
TZOFFSETTO:-0500
TZNAME:EST
DTSTART:20261101T060000
END:STANDARD
END:VTIMEZONE
BEGIN:VEVENT
DTSTART;TZID=America/New_York:20251007T193000
DTEND;TZID=America/New_York:20251007T210000
DTSTAMP:20260423T114645
CREATED:20250502T140333Z
LAST-MODIFIED:20250514T163746Z
UID:40810119144-1759865400-1759870800@www.monmouth.edu
SUMMARY:Buckingham Nicks
DESCRIPTION:It’s just like book club but with albums! With new advances in technology\, the way we consume music through our devices\, apps and on demand streaming services like Pandora\, Spotify and iTunes is making the idea of the “album” as an art form extinct. Get together with other music enthusiasts on Tuesday nights to discuss some of the greatest records of all-time! Listen to the album beforehand and then come prepared to discuss. This event will feature Buckingham Nicks. \nThis event is offered BOTH in person and via Zoom. Join us in person at the Bey Hall Auditorium on the Campus of Monmouth University or join us via zoom. When you register you will be provided the ZOOM meeting link to join the conversation.
URL:https://www.monmouth.edu/events/event/buckingham-nicks/
LOCATION:Bey Hall Auditorium
CATEGORIES:Alumni,Arts at Monmouth,Community Member,Current Student,Faculty,Free,Music,Music + Theatre Arts,Virtual
ATTACH;FMTTYPE=image/jpeg:https://www.monmouth.edu/events/wp-content/uploads/sites/19/2025/05/s-l640.jpg
ORGANIZER;CN="Kenneth Womack":MAILTO:kwomack@monmouth.edu
END:VEVENT
BEGIN:VEVENT
DTSTART;TZID=America/New_York:20251018T130000
DTEND;TZID=America/New_York:20251018T170000
DTSTAMP:20260423T114645
CREATED:20250731T162048Z
LAST-MODIFIED:20251017T173522Z
UID:40810119355-1760792400-1760806800@www.monmouth.edu
SUMMARY:La Sonnambula
DESCRIPTION:Following triumphant Live in HD performances in Gounod’s Roméo et Juliette\, Verdi’s La Traviata\, and Donizetti’s Lucia di Lammermoor\, Nadine Sierra summits another peak of the soprano repertoire as Amina\, who sleepwalks her way into audiences’ hearts in Bellini’s poignant tale of love lost and found. In his new production\, Rolando Villazón—the tenor who has embarked on a brilliant second career as a director—retains the opera’s original setting in the Swiss Alps but uses its somnambulant plot to explore the emotional and psychological valleys of the mind. Tenor Xabier Anduaga co-stars as Amina’s fiancé\, Elvino\, alongside soprano Sydney Mancasola as her rival\, Lisa\, and bass Alexander Vinogradov as Count Rodolfo. Riccardo Frizza takes the podium for one of opera’s most ravishing works\, which will be transmitted live from the Met stage to Pollak Theatre on October 18. \n\nDue to wet ground conditions\, there will be no parking on the Pollack/Great Lawnfield tomorrow. Please park in the soccer fields or identify yourself to the football parking assistants as performing art patrons\, and the fee will be waived. \nThank you\, and enjoy the show!
URL:https://www.monmouth.edu/events/event/la-sonnambula/
LOCATION:Pollak Theatre
CATEGORIES:Alumni,Alumni Affairs,Alumni Events,Arts at Monmouth,Broadcast in HD,Community Member,Current Student,Faculty,Music,Music + Theatre Arts
ATTACH;FMTTYPE=image/jpeg:https://www.monmouth.edu/events/wp-content/uploads/sites/19/2025/07/sonnambula-1600x6854-1.jpg
ORGANIZER;CN="Center for the Arts":MAILTO:kbarratt@monmouth.edu
END:VEVENT
BEGIN:VEVENT
DTSTART;TZID=America/New_York:20251021T193000
DTEND;TZID=America/New_York:20251021T213000
DTSTAMP:20260423T114645
CREATED:20250707T151830Z
LAST-MODIFIED:20250708T150629Z
UID:40810119284-1761075000-1761082200@www.monmouth.edu
SUMMARY:Classic for a Reason: Prince's Purple Rain
DESCRIPTION:Class Schedule: October 21st\, 2025 | 7:30 – 9:00 PM \nJoin music historians Ken Womack & Kit O’Toole as they revisit classic record albums. With Classic for a Reason\, Ken & Kit will take listeners on a guided tour of our history’s most enduring popular musical accomplishments.
URL:https://www.monmouth.edu/events/event/classic-for-a-reason-princes-purple-rain/
LOCATION:Virtual (Zoom)
CATEGORIES:Alumni,Arts at Monmouth,Community Member,Current Student,Faculty,Lectures,Music,Virtual
ATTACH;FMTTYPE=image/png:https://www.monmouth.edu/events/wp-content/uploads/sites/19/2025/07/Screenshot-2025-05-03-at-8.50.32 PM-e1751901445767.png
ORGANIZER;CN="Kenneth Womack":MAILTO:kwomack@monmouth.edu
END:VEVENT
BEGIN:VEVENT
DTSTART;TZID=America/New_York:20251028T193000
DTEND;TZID=America/New_York:20251028T213000
DTSTAMP:20260423T114645
CREATED:20250722T141609Z
LAST-MODIFIED:20250722T142001Z
UID:40810119349-1761679800-1761687000@www.monmouth.edu
SUMMARY:The Beatles' Rubber Soul
DESCRIPTION:Class Schedule: October 28\, 2025 | 7:30 – 9:30 PM \nAt the mid-point of the 1960’s and after Beatlemania had hit America and the world\, The Beatles released their sixth album. Rubber Soul\, often referred to as “the departure record\,” proved a crucial artistic leap in the band’s career and sound\, forever altering what was possible within pop music and the concept of the album overall. In celebration of the 60th anniversary of this landmark release\, this course will explore the personal\, cultural\, and sonic landscapes that shaped the record\, from the new sights and sounds The Beatles were consuming\, through the impact upon their writing\, their peers\, and the music world thereafter.
URL:https://www.monmouth.edu/events/event/adult-education-the-beatles-rubber-soul/
LOCATION:Virtual (Zoom)
CATEGORIES:Alumni,Arts at Monmouth,Community Member,Current Student,Faculty,Lectures,Music,Music + Theatre Arts,Virtual
ATTACH;FMTTYPE=image/png:https://www.monmouth.edu/events/wp-content/uploads/sites/19/2025/07/Screenshot-2025-07-19-at-8.39.32-PM.png
ORGANIZER;CN="Kenneth Womack":MAILTO:kwomack@monmouth.edu
END:VEVENT
BEGIN:VEVENT
DTSTART;TZID=America/New_York:20251030T190000
DTEND;TZID=America/New_York:20251030T200000
DTSTAMP:20260423T114645
CREATED:20250609T194400Z
LAST-MODIFIED:20250707T201229Z
UID:40810119181-1761850800-1761854400@www.monmouth.edu
SUMMARY:Halloween Classics
DESCRIPTION:Candlelight concerts bring the magic of a live\, multi-sensory musical experience to awe-inspiring locations like never seen before in Long Branch. This concert series was created with the intention of democratizing access to classical music\, and the space and performers are illuminated by thousands of candles to create a truly magical experience.  \nThe String Quartet has a tentative program that includes songs such as Thriller\, Time Warp\, Danse Macabre\, the Stranger Things theme song and many more!
URL:https://www.monmouth.edu/events/event/candlelight-concert-halloween-classics/
LOCATION:Pollak Theatre
CATEGORIES:Alumni,Arts at Monmouth,Community Member,Concerts,Current Student,Faculty,Music,Music + Theatre Arts
ATTACH;FMTTYPE=image/png:https://www.monmouth.edu/events/wp-content/uploads/sites/19/2025/05/2022_12_08_Scottish-Rite-Theatre_PEORIA-INDIANAPOLIS_US_02_tuq3wh-1-1024x683-1-e1749498225525.png
END:VEVENT
END:VCALENDAR