BEGIN:VCALENDAR
VERSION:2.0
PRODID:-//Events - ECPv6.15.20//NONSGML v1.0//EN
CALSCALE:GREGORIAN
METHOD:PUBLISH
X-ORIGINAL-URL:https://www.monmouth.edu/events
X-WR-CALDESC:Events for Events
REFRESH-INTERVAL;VALUE=DURATION:PT1H
X-Robots-Tag:noindex
X-PUBLISHED-TTL:PT1H
BEGIN:VTIMEZONE
TZID:America/New_York
BEGIN:DAYLIGHT
TZOFFSETFROM:-0500
TZOFFSETTO:-0400
TZNAME:EDT
DTSTART:20240310T070000
END:DAYLIGHT
BEGIN:STANDARD
TZOFFSETFROM:-0400
TZOFFSETTO:-0500
TZNAME:EST
DTSTART:20241103T060000
END:STANDARD
BEGIN:DAYLIGHT
TZOFFSETFROM:-0500
TZOFFSETTO:-0400
TZNAME:EDT
DTSTART:20250309T070000
END:DAYLIGHT
BEGIN:STANDARD
TZOFFSETFROM:-0400
TZOFFSETTO:-0500
TZNAME:EST
DTSTART:20251102T060000
END:STANDARD
BEGIN:DAYLIGHT
TZOFFSETFROM:-0500
TZOFFSETTO:-0400
TZNAME:EDT
DTSTART:20260308T070000
END:DAYLIGHT
BEGIN:STANDARD
TZOFFSETFROM:-0400
TZOFFSETTO:-0500
TZNAME:EST
DTSTART:20261101T060000
END:STANDARD
END:VTIMEZONE
BEGIN:VEVENT
DTSTART;TZID=America/New_York:20250904T190000
DTEND;TZID=America/New_York:20250904T200000
DTSTAMP:20260423T195806
CREATED:20250625T151057Z
LAST-MODIFIED:20250707T192055Z
UID:40810119239-1757012400-1757016000@www.monmouth.edu
SUMMARY:Featuring Vivaldi's Four Seasons and More
DESCRIPTION:Candlelight concerts bring the magic of a live\, multi-sensory musical experience to awe-inspiring locations like never seen before in Long Branch. This concert series was created with the intention of democratizing access to classical music\, and the space and performers are illuminated by thousands of candles to create a truly magical experience.  \nThe String Quartet has a tentative program that includes works such as The Four Seasons and Thaïs: Méditation.
URL:https://www.monmouth.edu/events/event/candlelight-concert-featuring-vivaldis-four-seasons-and-more-2/
LOCATION:Pollak Theatre
CATEGORIES:Alumni,Arts at Monmouth,Community Member,Concerts,Current Student,Faculty,Music,Music + Theatre Arts
ATTACH;FMTTYPE=image/png:https://www.monmouth.edu/events/wp-content/uploads/sites/19/2025/05/2022_12_08_Scottish-Rite-Theatre_PEORIA-INDIANAPOLIS_US_02_tuq3wh-1-1024x683-1-e1749498225525.png
END:VEVENT
BEGIN:VEVENT
DTSTART;TZID=America/New_York:20250911T193000
DTEND;TZID=America/New_York:20250918T210000
DTSTAMP:20260423T195806
CREATED:20250722T143349Z
LAST-MODIFIED:20250722T143801Z
UID:40810119335-1757619000-1758229200@www.monmouth.edu
SUMMARY:Disco Inferno!\, Part I
DESCRIPTION:Class Schedule: September 11\, 16\, & 18\, 2025 | 7:30 – 9:00 PM \nDance music had existed since at least the 1930s\, but the beat took on a new meaning in the 1970s. The four-on-the-floor beat\, wah-wah guitar\, horns\, funky bass\, and soulful vocals invited people from various backgrounds onto the floor.  The craze may have ended by 1980\, but the music never died; instead\, the genre transformed into other genres such as House and Electronic Dance Music (EDM).  Disco Inferno\, a two-part course\, will explore the history of disco\, from its origins through its heyday and beyond. \n\n\nPart one looks at the roots of disco\, from James Brown’s extended breaks to Philadelphia International’s groundbreaking\, lush productions.  New York and Africa played key roles in the development of disco\, as did a perfect storm of social and political issues: women’s rights\, gay rights\, civil rights\, the aftermath of Vietnam and Watergate\, and much more.  Students will learn about the rise of disco\, its characteristics\, and the key artists of its early years.  No prior knowledge of the Hustle is required! \n\nZoom Link will be provided upon registration.
URL:https://www.monmouth.edu/events/event/disco-inferno-part-i/
LOCATION:Virtual (Zoom)
CATEGORIES:Alumni,Arts at Monmouth,Community Member,Current Student,Faculty,Music,Virtual
ATTACH;FMTTYPE=image/png:https://www.monmouth.edu/events/wp-content/uploads/sites/19/2025/07/Screenshot-2025-07-19-at-7.46.46-PM.png
ORGANIZER;CN="Kenneth Womack":MAILTO:kwomack@monmouth.edu
END:VEVENT
END:VCALENDAR