BEGIN:VCALENDAR
VERSION:2.0
PRODID:-//Events - ECPv6.15.20//NONSGML v1.0//EN
CALSCALE:GREGORIAN
METHOD:PUBLISH
X-WR-CALNAME:Events
X-ORIGINAL-URL:https://www.monmouth.edu/events
X-WR-CALDESC:Events for Events
REFRESH-INTERVAL;VALUE=DURATION:PT1H
X-Robots-Tag:noindex
X-PUBLISHED-TTL:PT1H
BEGIN:VTIMEZONE
TZID:America/New_York
BEGIN:DAYLIGHT
TZOFFSETFROM:-0500
TZOFFSETTO:-0400
TZNAME:EDT
DTSTART:20230312T070000
END:DAYLIGHT
BEGIN:STANDARD
TZOFFSETFROM:-0400
TZOFFSETTO:-0500
TZNAME:EST
DTSTART:20231105T060000
END:STANDARD
BEGIN:DAYLIGHT
TZOFFSETFROM:-0500
TZOFFSETTO:-0400
TZNAME:EDT
DTSTART:20240310T070000
END:DAYLIGHT
BEGIN:STANDARD
TZOFFSETFROM:-0400
TZOFFSETTO:-0500
TZNAME:EST
DTSTART:20241103T060000
END:STANDARD
BEGIN:DAYLIGHT
TZOFFSETFROM:-0500
TZOFFSETTO:-0400
TZNAME:EDT
DTSTART:20250309T070000
END:DAYLIGHT
BEGIN:STANDARD
TZOFFSETFROM:-0400
TZOFFSETTO:-0500
TZNAME:EST
DTSTART:20251102T060000
END:STANDARD
END:VTIMEZONE
BEGIN:VEVENT
DTSTART;TZID=America/New_York:20241005T130000
DTEND;TZID=America/New_York:20241005T170000
DTSTAMP:20260425T083733
CREATED:20240516T173626Z
LAST-MODIFIED:20240926T174043Z
UID:40810112441-1728133200-1728147600@www.monmouth.edu
SUMMARY:Les Contes d’Hoffmann
DESCRIPTION:*** Please note that there will also be a home football game taking place on campus at 1pm this day. We encourage our patrons to arrive on campus early and please let the parking attendants know you are here for the MET opera so that you do not pay the parking fee.*** \nOn October 5\, an ensemble of leading lights take the stage for Offenbach’s fantastical final work\, headlined by tenor Benjamin Bernheim in the title role of the tormented poet. Hoffmann’s trio of lovers are sung by soprano Erin Morley as the mechanical doll Olympia\, soprano Pretty Yende as the plagued diva Antonia\, and mezzo-soprano Clémentine Margaine as the Venetian seductress Giulietta. Marco Armiliato conducts Bartlett Sher’s evocative production\, which also features bass-baritone Christian Van Horn as the Four Villains and mezzo-soprano Vasilisa Berzhanskaya in an important company debut as Hoffmann’s friend Nicklausse. This live cinema transmission is part of the Met’s award-winning Live in HD series\, bringing opera to movie theaters across the globe.
URL:https://www.monmouth.edu/events/event/les-contes/
LOCATION:Pollak Theatre
CATEGORIES:Alumni,Alumni Affairs,Alumni Events,Arts at Monmouth,Broadcast in HD,Music
ATTACH;FMTTYPE=image/jpeg:https://www.monmouth.edu/events/wp-content/uploads/sites/19/2024/05/Hoffmann_header.jpg
END:VEVENT
BEGIN:VEVENT
DTSTART;TZID=America/New_York:20241005T200000
DTEND;TZID=America/New_York:20241005T220000
DTSTAMP:20260425T083733
CREATED:20230210T202413Z
LAST-MODIFIED:20241002T200556Z
UID:40810111787-1728158400-1728165600@www.monmouth.edu
SUMMARY:Songwriters By The Sea
DESCRIPTION:Distinguished NJ Songwriters Joe Rapolla and Joe D’Urso are back this year hosting the celebrated Songwriters by the Sea series at the Lauren K. Woods Theatre. What once started in a small coffee shop as an area for local songwriters has now grown into a series that features some of the top songwriters in the country. This year\, the show features special guests Willie Nile and Emily Grove\, as well as an opening set by student/artist Amani Lillian and Prof. George Wurzbach. \nA pre-show reception will be held at 7 pm for all ticket holders\, doors open at 7:30 PM\n \nThe New York Times called Buffalo\, NY born Willie Nile “one of the most gifted singer-songwriters to emerge from the New York scene in years.” Bono\, Bruce Springsteen\, Pete Townshend\, Lou Reed\, Lucinda Williams\, Jim Jarmusch\, and Little Steven are among those who have sung his praises. He has toured across the U.S. with The Who and has sung with Bruce Springsteen and The E Street Band. As the induction program from the Buffalo Music Hall of Fame says: “His live performances are legendary.” His 2020 album New York At Night got rave reviews\, with Downbeat calling it a “sonic love letter to Gotham.” His newest studio album The Day The Earth Stood Still\, which features a duet with Steve Earle on the song “Blood On Your Hands” was released on Aug 13\, 2021. \nEmily Grove has had a varied and exciting musical journey\, from coffeehouses to Berklee College of Music\, to television appearances to tours in the UK and Europe. She has toured the UK\, Ireland\, US\, and Canada\, opening up for and performing with British artist David Ford. She also had her own headlining tour in Germany\, Bulgaria\, and England. She recently put on a sold- out Joni Mitchell show\, featuring some of Asbury Park’s most talented musicians. She’s performed with/opened up for Glen Burtnik\, Brett Michaels\, Dan Reed\, David Ford\, Jeffrey Gaines\, James Maddock\, John Lefler (Dashboard Confessional)\, Ari Hest\, and many others. She’s recorded with David Ford\, Glen Burtnik\, Steve Forbert\, and UK artist Jack Henderson\, among many others. \nAbout Songwriters by the Sea:\nSongwriters by the Sea began as intimate\, casual coffeehouse jam sessions around Asbury Park\, and has since evolved into a national show attracting some of the most revered singers and songwriters of today’s scene— from David Johansen and Garland Jeffreys to Glen Burtnik\, Rhett Miller\, Marshall Crenshaw and Alison Moorer. Along the way\, D’Urso (front man of Stone Caravan and board member of WHY Hunger and Light Of Day) and Rapolla (a veteran music industry executive\, solo performer\, and front man of the band Perfect Square) have fine-tuned their circle of artists\, trading favorite songs and illuminating backstories behind their most personal works\, into a vehicle that brings out the best in the assembled talent. Whether the venue is a club\, a historic theater or a campus performing arts center\, Songwriters by the Sea has been known to turn any space into an intimate house party atmosphere; a gathering of friends and a place where something akin to magic often takes hold. \nAll net proceeds will support Monmouth University’s Endowed Music Industry Scholarships.\nSponsored by Tim Cabrey\, The Golland Family\, Don Moliver\, and Matt & Carol Wojcik in memory of Mark Wojcik.\nPhoto by John Posada
URL:https://www.monmouth.edu/events/event/songwriters-by-the-sea-5/
LOCATION:Lauren K. Woods Theatre
CATEGORIES:Alumni,Alumni Affairs,Alumni Events,Arts at Monmouth,Concerts,Music
ATTACH;FMTTYPE=image/jpeg:https://www.monmouth.edu/events/wp-content/uploads/sites/19/2023/02/Header_1900-1080.jpg
END:VEVENT
BEGIN:VEVENT
DTSTART;TZID=America/New_York:20241019T130000
DTEND;TZID=America/New_York:20241019T170000
DTSTAMP:20260425T083733
CREATED:20240516T175109Z
LAST-MODIFIED:20240926T173441Z
UID:40810112444-1729342800-1729357200@www.monmouth.edu
SUMMARY:Grounded
DESCRIPTION:*** Please note that there will also be a home football game taking place on campus at 1pm this day. We encourage our patrons to arrive on campus early and please let the parking attendants know you are here for the MET opera so that you do not pay the parking fee.*** \nTwo-time Tony Award–winning composer Jeanine Tesori’s powerful new opera Grounded\, commissioned by the Met and based on librettist George Brant’s acclaimed play\, wrestles with the ethical quandaries and psychological toll of 21st-century warfare. Mezzo-soprano Emily D’Angelo\, one of opera’s most compelling young stars\, portrays Jess\, a hot-shot fighter pilot whose unplanned pregnancy takes her out of the cockpit and lands her in Las Vegas\, operating a Reaper drone halfway around the world. As she struggles to adjust to this new way of doing battle\, she fights to maintain her sanity\, and her soul\, as she is called to rain down death by remote control. Met Music Director Yannick Nézet-Séguin oversees the Met premiere of Tesori’s kaleidoscopic score and a cast that also features tenor Ben Bliss as the Wyoming rancher who becomes Jess’s husband. Michael Mayer’s high-tech staging\, using a vast array of LED screens\, presents a variety of perspectives on the action\, including the drone’s predatory view from high above. This live cinema transmission is part of the Met’s award-winning Live in HD series\, bringing opera to movie theaters across the globe.
URL:https://www.monmouth.edu/events/event/grounded/
LOCATION:Pollak Theatre
CATEGORIES:Alumni,Alumni Affairs,Alumni Events,Arts at Monmouth,Broadcast in HD,Music
ATTACH;FMTTYPE=image/jpeg:https://www.monmouth.edu/events/wp-content/uploads/sites/19/2024/05/Grounded_header.jpg
END:VEVENT
BEGIN:VEVENT
DTSTART;TZID=America/New_York:20241020T150000
DTEND;TZID=America/New_York:20241020T170000
DTSTAMP:20260425T083733
CREATED:20241009T202758Z
LAST-MODIFIED:20241009T202758Z
UID:40810114478-1729436400-1729443600@www.monmouth.edu
SUMMARY:Faculty Recital
DESCRIPTION:The Department of Music & Theatre Arts welcomes everyone to attend our Faculty Recital on October 20th\, at 3:30pm in Woods Theatre. The concert will feature our faculty members performing a varied program of works for voice\, piano\, and guitar.
URL:https://www.monmouth.edu/events/event/faculty-recital/
LOCATION:Lauren K Woods Theatre\, 398 Cedar Ave\, Long Branch\, NJ\, United States
CATEGORIES:Arts at Monmouth,Free,Music
ATTACH;FMTTYPE=image/jpeg:https://www.monmouth.edu/events/wp-content/uploads/sites/19/2024/10/woodsheader.jpg
GEO:40.281658;-74.001637
X-APPLE-STRUCTURED-LOCATION;VALUE=URI;X-ADDRESS=Lauren K Woods Theatre 398 Cedar Ave Long Branch NJ United States;X-APPLE-RADIUS=500;X-TITLE=398 Cedar Ave:geo:-74.001637,40.281658
END:VEVENT
BEGIN:VEVENT
DTSTART;TZID=America/New_York:20241023T190000
DTEND;TZID=America/New_York:20241023T210000
DTSTAMP:20260425T083733
CREATED:20241021T134008Z
LAST-MODIFIED:20241021T134008Z
UID:40810115110-1729710000-1729717200@www.monmouth.edu
SUMMARY:ROCKTOBER Battle Of the Bands
DESCRIPTION:Monmouth’s student-run Blue Hawk Music Group presents ROCKTOBER a Battle of the Bands performance where the audience decides who wins!
URL:https://www.monmouth.edu/events/event/rocktober-battle-of-the-bands/
LOCATION:Pollak Auditorium
CATEGORIES:Music,Social Events,Student Performances
ATTACH;FMTTYPE=image/jpeg:https://www.monmouth.edu/events/wp-content/uploads/sites/19/2024/10/Rocktober.jpeg
END:VEVENT
END:VCALENDAR