BEGIN:VCALENDAR
VERSION:2.0
PRODID:-//Events - ECPv6.15.20//NONSGML v1.0//EN
CALSCALE:GREGORIAN
METHOD:PUBLISH
X-ORIGINAL-URL:https://www.monmouth.edu/events
X-WR-CALDESC:Events for Events
REFRESH-INTERVAL;VALUE=DURATION:PT1H
X-Robots-Tag:noindex
X-PUBLISHED-TTL:PT1H
BEGIN:VTIMEZONE
TZID:America/New_York
BEGIN:DAYLIGHT
TZOFFSETFROM:-0500
TZOFFSETTO:-0400
TZNAME:EDT
DTSTART:20170312T070000
END:DAYLIGHT
BEGIN:STANDARD
TZOFFSETFROM:-0400
TZOFFSETTO:-0500
TZNAME:EST
DTSTART:20171105T060000
END:STANDARD
BEGIN:DAYLIGHT
TZOFFSETFROM:-0500
TZOFFSETTO:-0400
TZNAME:EDT
DTSTART:20180311T070000
END:DAYLIGHT
BEGIN:STANDARD
TZOFFSETFROM:-0400
TZOFFSETTO:-0500
TZNAME:EST
DTSTART:20181104T060000
END:STANDARD
BEGIN:DAYLIGHT
TZOFFSETFROM:-0500
TZOFFSETTO:-0400
TZNAME:EDT
DTSTART:20190310T070000
END:DAYLIGHT
BEGIN:STANDARD
TZOFFSETFROM:-0400
TZOFFSETTO:-0500
TZNAME:EST
DTSTART:20191103T060000
END:STANDARD
END:VTIMEZONE
BEGIN:VEVENT
DTSTART;TZID=America/New_York:20180203T200000
DTEND;TZID=America/New_York:20180203T230000
DTSTAMP:20260425T100253
CREATED:20180725T203417Z
LAST-MODIFIED:20180725T203417Z
UID:40810101050-1517688000-1517698800@www.monmouth.edu
SUMMARY:CSNsongs - Celebrating the music of Crosby\, Stills\, Nash & Young
DESCRIPTION:Returning to Monmouth by popular renowned for an encore engagement\, CSN Songs is an ensemble of accomplished musicians who pay homage to the folk/rock legends that revolutionized music in the 1960’s and 70’s. Crosby\, Stills\, Nash & Young’s compositions are perfectly and respectfully reproduced as they were originally written and recorded. Relive these historical musical moments with CSN Songs impeccable recreations of Suite Judy Blue Eyes\, Ohio\, Love the One Your With\, Just a Song Before I Go\, Southern Man and many other CSN&Y treasures.      \n“If you closed your eyes you would think it was the real CSN!”
URL:https://www.monmouth.edu/events/event/csnsongs18/
LOCATION:Pollak Theatre
CATEGORIES:Arts at Monmouth,Music
ATTACH;FMTTYPE=image/jpeg:https://www.monmouth.edu/events/wp-content/uploads/sites/19/2018/07/csnsongs_hero11.jpg
END:VEVENT
BEGIN:VEVENT
DTSTART;TZID=America/New_York:20180206T193000
DTEND;TZID=America/New_York:20180206T210000
DTSTAMP:20260425T100253
CREATED:20180725T203603Z
LAST-MODIFIED:20180924T150831Z
UID:40810101170-1517945400-1517950800@www.monmouth.edu
SUMMARY:TUESDAY NIGHT RECORD CLUB: Prince\, Purple Rain
DESCRIPTION:It’s just like book club but with albums! With new advances in technology\, the way we consume music through our devices\, apps and on demand streaming services like Pandora\, Spotify and iTunes is making the idea of the “album” as an art form extinct. Get together with other music enthusiasts on Tuesday nights in Woods Theatre to discuss some of the greatest records of all-time! Listen to the album beforehand and then come prepared to discuss… there will be special guest moderators and panelists at each event! \nThis discussion will feature Prince Purple Rain. This event is free but registration is required. 
URL:https://www.monmouth.edu/events/event/prince18/
LOCATION:Lauren K. Woods Theatre
CATEGORIES:Arts at Monmouth,Free,Lectures,Lectures/Workshops/Symposiums,Music
ATTACH;FMTTYPE=image/jpeg:https://www.monmouth.edu/events/wp-content/uploads/sites/19/2018/07/prince_hero.jpg
END:VEVENT
BEGIN:VEVENT
DTSTART;TZID=America/New_York:20180210T120000
DTEND;TZID=America/New_York:20180210T175900
DTSTAMP:20260425T100253
CREATED:20180725T203647Z
LAST-MODIFIED:20180725T203647Z
UID:40810101236-1518264000-1518285540@www.monmouth.edu
SUMMARY:L’Elisir d’Amore
DESCRIPTION:Donizetti’s comic gem L’Elisir d’Amore\, staged by Bartlett Sher and conducted by Domingo Hindoyan\, stars Pretty Yende as the spirited Adina\, with Matthew Polenzani as Nemorino\, the simple peasant who falls in love with her. Davide Luciano makes his Met debut as the role of Adina’s arrogant fiancé\, Belcore and Ildebrando D’Arcangelo sings the role of the magic potion-peddling Doctor Dulcamara. Domingo Hindoyan makes his company debut conducting. \nTotal Run Time: 2 hours\, 22 minutes
URL:https://www.monmouth.edu/events/event/lelisirdamore18/
LOCATION:Pollak Theatre
CATEGORIES:Arts at Monmouth,Broadcast in HD,Music,Theatre
ATTACH;FMTTYPE=image/jpeg:https://www.monmouth.edu/events/wp-content/uploads/sites/19/2018/07/lelisir_hero1.jpg
END:VEVENT
BEGIN:VEVENT
DTSTART;TZID=America/New_York:20180218T130000
DTEND;TZID=America/New_York:20180218T175900
DTSTAMP:20260425T100253
CREATED:20180725T203648Z
LAST-MODIFIED:20180725T203648Z
UID:40810101239-1518958800-1518976740@www.monmouth.edu
SUMMARY:Tosca (Encore)
DESCRIPTION:Sir David McVicar’s ravishing new production offers a splendid backdrop for two extraordinary sopranos sharing the title role of the jealous prima donna: Sonya Yoncheva (pictured above) and Anna Netrebko. Vittorio Grigolo and Marcelo Álvarez alternate in the role of Tosca’s revolutionary artist lover Cavaradossi\, with Željko Lučić and Michael Volle as the depraved police chief Scarpia. Emmanuel Villaume and Bertrand de Billy share conducting duties.
URL:https://www.monmouth.edu/events/event/toscaencore18/
LOCATION:Pollak Theatre
CATEGORIES:Arts at Monmouth,Broadcast in HD,Music,Theatre
ATTACH;FMTTYPE=image/jpeg:https://www.monmouth.edu/events/wp-content/uploads/sites/19/2018/07/tosca_hero1.jpg
END:VEVENT
BEGIN:VEVENT
DTSTART;TZID=America/New_York:20180224T123000
DTEND;TZID=America/New_York:20180224T175900
DTSTAMP:20260425T100253
CREATED:20180725T203643Z
LAST-MODIFIED:20180725T203643Z
UID:40810101230-1519475400-1519495140@www.monmouth.edu
SUMMARY:La Bohème
DESCRIPTION:An exciting young cast stars in Franco Zeffirelli’s classic production of La Bohème\, the most-performed opera in Met history. Sonya Yoncheva stars as Mimì opposite Michael Fabiano as the passionate writer Rodolfo. Susanna Phillips reprises the role of the flirtatious Musetta and Lucas Meachem sings the role of her lover\, the painter Marcello. The cast also features Alexey Lavrov and Matthew Rose as Rodolfo and Marcello’s friends Schaunard and Colline and Paul Plishka as Benoit and Alcindoro in this performance\, led by Marco Armiliato. \nTotal runtime: 2 hours\, 58 minutes
URL:https://www.monmouth.edu/events/event/laboheme18/
LOCATION:Pollak Theatre
CATEGORIES:Arts at Monmouth,Broadcast in HD,Music,Theatre
ATTACH;FMTTYPE=image/jpeg:https://www.monmouth.edu/events/wp-content/uploads/sites/19/2018/07/boheme_hero3.jpg
END:VEVENT
END:VCALENDAR