BEGIN:VCALENDAR
VERSION:2.0
PRODID:-//Events - ECPv6.15.20//NONSGML v1.0//EN
CALSCALE:GREGORIAN
METHOD:PUBLISH
X-ORIGINAL-URL:https://www.monmouth.edu/events
X-WR-CALDESC:Events for Events
REFRESH-INTERVAL;VALUE=DURATION:PT1H
X-Robots-Tag:noindex
X-PUBLISHED-TTL:PT1H
BEGIN:VTIMEZONE
TZID:America/New_York
BEGIN:DAYLIGHT
TZOFFSETFROM:-0500
TZOFFSETTO:-0400
TZNAME:EDT
DTSTART:20160313T070000
END:DAYLIGHT
BEGIN:STANDARD
TZOFFSETFROM:-0400
TZOFFSETTO:-0500
TZNAME:EST
DTSTART:20161106T060000
END:STANDARD
BEGIN:DAYLIGHT
TZOFFSETFROM:-0500
TZOFFSETTO:-0400
TZNAME:EDT
DTSTART:20170312T070000
END:DAYLIGHT
BEGIN:STANDARD
TZOFFSETFROM:-0400
TZOFFSETTO:-0500
TZNAME:EST
DTSTART:20171105T060000
END:STANDARD
BEGIN:DAYLIGHT
TZOFFSETFROM:-0500
TZOFFSETTO:-0400
TZNAME:EDT
DTSTART:20180311T070000
END:DAYLIGHT
BEGIN:STANDARD
TZOFFSETFROM:-0400
TZOFFSETTO:-0500
TZNAME:EST
DTSTART:20181104T060000
END:STANDARD
END:VTIMEZONE
BEGIN:VEVENT
DTSTART;TZID=America/New_York:20171105T190000
DTEND;TZID=America/New_York:20171105T230000
DTSTAMP:20260424T193251
CREATED:20180725T203420Z
LAST-MODIFIED:20180725T203420Z
UID:40810101053-1509908400-1509922800@www.monmouth.edu
SUMMARY:Mariza
DESCRIPTION:Grammy Award winning singer Mariza returns to captivate audiences with her personal take on traditional fado. In less than 12 years\, Mariza has risen from a well-hidden local phenomenon\, known only to a small circle of admirers in Lisbon\, to one of the most widely acclaimed stars of the World Music circuit. \nSince then Mariza has continued to wow audiences with her powerful talent as a live performer\, recording the album Concerto Em Lisboa to a hometown audience of several thousand right next to that most visual icon of fado — the sea. She has also traveled the world\, selling out concert halls\, from Carnegie Hall and Disney Concert Hall to London’s Royal Albert Hall and the Sydney Opera House\, and winning awards\, including a BBC World Music Award and 2008 Latin Grammy nomination. \n 
URL:https://www.monmouth.edu/events/event/mariza17/
LOCATION:Pollak Theatre
CATEGORIES:Arts at Monmouth,Concerts,Music
ATTACH;FMTTYPE=image/jpeg:https://www.monmouth.edu/events/wp-content/uploads/sites/19/2018/07/mariza_hero1.jpg
END:VEVENT
BEGIN:VEVENT
DTSTART;TZID=America/New_York:20171107T193000
DTEND;TZID=America/New_York:20171107T210000
DTSTAMP:20260424T193251
CREATED:20180725T203607Z
LAST-MODIFIED:20240620T142007Z
UID:40810101176-1510083000-1510088400@www.monmouth.edu
SUMMARY:TUESDAY NIGHT RECORD CLUB: Fleetwood Mac\, Rumours
DESCRIPTION:It’s just like book club but with albums! With new advances in technology\, the way we consume music through our devices\, apps and on demand streaming services like Pandora\, Spotify and iTunes is making the idea of the “album” as an art form extinct. Get together with other music enthusiasts on Tuesday nights to discuss some of the greatest records of all-time! Listen to the album beforehand and then come prepared to discuss… there will be special guest moderators and panelists at each event! \nThis discussion will feature Fleetwood Mac Rumours. This event is free but registration is required.
URL:https://www.monmouth.edu/events/event/fleetwoodmac17-asp/
LOCATION:The Great Hall Auditorium
CATEGORIES:Free,Lectures,Lectures/Workshops/Symposiums,Music
ATTACH;FMTTYPE=image/jpeg:https://www.monmouth.edu/events/wp-content/uploads/sites/19/2018/07/fleetwoodmac_hero1.jpg
END:VEVENT
BEGIN:VEVENT
DTSTART;TZID=America/New_York:20171110T200000
DTEND;TZID=America/New_York:20171110T200000
DTSTAMP:20260424T193251
CREATED:20240919T132537Z
LAST-MODIFIED:20240919T132537Z
UID:40810114221-1510344000-1510344000@www.monmouth.edu
SUMMARY:HAIR – 50th Anniversary!
DESCRIPTION:November 10-12 &\n15-19\nAll\nshows 8 PM except Sun. matinees at 3 PM     \nHAIR celebrates the sixties counterculture in all its barefoot\, long-haired\, bell-bottomed\, beaded and fringed glory. To an infectiously energetic rock beat\, the show wows audiences with songs like “Aquarius\,” “Good Morning\, Starshine\,” “Hair\,” “I Got Life\,” and “Let The Sun Shine.” Exploring ideas of identity\, community\, global responsibility and peace\, HAIR remains relevant as ever as it examines what it means to be a young person in a changing world. Directed by Sheri Anderson.
URL:https://www.monmouth.edu/events/event/hair-50th-anniversary/
CATEGORIES:Arts at Monmouth,Music
ATTACH;FMTTYPE=image/jpeg:https://www.monmouth.edu/events/wp-content/uploads/sites/19/2018/07/hair560x560px1-8.jpg
END:VEVENT
BEGIN:VEVENT
DTSTART;TZID=America/New_York:20171112T130000
DTEND;TZID=America/New_York:20171112T175900
DTSTAMP:20260424T193251
CREATED:20180725T203655Z
LAST-MODIFIED:20180725T203655Z
UID:40810101248-1510491600-1510509540@www.monmouth.edu
SUMMARY:Die Zauberflöte (Encore)
DESCRIPTION:Met Music Director Emeritus James Levine conducts Tony Award winner Julie Taymor’s production of Mozart’s masterpiece\, Die Zauberflöte. Golda Schultz makes her Met debut as Pamina with Kathryn Lewek as the Queen of the Night\, Charles Castronovo as the fairy tale prince Tamino\, Markus Werba as the bird-catching Papageno\, Christian Van Horn as Sprecher\, and René Pape as Sarastro. The holiday presentation of The Magic Flute\, an abridged staging sung in English for families\, was the first Live in HD performance to be transmitted. This is the first time the full-length German opera will be seen in the series. \nTotal runtime: 2 hours\, 48 minutes
URL:https://www.monmouth.edu/events/event/diezauberfloteencore17/
LOCATION:Pollak Theatre
CATEGORIES:Arts at Monmouth,Broadcast in HD,Music,Theatre
ATTACH;FMTTYPE=image/jpeg:https://www.monmouth.edu/events/wp-content/uploads/sites/19/2018/07/zauberflote_hero4.jpg
END:VEVENT
BEGIN:VEVENT
DTSTART;TZID=America/New_York:20171118T130000
DTEND;TZID=America/New_York:20171118T175900
DTSTAMP:20260424T193251
CREATED:20180725T203655Z
LAST-MODIFIED:20180725T203655Z
UID:40810101251-1511010000-1511027940@www.monmouth.edu
SUMMARY:The Exterminating Angel
DESCRIPTION:The Exterminating Angel has its Met premiere this season\, conducted by the composer\, Thomas Adès. The 2016 opera\, co-commissioned by the Met and sung in English\, is based on the screenplay by Luis Buñuel and Luis Alcoriza for the acclaimed 1962 Buñuel film. Directed by the librettist Tom Cairns\, the ensemble cast features Audrey Luna as Leticia Maynar; Amanda Echalaz as Lucia de Nobile; Sally Matthews as Silvia de Ávila and Sophie Bevan as Beatriz\, both in Met debuts; Alice Coote as Leonora Palma; Christine Rice as Blanca Delgado; Iestyn Davies as Francisco de Ávila; Joseph Kaiser as Edundo de Nobile; Frédéric Antoun in his Met debut as Raúl Yebenes; David Portillo as Edmundo; David Adam Moore in his Met debut as Col. Álvaro Gómez; Rod Gilfry as Alberto Roc; Kevin Burdette as Señor Russell; Christian Van Horn as Julio; and John Tomlinson as Dr Carlos Conde. The Exterminating Angel is a co-commission and co-production with the Royal Opera House\, Covent Garden; Royal Danish Theatre; and Salzburg Festival\, where the production premiered in 2016. \nTotal runtime: 2 hours\, 34 minutes
URL:https://www.monmouth.edu/events/event/theexterminatingangel17/
LOCATION:Pollak Theatre
CATEGORIES:Arts at Monmouth,Broadcast in HD,Music,Theatre
ATTACH;FMTTYPE=image/jpeg:https://www.monmouth.edu/events/wp-content/uploads/sites/19/2018/07/angel_hero2.jpg
END:VEVENT
BEGIN:VEVENT
DTSTART;TZID=America/New_York:20171128T193000
DTEND;TZID=America/New_York:20171128T210000
DTSTAMP:20260424T193251
CREATED:20180725T203604Z
LAST-MODIFIED:20180924T150831Z
UID:40810101173-1511897400-1511902800@www.monmouth.edu
SUMMARY:TUESDAY NIGHT RECORD CLUB: Miles Davis\, Kind of Blue
DESCRIPTION:It’s just like book club but with albums! With new advances in technology\, the way we consume music through our devices\, apps and on demand streaming services like Pandora\, Spotify and iTunes is making the idea of the “album” as an art form extinct. Get together with other music enthusiasts on Tuesday nights in Woods Theatre to discuss some of the greatest records of all-time! Listen to the album beforehand and then come prepared to discuss… there will be special guest moderators and panelists at each event! \nThis discussion will feature Miles Davis Kind of Blue. This event is free but registration is required.  \nSPECIAL GUESTS: Ashley Kahn\, American music historian\, journalist\, producer\, and author of KIND OF BLUE\, the making of the Miles Davis Masterpiece  \nJay Sweet\, Musician and Adjunct Professor\, Monmouth University’s Department of Music and Theatre
URL:https://www.monmouth.edu/events/event/milesdavis17/
LOCATION:Lauren K. Woods Theatre
CATEGORIES:Arts at Monmouth,Free,Lectures,Lectures/Workshops/Symposiums,Music
ATTACH;FMTTYPE=image/jpeg:https://www.monmouth.edu/events/wp-content/uploads/sites/19/2018/07/milesdavis_hero1.jpg
END:VEVENT
END:VCALENDAR