BEGIN:VCALENDAR
VERSION:2.0
PRODID:-//Events - ECPv6.15.20//NONSGML v1.0//EN
CALSCALE:GREGORIAN
METHOD:PUBLISH
X-ORIGINAL-URL:https://www.monmouth.edu/events
X-WR-CALDESC:Events for Events
REFRESH-INTERVAL;VALUE=DURATION:PT1H
X-Robots-Tag:noindex
X-PUBLISHED-TTL:PT1H
BEGIN:VTIMEZONE
TZID:America/New_York
BEGIN:DAYLIGHT
TZOFFSETFROM:-0500
TZOFFSETTO:-0400
TZNAME:EDT
DTSTART:20160313T070000
END:DAYLIGHT
BEGIN:STANDARD
TZOFFSETFROM:-0400
TZOFFSETTO:-0500
TZNAME:EST
DTSTART:20161106T060000
END:STANDARD
BEGIN:DAYLIGHT
TZOFFSETFROM:-0500
TZOFFSETTO:-0400
TZNAME:EDT
DTSTART:20170312T070000
END:DAYLIGHT
BEGIN:STANDARD
TZOFFSETFROM:-0400
TZOFFSETTO:-0500
TZNAME:EST
DTSTART:20171105T060000
END:STANDARD
BEGIN:DAYLIGHT
TZOFFSETFROM:-0500
TZOFFSETTO:-0400
TZNAME:EDT
DTSTART:20180311T070000
END:DAYLIGHT
BEGIN:STANDARD
TZOFFSETFROM:-0400
TZOFFSETTO:-0500
TZNAME:EST
DTSTART:20181104T060000
END:STANDARD
BEGIN:DAYLIGHT
TZOFFSETFROM:-0500
TZOFFSETTO:-0400
TZNAME:EDT
DTSTART:20190310T070000
END:DAYLIGHT
BEGIN:STANDARD
TZOFFSETFROM:-0400
TZOFFSETTO:-0500
TZNAME:EST
DTSTART:20191103T060000
END:STANDARD
BEGIN:DAYLIGHT
TZOFFSETFROM:-0500
TZOFFSETTO:-0400
TZNAME:EDT
DTSTART:20200308T070000
END:DAYLIGHT
BEGIN:STANDARD
TZOFFSETFROM:-0400
TZOFFSETTO:-0500
TZNAME:EST
DTSTART:20201101T060000
END:STANDARD
END:VTIMEZONE
BEGIN:VEVENT
DTSTART;TZID=America/New_York:20190519T130000
DTEND;TZID=America/New_York:20190519T163000
DTSTAMP:20260422T092706
CREATED:20180725T203042Z
LAST-MODIFIED:20180920T180558Z
UID:40810100789-1558270800-1558283400@www.monmouth.edu
SUMMARY:Dialogues des Carmélites (Encore)
DESCRIPTION:Met Music Director Yannick Nézet-Séguin leads an accomplished ensemble in Poulenc’s devastating modern masterpiece of faith and martyrdom. Isabel Leonard is the young Blanche de La Force\, opposite Met legend Karita Mattila as the First Prioress. \nRun Time: 3:29
URL:https://www.monmouth.edu/events/event/dialoguesencore/
LOCATION:Pollak Theatre
CATEGORIES:Arts at Monmouth,Broadcast in HD,MBA Event
ATTACH;FMTTYPE=image/jpeg:https://www.monmouth.edu/events/wp-content/uploads/sites/19/2018/07/dialogues201400x60020px_1.jpg
END:VEVENT
BEGIN:VEVENT
DTSTART;TZID=America/New_York:20190511T120000
DTEND;TZID=America/New_York:20190511T153000
DTSTAMP:20260422T092706
CREATED:20180725T203118Z
LAST-MODIFIED:20180920T180558Z
UID:40810100831-1557576000-1557588600@www.monmouth.edu
SUMMARY:Dialogues des Carmélites (Francis Poulenc)
DESCRIPTION:Met Music Director Yannick Nézet-Séguin leads an accomplished ensemble in Poulenc’s devastating modern masterpiece of faith and martyrdom. Isabel Leonard is the young Blanche de La Force\, opposite Met legend Karita Mattila as the First Prioress. \nRun Time: 3:29
URL:https://www.monmouth.edu/events/event/dialogues/
LOCATION:Pollak Theatre
CATEGORIES:Arts at Monmouth,Broadcast in HD,MBA Event
ATTACH;FMTTYPE=image/jpeg:https://www.monmouth.edu/events/wp-content/uploads/sites/19/2018/07/dialogues201400x60020px_1.jpg
END:VEVENT
BEGIN:VEVENT
DTSTART;TZID=America/New_York:20190507T193000
DTEND;TZID=America/New_York:20190507T210000
DTSTAMP:20260422T092706
CREATED:20180725T203014Z
LAST-MODIFIED:20190429T190512Z
UID:40810100747-1557257400-1557262800@www.monmouth.edu
SUMMARY:Bruce Springsteen’s Tunnel of Love
DESCRIPTION:It’s just like book club but with albums! With new advances in technology\, the way we consume music through our devices\, apps and on demand streaming services like Pandora\, Spotify and iTunes is making the idea of the “album” as an art form extinct. Get together with other music enthusiasts on Tuesday nights to discuss some of the greatest records of all-time! Listen to the album beforehand and then come prepared to discuss… there will be special guest moderators and panelists at each event! This event will feature Bruce Springsteen’s Tunnel of Love.
URL:https://www.monmouth.edu/events/event/tunneloflove/
LOCATION:The Great Hall Auditorium
CATEGORIES:Arts at Monmouth,Featured,Free,MBA Event
ATTACH;FMTTYPE=image/jpeg:https://www.monmouth.edu/events/wp-content/uploads/sites/19/2018/07/tunneloflove201400x60020px.jpg
END:VEVENT
BEGIN:VEVENT
DTSTART;TZID=America/New_York:20190503T100000
DTEND;TZID=America/New_York:20190503T110000
DTSTAMP:20260422T092706
CREATED:20180725T203120Z
LAST-MODIFIED:20180920T180558Z
UID:40810100846-1556877600-1556881200@www.monmouth.edu
SUMMARY:The Magic School Bus
DESCRIPTION:When the class gets lost on the way to the planetarium\, Ms. Frizzle saves the day by blasting into outer space for an epic inter-planetary field trip! But when rivalries both old and new threaten to tear the students apart\, our young heroes must learn to pull together or risk getting forever lost in the solar system… Hop on the Magic School Bus for a ride in Theatreworks USA’s new musical adaptation based on the original book series published by Scholastic. \n(Approximately one hour in length. Recommended for grades K-5). Curriculum Connections: Communication and Language Arts\, Music\, Science\, Social Studies. 
URL:https://www.monmouth.edu/events/event/themagicschoolbus/
LOCATION:Pollak Theatre
CATEGORIES:Arts at Monmouth,Children's,MBA Event
ATTACH;FMTTYPE=image/jpeg:https://www.monmouth.edu/events/wp-content/uploads/sites/19/2018/07/magic20school20bus201400x60020px_1.jpg
END:VEVENT
BEGIN:VEVENT
DTSTART;TZID=America/New_York:20181114T163000
DTEND;TZID=America/New_York:20181114T163000
DTSTAMP:20260422T092706
CREATED:20181109T212837Z
LAST-MODIFIED:20190222T195053Z
UID:40810104431-1542213000-1542213000@www.monmouth.edu
SUMMARY:TechLaunch Bullpen #11
DESCRIPTION:You are invited to join us at Monmouth University for TechLaunch Bullpen #11. Three tech startup companies\, along with one lucky student tech startup from Monmouth University\, will pitch their business plans to a panel of investors and be judged to see who can win TechLaunch Bullpen #11. Come and participate as a member of the audience and see how tech startups defend their concept and earn the interest of angel investors. Audience members will vote to decide the ‘Audience Favorite’ Award! \nSchedule\n\n\n\n4:30 p.m.\nRegistration/Pizza/Networking\n\n\n5 p.m.\nIntroductions\n\n\n5:15 p.m.\nBullPen Program (4 Investor Pitches)\n\n\n7 p.m.\nWinners Announced\n\n\n7:15 p.m.\nNetworking with Entrepreneurs and Investors\n\n\n\nMore Details\nEventbrite Listing
URL:https://www.monmouth.edu/events/event/techlaunch-bullpen-11/
LOCATION:Pozycki Hall Auditorium
CATEGORIES:Alumni,Community Member,Current Student,Faculty,Free,Graduate Student,MBA Event,Media,Prospective Undergraduate Student,Undergraduate Student,Workshops and Professional Development
ATTACH;FMTTYPE=image/jpeg:https://www.monmouth.edu/events/wp-content/uploads/sites/19/2018/11/techlaunch.jpg
END:VEVENT
BEGIN:VEVENT
DTSTART;TZID=America/New_York:20180926T170000
DTEND;TZID=America/New_York:20180926T181500
DTSTAMP:20260422T092706
CREATED:20180921T174440Z
LAST-MODIFIED:20180925T173016Z
UID:40810104386-1537981200-1537985700@www.monmouth.edu
SUMMARY:MBA Welcome Back Reception
DESCRIPTION:MBA Students\, \nPlease join us on Wednesday\, September 26th for the ‘Welcome Back’ MBA Networking Event. Located in Pozycki Hall 2nd Floor Atrium\, this is a chance to meet and speak with faculty\, members of the business counsel\, and of course\, your fellow MBA Students. \nLight dinner and refreshments will be provided. Kindly RSVP by September 20th by emailing Nicky Kelly (nkelly@monmouth.edu). Name tags will be provided upon entry. \nWe hope to see you there!
URL:https://www.monmouth.edu/events/event/mba-welcome-back-reception/
LOCATION:Pozycki Hall 2nd Floor Atrium
CATEGORIES:MBA Event
END:VEVENT
BEGIN:VEVENT
DTSTART;TZID=America/New_York:20180926T113000
DTEND;TZID=America/New_York:20180926T130000
DTSTAMP:20260422T092706
CREATED:20180921T173610Z
LAST-MODIFIED:20180921T173622Z
UID:40810104383-1537961400-1537966800@www.monmouth.edu
SUMMARY:TechPitch Information Session
DESCRIPTION:Co-sponsored by: Leon Hess Business School | School of Science \nDo you have a really great concept for a tech-based product (APPS\, IOT\, Hardware\, Software\, Web?)? Are you already involved in a tech startup? If so… \nWe invite YOU to take part in MU TechPitch\, to compete against your fellow classmates for a chance to display your product in front of investors looking for their next big idea. All Students -from any school -are welcome to compete. \nWe are holding an information session on Wednesday\, September 26th from 11:30am-1pm in Pozycki Auditorium\, where you will learn all about the event process and expectations\, as well as receive advice from a mentor. The MU TechPitch Competition will be held the week of October 24th. \nContact Susan Gupta with a brief description of your concept: sgupta@monmouth.edu \nThere is time for you to take your idea to the next level – don’t miss this opportunity. Reach out to us now to make sure you have all the information you need.
URL:https://www.monmouth.edu/events/event/techpitch-information-session/
LOCATION:Pozycki Hall Auditorium
CATEGORIES:MBA Event
END:VEVENT
BEGIN:VEVENT
DTSTART;TZID=America/New_York:20180605T110000
DTEND;TZID=America/New_York:20180605T170000
DTSTAMP:20260422T092706
CREATED:20180725T203839Z
LAST-MODIFIED:20180725T203839Z
UID:40810101515-1528196400-1528218000@www.monmouth.edu
SUMMARY:Blood Drive - Mobile Bus on Campus
DESCRIPTION:
URL:https://www.monmouth.edu/events/event/blood-drive-mobile-bus-on-campus/
CATEGORIES:Current Student,Faculty,MBA Event
ATTACH;FMTTYPE=image/png:https://www.monmouth.edu/events/wp-content/uploads/sites/19/2018/07/MUBloodDrives2016-2017.png
END:VEVENT
BEGIN:VEVENT
DTSTART;TZID=America/New_York:20180123T110000
DTEND;TZID=America/New_York:20180123T180000
DTSTAMP:20260422T092706
CREATED:20180725T203841Z
LAST-MODIFIED:20180725T203841Z
UID:40810101521-1516705200-1516730400@www.monmouth.edu
SUMMARY:Blood Drive
DESCRIPTION:
URL:https://www.monmouth.edu/events/event/blood-drive-3/
LOCATION:Anacon Hall\, 2nd Floor\, Student Center
CATEGORIES:Current Student,Faculty,MBA Event
ATTACH;FMTTYPE=image/png:https://www.monmouth.edu/events/wp-content/uploads/sites/19/2018/07/MUBloodDrives2016-2017.png
END:VEVENT
BEGIN:VEVENT
DTSTART;TZID=America/New_York:20171129T163000
DTEND;TZID=America/New_York:20171129T200000
DTSTAMP:20260422T092706
CREATED:20180725T203252Z
LAST-MODIFIED:20190304T150853Z
UID:40810100951-1511973000-1511985600@www.monmouth.edu
SUMMARY:TechLaunch BullPen #6
DESCRIPTION:You are invited to join us at Monmouth University for TechLaunch Bullpen #6 on Wednesday November 29th beginning at 4:30 p.m. in Pozycki Auditorium here at Monmouth University where three tech startup companies along with one lucky student tech startup from Monmouth University will pitch their business plans to a panel of investors. Come and Participate as a member of the audience and see how tech startups defend their concept and win the interest of angel investors. Audience members will vote! \nMonmouth University’s Representative Startup\nRetrender—Eric Alves and Shravan Parvathaneni \nEvent Registration\nRegister on Eventbrite to let us know you are planning to attend. \nStudents: You can also register for LHBS PPD points via the MBA events page (please make sure to register in both the Eventbrite at the link above; and LHBS PPD system — accessed from MYMU) or contact mba.events@monmouth.edu for more information. \nAbout\nTechLaunch is a for-profit business accelerator for tech startups. The series of “BullPen” pitch events (similar in concept to “Shark Tank”) is where a select handful of (3-4) tech startup companies pitch their business plans to a panel of investors and mixed audience. BullPen #6 is being hosted at Monmouth University. Each presenting team is screened\, mentored and prepared to make a 10-minute investor-type presentation to a panel of 4 Investors and successful entrepreneurs. The audience is encouraged to participate in the 10-minute Q&A session. Afterwards\, the investor panel will have 10 minutes to provide constructive feedback. BullPen is aimed at serious early stage tech startup companies with high growth potential\, an experienced team\, a demonstrated Minimum Viable Product (MVP)\, and at least one potential customer who is prepared to pay for your product. \nThe BullPen #6 Distinguished Investor Panel will consist of the following: \n\nKatherine O’Neill\, Angel Investor and Executive Director of Jumpostart NJ Angel network\nJeff Weinstein\, Entrepreneur and Angel Investor\nJay Bhatti\, Entrepreneur and VC/Angel Investor\nHal Ornstein\, MD\, Entrepreneur and Angel Investor\n\n  \nAgenda\n4:30 PM – 5:15 PM: Registration/Pizza/Networking\n5:15 PM – 5:30 PM: Introductions and Program\n5:30 PM – 7:30 PM: BullPen Program (3-4 Investor Pitches)\n7:30 PM – TBD: Winners announced & networking with entrepreneurs and investors
URL:https://www.monmouth.edu/events/event/techlaunch-bullpen-6/
LOCATION:Pozycki Hall Auditorium
CATEGORIES:Alumni,Current Student,Faculty,Graduate Student,Marketing + International Business,MBA Event,Undergraduate Student
ATTACH;FMTTYPE=image/jpeg:https://www.monmouth.edu/events/wp-content/uploads/sites/19/2018/07/techlaunch.jpg
END:VEVENT
BEGIN:VEVENT
DTSTART;TZID=America/New_York:20171116T173000
DTEND;TZID=America/New_York:20171116T203000
DTSTAMP:20260422T092706
CREATED:20180725T203316Z
LAST-MODIFIED:20190304T150039Z
UID:40810100990-1510853400-1510864200@www.monmouth.edu
SUMMARY:A Closer Look at Skin Disorders: Dermatology for Advanced Practice Nurse
DESCRIPTION:This course is designed to provide an overview of skin disorders frequently observed in the primary care setting. The instructor will discuss the physical exam\, laboratory findings\, management of care and treatment options. An area of focus will be on screening\, preventing and the management of skin cancer. \nThis program will provide 3 contact hours for nurses. \nCost: $80/$70 for MU Students & Alumni (A light dinner is included in the program fee) \nRegister Online \nFor More Information \nBarbara Paskewich\, MSN\,RN\, MA\, CHES\, Director of Professional Development and Special Projects\n732-571-3694\nbpaskewi@monmouth.edu
URL:https://www.monmouth.edu/events/event/a-closer-look-at-skin-disorders-dermatology-for-advanced-practice-nurse/
LOCATION:Monmouth Park Corporate Center
CATEGORIES:Alumni,Alumni Affairs,Community Member,Current Student,MBA Event,School of Nursing and Health Studies
ATTACH;FMTTYPE=image/png:https://www.monmouth.edu/events/wp-content/uploads/sites/19/2018/07/NursingWorkshopDisplay31.png
END:VEVENT
BEGIN:VEVENT
DTSTART;TZID=America/New_York:20171109T180000
DTEND;TZID=America/New_York:20171109T180000
DTSTAMP:20260422T092706
CREATED:20180725T203307Z
LAST-MODIFIED:20190207T215049Z
UID:40810100969-1510250400-1510250400@www.monmouth.edu
SUMMARY:Health\, Wealth and a Confident Retirement
DESCRIPTION:
URL:https://www.monmouth.edu/events/event/health-wealth-and-a-confident-retirement/
CATEGORIES:Alumni,Alumni Affairs,Community Member,Current Student,Faculty,Graduate Student,Lectures/Workshops/Symposiums,MBA Event,Undergraduate Student
END:VEVENT
BEGIN:VEVENT
DTSTART;TZID=America/New_York:20171029T120000
DTEND;TZID=America/New_York:20171029T140000
DTSTAMP:20260422T092706
CREATED:20180725T203304Z
LAST-MODIFIED:20190304T154708Z
UID:40810100966-1509278400-1509285600@www.monmouth.edu
SUMMARY:Trunk-or-Treat
DESCRIPTION:Rain Location: Boylan Gymnasium\, OceanFirst Bank Center \nJoin Monmouth University’s clubs and organizations from 12 – 2 p.m. for an afternoon of Halloween trick-or-treating\, activities\, and games! Paint a pumpkin to take home\, enjoy games and activities with spooky prizes\, and visit over 40 trunks sponsored by Monmouth’s Fraternity & Sorority Life and Student Organizations! Trunk-or-Treat is free\, open to the public\, and hosted by the First Year Service Project. In the event of rain\, the event will be held in Boylan Gymnasium in the OceanFirst Bank Center. \nPlease enter campus from Larchwood Ave. and park in the large lot there. You should then look for signage and balloons directing you to the correct entrance for the event. \nNeed more information or have questions? Contact Katherine Browna at kbrowna@monmouth.edu.
URL:https://www.monmouth.edu/events/event/trunk-or-treat/
LOCATION:Parking Lot #16
CATEGORIES:Alumni,Alumni Affairs,Community Member,Free,MBA Event
ATTACH;FMTTYPE=image/jpeg:https://www.monmouth.edu/events/wp-content/uploads/sites/19/2018/07/ToT20Graphic.jpg
END:VEVENT
BEGIN:VEVENT
DTSTART;TZID=America/New_York:20171028T083000
DTEND;TZID=America/New_York:20171028T153000
DTSTAMP:20260422T092706
CREATED:20180725T203303Z
LAST-MODIFIED:20190304T164716Z
UID:40810100963-1509179400-1509204600@www.monmouth.edu
SUMMARY:Free STEM Workshop for Girls in 4th to 8th Grades
DESCRIPTION:Monmouth University’s Department of Computer Science & Software Engineering (CSSE)\, in partnership with Random Hacks of Kindness\, Jr (RHoKJr)\, presents a free STEM workshop for girls in grades 4th through 8th on Saturday\, October 28\, 2017 from 8:30 a.m. – 3:30 p.m. in Edison Hall Room 201. \nGirls will have the opportunity to team up as problem solvers and innovators to develop Smartphone app prototypes to benefit local nonprofit organizations. Computer science mentors\, drawn from current CSSE students\, will teach the girls how to “code for a cause” as they work with representatives from local non-profits such as STEAMpark\, Lunch Break\, and Coastal Communities Family Success Center. \nGirl participants and non-profit representatives may sign up by clicking the link below: \nRegister for STEM Workshop for Girls at MU \nIf you have questions\, please contact CSSE Secretary Rebecca Hanly at rhanly@monmouth.edu or call 732-571-7501.
URL:https://www.monmouth.edu/events/event/free-stem-workshop-for-girls-in-4th-to-8th-grades/
LOCATION:Edison Science Hall
CATEGORIES:Alumni,Community Member,Computer Science + Software Engineering,Faculty,MBA Event,School of Science
ATTACH;FMTTYPE=image/png:https://www.monmouth.edu/events/wp-content/uploads/sites/19/2018/07/RHOK.png
END:VEVENT
BEGIN:VEVENT
DTSTART;TZID=America/New_York:20171025T153000
DTEND;TZID=America/New_York:20171025T170000
DTSTAMP:20260422T092706
CREATED:20180725T203301Z
LAST-MODIFIED:20190304T163245Z
UID:40810100960-1508945400-1508950800@www.monmouth.edu
SUMMARY:Rook Coffee Co-Founder Holly Migliaccio: A Presentation and Discussion on Customer Service
DESCRIPTION:
URL:https://www.monmouth.edu/events/event/rook-coffee-co-founder-holly-migliaccio-a-presentation-and-discussion-on-customer-service/
LOCATION:Pozycki Hall
CATEGORIES:Current Student,Faculty,Leon Hess Business School,MBA Event
ATTACH;FMTTYPE=image/png:https://www.monmouth.edu/events/wp-content/uploads/sites/19/2018/07/Fall2017CustomerServiceEvent-StudentEmployment.png
END:VEVENT
BEGIN:VEVENT
DTSTART;TZID=America/New_York:20171012T180000
DTEND;TZID=America/New_York:20171012T203000
DTSTAMP:20260422T092706
CREATED:20180725T203311Z
LAST-MODIFIED:20190102T181118Z
UID:40810100981-1507831200-1507840200@www.monmouth.edu
SUMMARY:Champion of the Ocean Awards Dinner
DESCRIPTION:
URL:https://www.monmouth.edu/events/event/champion-of-the-ocean-awards-dinner/
LOCATION:The Great Hall
CATEGORIES:Alumni,Alumni Affairs,Community Member,Current Student,Faculty,MBA Event,School of Science
ATTACH;FMTTYPE=image/png:https://www.monmouth.edu/events/wp-content/uploads/sites/19/2018/07/AwardDinner2017IPromo.png
END:VEVENT
END:VCALENDAR