BEGIN:VCALENDAR
VERSION:2.0
PRODID:-//Events - ECPv6.15.20//NONSGML v1.0//EN
CALSCALE:GREGORIAN
METHOD:PUBLISH
X-ORIGINAL-URL:https://www.monmouth.edu/events
X-WR-CALDESC:Events for Events
REFRESH-INTERVAL;VALUE=DURATION:PT1H
X-Robots-Tag:noindex
X-PUBLISHED-TTL:PT1H
BEGIN:VTIMEZONE
TZID:America/New_York
BEGIN:DAYLIGHT
TZOFFSETFROM:-0500
TZOFFSETTO:-0400
TZNAME:EDT
DTSTART:20120311T070000
END:DAYLIGHT
BEGIN:STANDARD
TZOFFSETFROM:-0400
TZOFFSETTO:-0500
TZNAME:EST
DTSTART:20121104T060000
END:STANDARD
BEGIN:DAYLIGHT
TZOFFSETFROM:-0500
TZOFFSETTO:-0400
TZNAME:EDT
DTSTART:20130310T070000
END:DAYLIGHT
BEGIN:STANDARD
TZOFFSETFROM:-0400
TZOFFSETTO:-0500
TZNAME:EST
DTSTART:20131103T060000
END:STANDARD
BEGIN:DAYLIGHT
TZOFFSETFROM:-0500
TZOFFSETTO:-0400
TZNAME:EDT
DTSTART:20140309T070000
END:DAYLIGHT
BEGIN:STANDARD
TZOFFSETFROM:-0400
TZOFFSETTO:-0500
TZNAME:EST
DTSTART:20141102T060000
END:STANDARD
END:VTIMEZONE
BEGIN:VEVENT
DTSTART;TZID=America/New_York:20131114T163000
DTEND;TZID=America/New_York:20131114T163000
DTSTAMP:20260421T010355
CREATED:20180725T205135Z
LAST-MODIFIED:20180731T133533Z
UID:40810104194-1384446600-1384446600@www.monmouth.edu
SUMMARY:Anna Journey
DESCRIPTION:Anna Journey is the author of the poetry collections Vulgar Remedies (Louisiana State University Press\, 2013) and If Birds Gather Your Hair for Nesting (University of Georgia Press\, 2009)\, which was selected by Thomas Lux for the National Poetry Series. Her poems have appeared in American Poetry Review\, The Best American Poetry\, FIELD\, The Kenyon Review\, The Southern Review\, and elsewhere. Her creative nonfiction appears or is forthcoming in At Length\, Better\, The Southern Review\, and elsewhere. She’s received fellowships in poetry from Yaddo and the National Endowment for the Arts\, and she teaches creative writing in Pacific University’s Master of Fine Arts in Writing program.  \n \nLocation: Wilson Auditorium
URL:https://www.monmouth.edu/events/event/anna-journey/
CATEGORIES:Arts at Monmouth,Lectures
ATTACH;FMTTYPE=image/jpeg:https://www.monmouth.edu/events/wp-content/uploads/sites/19/2018/07/Anna_Journey_Thumb.jpg
END:VEVENT
END:VCALENDAR