BEGIN:VCALENDAR
VERSION:2.0
PRODID:-//Events - ECPv6.15.20//NONSGML v1.0//EN
CALSCALE:GREGORIAN
METHOD:PUBLISH
X-ORIGINAL-URL:https://www.monmouth.edu/events
X-WR-CALDESC:Events for Events
REFRESH-INTERVAL;VALUE=DURATION:PT1H
X-Robots-Tag:noindex
X-PUBLISHED-TTL:PT1H
BEGIN:VTIMEZONE
TZID:America/New_York
BEGIN:DAYLIGHT
TZOFFSETFROM:-0500
TZOFFSETTO:-0400
TZNAME:EDT
DTSTART:20240310T070000
END:DAYLIGHT
BEGIN:STANDARD
TZOFFSETFROM:-0400
TZOFFSETTO:-0500
TZNAME:EST
DTSTART:20241103T060000
END:STANDARD
BEGIN:DAYLIGHT
TZOFFSETFROM:-0500
TZOFFSETTO:-0400
TZNAME:EDT
DTSTART:20250309T070000
END:DAYLIGHT
BEGIN:STANDARD
TZOFFSETFROM:-0400
TZOFFSETTO:-0500
TZNAME:EST
DTSTART:20251102T060000
END:STANDARD
BEGIN:DAYLIGHT
TZOFFSETFROM:-0500
TZOFFSETTO:-0400
TZNAME:EDT
DTSTART:20260308T070000
END:DAYLIGHT
BEGIN:STANDARD
TZOFFSETFROM:-0400
TZOFFSETTO:-0500
TZNAME:EST
DTSTART:20261101T060000
END:STANDARD
END:VTIMEZONE
BEGIN:VEVENT
DTSTART;TZID=America/New_York:20251021T170000
DTEND;TZID=America/New_York:20251021T170000
DTSTAMP:20260424T075654
CREATED:20251009T170105Z
LAST-MODIFIED:20251009T181247Z
UID:40810119853-1761066000-1761066000@www.monmouth.edu
SUMMARY:The Stephen B. Siegel Lecture Series: The Opportunities and Challenges of Sustainable Development along New Jersey’s Coast
DESCRIPTION:Presented by the Kislak Real Estate Institute at Monmouth University and in partnership with the Urban Coast Institute. \nLight Refreshments: 5 p.m. \nLecture: 6 p.m. \nAdmission is free\, but seating is limited: we suggest registering your attendance.
URL:https://www.monmouth.edu/events/event/the-stephen-b-siegel-lecture-series-the-opportunities-and-challenges-of-sustainable-development-along-new-jerseys-coast/
LOCATION:The Great Hall Auditorium
CATEGORIES:Alumni,Community Member,Current Student,Faculty,Free,Graduate Student,Kislak Real Estate Institute,Lectures,Lectures/Workshops/Symposiums,Media,Undergraduate Student,Urban Coast Institute
ATTACH;FMTTYPE=image/jpeg:https://www.monmouth.edu/events/wp-content/uploads/sites/19/2025/10/Invite-Card-2025-Stephen-B-Siegel-Lecture.jpg
END:VEVENT
END:VCALENDAR