BEGIN:VCALENDAR
VERSION:2.0
PRODID:-//Events - ECPv6.15.20//NONSGML v1.0//EN
CALSCALE:GREGORIAN
METHOD:PUBLISH
X-WR-CALNAME:Events
X-ORIGINAL-URL:https://www.monmouth.edu/events
X-WR-CALDESC:Events for Events
REFRESH-INTERVAL;VALUE=DURATION:PT1H
X-Robots-Tag:noindex
X-PUBLISHED-TTL:PT1H
BEGIN:VTIMEZONE
TZID:America/New_York
BEGIN:DAYLIGHT
TZOFFSETFROM:-0500
TZOFFSETTO:-0400
TZNAME:EDT
DTSTART:20240310T070000
END:DAYLIGHT
BEGIN:STANDARD
TZOFFSETFROM:-0400
TZOFFSETTO:-0500
TZNAME:EST
DTSTART:20241103T060000
END:STANDARD
BEGIN:DAYLIGHT
TZOFFSETFROM:-0500
TZOFFSETTO:-0400
TZNAME:EDT
DTSTART:20250309T070000
END:DAYLIGHT
BEGIN:STANDARD
TZOFFSETFROM:-0400
TZOFFSETTO:-0500
TZNAME:EST
DTSTART:20251102T060000
END:STANDARD
BEGIN:DAYLIGHT
TZOFFSETFROM:-0500
TZOFFSETTO:-0400
TZNAME:EDT
DTSTART:20260308T070000
END:DAYLIGHT
BEGIN:STANDARD
TZOFFSETFROM:-0400
TZOFFSETTO:-0500
TZNAME:EST
DTSTART:20261101T060000
END:STANDARD
END:VTIMEZONE
BEGIN:VEVENT
DTSTART;TZID=America/New_York:20251008T144500
DTEND;TZID=America/New_York:20251008T161500
DTSTAMP:20260423T161800
CREATED:20250930T193836Z
LAST-MODIFIED:20250930T193836Z
UID:40810119762-1759934700-1759940100@www.monmouth.edu
SUMMARY:Dean’s Distinguished Speaker Series: Lisa Sarnoff Gochman
DESCRIPTION:Thanks to a generous donation\, Dean David Golland is pleased to announce the Wayne D. McMurray School of Humanities and Social Sciences Dean’s Distinguished Speaker Series for the 2025-2026 academic year. The Dean’s Distinguished Speaker Series will invite authors to speak to groups of students\, staff\, faculty and administrators. \nIn conjunction with Monmouth University’s Constitution Day\, we are pleased to welcome Lisa Sarnoff Gochman\, retired career appellate prosecutor and author\, on Wednesday\, Oct. 8\, at 2:45 p.m. in Pozycki Hall Auditorium (PZ115). Gochman’s memoir\, “At the Altar of the Appellate Gods: Arguing before the Supreme Court”\, details her experience arguing the landmark criminal sentencing case\, Apprendi v. New Jersey\, before the United States Supreme Court. Read the unofficial bonus chapter of Gochman’s memoir.
URL:https://www.monmouth.edu/events/event/deans-distinguished-speaker-series-lisa-sarnoff-gochman/
LOCATION:Pozycki Hall\, Room 115
CATEGORIES:Alumni,Community Member,Current Student,Faculty,Free,Graduate Student,Lectures,Lectures/Workshops/Symposiums,School of Humanities and Social Sciences,Special Events
ATTACH;FMTTYPE=image/jpeg:https://www.monmouth.edu/events/wp-content/uploads/sites/19/2025/09/image_1_3.jpeg
ORGANIZER;CN="School of Humanities and Social Sciences":MAILTO:shss@monmouth.edu
END:VEVENT
BEGIN:VEVENT
DTSTART;TZID=America/New_York:20251008T180000
DTEND;TZID=America/New_York:20251008T180000
DTSTAMP:20260423T161800
CREATED:20251007T194139Z
LAST-MODIFIED:20251007T194139Z
UID:40810119846-1759946400-1759946400@www.monmouth.edu
SUMMARY:Climate Change and Mental Health: Fostering Hope and Connection
DESCRIPTION:Part of the Climate Crisis Teach-In 2025\nThis presentation explores the growing mental health impacts of climate change\, with a focus on community-level strategies that promote resilience\, hope\, and collective agency. Drawing on emerging research and best practices\, it highlights how climate anxiety and ecological grief—particularly among Gen Z—are shaped by systemic inequities\, uncertainty\, and disruption. The session emphasizes the importance of intergenerational dialogue\, mutual aid\, and relational care in fostering emotional support and wellbeing. Participants will be introduced to tools\, resources\, and evidence-informed approaches for creating communities of care where climate-related emotions are validated and shared. Together\, we will envision how interdisciplinary groups and diverse professionals can build climate-responsive mental health systems grounded in justice\, connection\, and collective action. \nRachel Forbes\, MSW (’11M)\, is the community outreach and engagement specialist at the Urban Coast Institute at Monmouth University. Forbes’s current research and teaching examines the impacts of climate change on mental health and protective factors at the community level. Her work has been published in environmental justice and human rights journals\, and has been funded by the CSWE Katherine A. Kendall Institute for International Social Work and the Hispanic Access Foundation. She is editor of the award winning book “Ecosocial Work: Environmental Practice and Advocacy” (NASW Press 2023).
URL:https://www.monmouth.edu/events/event/climate-change-and-mental-health-fostering-hope-and-connection/
LOCATION:Edison Atrium – Room 201
CATEGORIES:Alumni,Current Student,Free,Graduate Student,Lectures,Lectures/Workshops/Symposiums,School of Science,Undergraduate Student
END:VEVENT
BEGIN:VEVENT
DTSTART;TZID=America/New_York:20251009T100000
DTEND;TZID=America/New_York:20251009T140000
DTSTAMP:20260423T161800
CREATED:20250722T135516Z
LAST-MODIFIED:20250722T141830Z
UID:40810119351-1760004000-1760018400@www.monmouth.edu
SUMMARY:2025 Future of the Ocean Symposium and Champion of the Ocean Awards: Exploring the Wine-Dark Sea
DESCRIPTION:he Urban Coast Institute’s (UCI) signature annual event will be return on Thursday\, October 9\, to Monmouth University’s historic Great Hall. The theme of this year’s Future of the Ocean Symposium will be “Exploring the Wine-Dark Sea – U.S. Ocean Science and Technology: Keys to Prosperity and Security.” \nThis year we’ll also be celebrating the UCI’s 20th anniversary. Come and help us set sail to serve the University and our communities for the next two decades!
URL:https://www.monmouth.edu/events/event/2025-future-of-the-ocean-symposium-and-champion-of-the-ocean-awards-exploring-the-wine-dark-sea/
LOCATION:The Great Hall
CATEGORIES:Alumni,Community Member,Current Student,Faculty,Featured,Free,Graduate Student,Lectures,Lectures/Workshops/Symposiums,Media,Prospective Undergraduate Student,Research Conference,Undergraduate Student,Urban Coast Institute
ATTACH;FMTTYPE=image/jpeg:https://www.monmouth.edu/events/wp-content/uploads/sites/19/2025/07/boat.jpg
END:VEVENT
BEGIN:VEVENT
DTSTART;TZID=America/New_York:20251011T140000
DTEND;TZID=America/New_York:20251011T170000
DTSTAMP:20260423T161800
CREATED:20250826T154212Z
LAST-MODIFIED:20250827T145451Z
UID:40810119499-1760191200-1760202000@www.monmouth.edu
SUMMARY:Egg Tempera and Silverpoint Class: Using Early Renaissance Techniques Today
DESCRIPTION:Class Schedule: Saturday\, October 11 | 2 – 5:00 PM\n \nArtist Eileen Kennedy will introduce the early Renaissance techniques of silverpoint and egg tempera\, media in most prominent use prior to 1450. After a brief slide lecture about historical and contemporary artists using these materials (i.e. Botticelli and Wyeth)\, the artist will discuss the materials used to make panels for silverpoint and egg tempera and demonstrate how to make and apply tempera paint. Participants will have the remainder of the workshop to create a still life drawing in silverpoint. Still life objects\, paper\, and silverpoint styli will be available for use. Kennedy’s own works in silverpoint and egg tempera will be on view in the gallery. \nThis class will be held in Room 135 in the Pollak Gallery.
URL:https://www.monmouth.edu/events/event/egg-tempera-class/
LOCATION:Pollak Gallery
CATEGORIES:Alumni,Alumni Affairs,Alumni Events,Art and Design,Arts at Monmouth,Faculty,Lectures,Lectures/Workshops/Symposiums
ATTACH;FMTTYPE=image/jpeg:https://www.monmouth.edu/events/wp-content/uploads/sites/19/2025/08/kennedyworkshop.jpg
END:VEVENT
BEGIN:VEVENT
DTSTART;TZID=America/New_York:20251021T170000
DTEND;TZID=America/New_York:20251021T170000
DTSTAMP:20260423T161800
CREATED:20251009T170105Z
LAST-MODIFIED:20251009T181247Z
UID:40810119853-1761066000-1761066000@www.monmouth.edu
SUMMARY:The Stephen B. Siegel Lecture Series: The Opportunities and Challenges of Sustainable Development along New Jersey’s Coast
DESCRIPTION:Presented by the Kislak Real Estate Institute at Monmouth University and in partnership with the Urban Coast Institute. \nLight Refreshments: 5 p.m. \nLecture: 6 p.m. \nAdmission is free\, but seating is limited: we suggest registering your attendance.
URL:https://www.monmouth.edu/events/event/the-stephen-b-siegel-lecture-series-the-opportunities-and-challenges-of-sustainable-development-along-new-jerseys-coast/
LOCATION:The Great Hall Auditorium
CATEGORIES:Alumni,Community Member,Current Student,Faculty,Free,Graduate Student,Kislak Real Estate Institute,Lectures,Lectures/Workshops/Symposiums,Media,Undergraduate Student,Urban Coast Institute
ATTACH;FMTTYPE=image/jpeg:https://www.monmouth.edu/events/wp-content/uploads/sites/19/2025/10/Invite-Card-2025-Stephen-B-Siegel-Lecture.jpg
END:VEVENT
BEGIN:VEVENT
DTSTART;TZID=America/New_York:20251029T150000
DTEND;TZID=America/New_York:20251029T163000
DTSTAMP:20260423T161800
CREATED:20251028T150007Z
LAST-MODIFIED:20251028T150007Z
UID:40810120049-1761750000-1761755400@www.monmouth.edu
SUMMARY:Chrystin Ondersma: "Dignity Not Debt"
DESCRIPTION:Rutgers Law School professor Chrystin Ondersma is giving a presentation on her new book “Dignity Not Debt” on Wednesday\, October 29\, sponsored by the Greenbaum/Ferguson/NJAR Endowed Chair in Real Estate\, the Monmouth University Debate Team\, and the Monmouth University Pre-Law Club. \nFood and drinks available before the presentation outside Pozycki Hall 115. Presentation starts at 3 p.m. and will end by 4:15 p.m. No need to RSVP.
URL:https://www.monmouth.edu/events/event/chrystin-ondersma-dignity-not-debt/
CATEGORIES:Alumni,Community Member,Current Student,Economics,Faculty,Free,Graduate Student,Lectures,Lectures/Workshops/Symposiums,Leon Hess Business School,Media,Prospective Undergraduate Student,Undergraduate Student
END:VEVENT
END:VCALENDAR