BEGIN:VCALENDAR
VERSION:2.0
PRODID:-//Events - ECPv6.15.20//NONSGML v1.0//EN
CALSCALE:GREGORIAN
METHOD:PUBLISH
X-WR-CALNAME:Events
X-ORIGINAL-URL:https://www.monmouth.edu/events
X-WR-CALDESC:Events for Events
REFRESH-INTERVAL;VALUE=DURATION:PT1H
X-Robots-Tag:noindex
X-PUBLISHED-TTL:PT1H
BEGIN:VTIMEZONE
TZID:America/New_York
BEGIN:DAYLIGHT
TZOFFSETFROM:-0500
TZOFFSETTO:-0400
TZNAME:EDT
DTSTART:20230312T070000
END:DAYLIGHT
BEGIN:STANDARD
TZOFFSETFROM:-0400
TZOFFSETTO:-0500
TZNAME:EST
DTSTART:20231105T060000
END:STANDARD
BEGIN:DAYLIGHT
TZOFFSETFROM:-0500
TZOFFSETTO:-0400
TZNAME:EDT
DTSTART:20240310T070000
END:DAYLIGHT
BEGIN:STANDARD
TZOFFSETFROM:-0400
TZOFFSETTO:-0500
TZNAME:EST
DTSTART:20241103T060000
END:STANDARD
BEGIN:DAYLIGHT
TZOFFSETFROM:-0500
TZOFFSETTO:-0400
TZNAME:EDT
DTSTART:20250309T070000
END:DAYLIGHT
BEGIN:STANDARD
TZOFFSETFROM:-0400
TZOFFSETTO:-0500
TZNAME:EST
DTSTART:20251102T060000
END:STANDARD
END:VTIMEZONE
BEGIN:VEVENT
DTSTART;TZID=America/New_York:20241113T131500
DTEND;TZID=America/New_York:20241113T143500
DTSTAMP:20260425T193437
CREATED:20241113T134940Z
LAST-MODIFIED:20241113T134940Z
UID:40810115812-1731503700-1731508500@www.monmouth.edu
SUMMARY:World Languages Festival
DESCRIPTION:The Department of World Languages and Cultures invites you to join us for our annual World Languages Festival! It’s always a lot of fun\, and a chance for Monmouth students to shine as they share their talents and love of world languages. Come and enjoy singing\, dancing\, cultural demonstrations. and some authentic cultural foods.
URL:https://www.monmouth.edu/events/event/world-languages-festival/
LOCATION:Great Hall Auditorium
CATEGORIES:Diversity and Inclusion,Free,LatinXConnect
ATTACH;FMTTYPE=image/jpeg:https://www.monmouth.edu/events/wp-content/uploads/sites/19/2024/11/2024_WLF_flier.jpg
ORGANIZER;CN="Julia Riordan-Goncalves":MAILTO:jriordan@monmouth.edu
END:VEVENT
END:VCALENDAR