BEGIN:VCALENDAR
VERSION:2.0
PRODID:-//Events - ECPv6.15.20//NONSGML v1.0//EN
CALSCALE:GREGORIAN
METHOD:PUBLISH
X-WR-CALNAME:Events
X-ORIGINAL-URL:https://www.monmouth.edu/events
X-WR-CALDESC:Events for Events
REFRESH-INTERVAL;VALUE=DURATION:PT1H
X-Robots-Tag:noindex
X-PUBLISHED-TTL:PT1H
BEGIN:VTIMEZONE
TZID:America/New_York
BEGIN:DAYLIGHT
TZOFFSETFROM:-0500
TZOFFSETTO:-0400
TZNAME:EDT
DTSTART:20240310T070000
END:DAYLIGHT
BEGIN:STANDARD
TZOFFSETFROM:-0400
TZOFFSETTO:-0500
TZNAME:EST
DTSTART:20241103T060000
END:STANDARD
BEGIN:DAYLIGHT
TZOFFSETFROM:-0500
TZOFFSETTO:-0400
TZNAME:EDT
DTSTART:20250309T070000
END:DAYLIGHT
BEGIN:STANDARD
TZOFFSETFROM:-0400
TZOFFSETTO:-0500
TZNAME:EST
DTSTART:20251102T060000
END:STANDARD
BEGIN:DAYLIGHT
TZOFFSETFROM:-0500
TZOFFSETTO:-0400
TZNAME:EDT
DTSTART:20260308T070000
END:DAYLIGHT
BEGIN:STANDARD
TZOFFSETFROM:-0400
TZOFFSETTO:-0500
TZNAME:EST
DTSTART:20261101T060000
END:STANDARD
END:VTIMEZONE
BEGIN:VEVENT
DTSTART;TZID=America/New_York:20250203T180000
DTEND;TZID=America/New_York:20250203T190000
DTSTAMP:20260425T144548
CREATED:20241122T164217Z
LAST-MODIFIED:20250131T172441Z
UID:40810115854-1738605600-1738609200@www.monmouth.edu
SUMMARY:Akhil Sharma - Visiting Writer
DESCRIPTION:Sharma is a highly decorated short-story writer and novelist; he’s been awarded many of the most prestigious prizes and recognitions that a fiction writer can receive. His first novel\, An Obedient Father (Farrar\, Straus & Giroux\, 2000)\, hailed in New York Magazine by Jonathan Franzen as “A great novel” and described by Hilary Mantel in the New York Review of Books as “uncompromising\,” with a “first chapter . . . [that] blasts off the locks and splinters the wood\,” received the PEN/Hemingway Award for Debut Novel and was chosen as a New York Times Notable Book of the Year. \nSharma’s second novel\, the spectacular Family Life (Norton\, 2014)\, received both the International Dublin Literary Award and the Folio Prize. Scholar and writer Edmund White called it “a terse\, devastating account of growing up as a brilliant outsider in American culture” and described it as “a near perfect novel.” \nSharma’s third and most recent book\, the story collection A Life of Adventure and Delight (Norton\, 2017)\, prompted writer Yiyun Li to describe Sharma as “truly the Chekhov of our time.” His stories have been widely published and anthologized\, appearing in The New Yorker\, The Atlantic\, Best American Short Stories\, and O. Henry Award Stories.  \nIndeed\, Sharma is such an exacting and rigorous writer that\, quite unusually\, he recently published a revised and rewritten edition of An Obedient Father (McNally Editions\, 2022) more than twenty years after it first appeared in print. The critic Wyatt Mason\, reviewing the revised version in The New York Times Magazine\, described this as “Something white-rhino rare in the history of literature”\, adding\, approvingly\, “there is scarcely a paragraph that hasn’t been improved . . . ” \nBorn in Delhi\, India\, Sharma grew up in Edison\, NJ. Before becoming a professor at Duke\, where he now teaches\, he was on the faculty at Rutgers. He is an engaging and surprising speaker and an excellent reader of his work \nThis event is sponsored by The Visiting Writers Series\, with the Center for the Arts and the Intercultural Center.
URL:https://www.monmouth.edu/events/event/akhil-sharma-visiting-writer/
LOCATION:The Great Hall -104
CATEGORIES:Arts at Monmouth,English,Free,Intercultural Center Events
ATTACH;FMTTYPE=image/jpeg:https://www.monmouth.edu/events/wp-content/uploads/sites/19/2024/11/sharma_header.jpg
END:VEVENT
BEGIN:VEVENT
DTSTART;TZID=America/New_York:20250204T193000
DTEND;TZID=America/New_York:20250204T210000
DTSTAMP:20260425T144548
CREATED:20240605T143744Z
LAST-MODIFIED:20250121T195839Z
UID:40810112486-1738697400-1738702800@www.monmouth.edu
SUMMARY:The Miseducation of Lauryn Hill
DESCRIPTION:It’s just like book club but with albums! With new advances in technology\, the way we consume music through our devices\, apps and on demand streaming services like Pandora\, Spotify and iTunes is making the idea of the “album” as an art form extinct. Get together with other music enthusiasts on Tuesday nights to discuss some of the greatest records of all-time! Listen to the album beforehand and then come prepared to discuss. This event will feature The Miseducation of Lauryn Hill. \nThis event is offered BOTH in person and via Zoom. Join us in person at the Great Hall Auditorium on the Campus of Monmouth University or join us via zoom. When you register you will be provided the ZOOM meeting link to join the conversation. \nFree and open to the public\, but registration is required.
URL:https://www.monmouth.edu/events/event/the-miseducation-of-lauryn-hill/
LOCATION:The Great Hall Auditorium/Virtual\, 400 Cedar Ave\, West Long Branch\, NJ\, 07720\, United States
CATEGORIES:Alumni,Alumni Affairs,Alumni Events,Arts at Monmouth,Free,Intercultural Center Events,Lectures,Lectures/Workshops/Symposiums
ATTACH;FMTTYPE=image/jpeg:https://www.monmouth.edu/events/wp-content/uploads/sites/19/2024/06/Hill_header.jpg
END:VEVENT
BEGIN:VEVENT
DTSTART;TZID=America/New_York:20250205T190000
DTEND;TZID=America/New_York:20250205T210000
DTSTAMP:20260425T144548
CREATED:20250108T211951Z
LAST-MODIFIED:20250115T205303Z
UID:40810117726-1738782000-1738789200@www.monmouth.edu
SUMMARY:Black History Month Blues Café
DESCRIPTION:Celebrate Black History Month at the Blues Café\, where soulful tunes meet powerful history in an unforgettable evening of music and culture. Enjoy live performances\, coffee\, and games.
URL:https://www.monmouth.edu/events/event/black-history-month-blues-cafe/
LOCATION:Great Hall Auditorium
CATEGORIES:Intercultural Center Events
ATTACH;FMTTYPE=image/png:https://www.monmouth.edu/events/wp-content/uploads/sites/19/2025/01/2025-01-15-15_50_14-Window.png
ORGANIZER;CN="Intercultural Center":MAILTO:Intercultural@monmouth.edu
END:VEVENT
BEGIN:VEVENT
DTSTART;TZID=America/New_York:20250206T190000
DTEND;TZID=America/New_York:20250206T210000
DTSTAMP:20260425T144548
CREATED:20240905T154103Z
LAST-MODIFIED:20250206T165607Z
UID:40810113719-1738868400-1738875600@www.monmouth.edu
SUMMARY:Men's Basketball vs Hampton - Black History Night
DESCRIPTION:Monmouth University Men’s Basketball vs Hampton – Black History Night\nStreaming Video: https://go.flosports.tv/partner/caa?utm_campaign=caa&utm_medium=partner&utm_source=teams&utm_content=teams&rtid=monmouth&coverage_id=\nTickets: https://mpv.tickets.com/?agency=MNMV_PLAGENCY_MPV&orgid=44869&eventId=119777#/event/E119777
URL:https://www.monmouth.edu/events/event/monmouth-university-mens-basketball-vs-hampton/
LOCATION:OceanFirst Bank Center – West Long Branch\, NJ
CATEGORIES:Alumni,Black Alumni Network,Diversity and Inclusion,Intercultural Center Events,Men's Basketball
ATTACH;FMTTYPE=image/jpeg:https://www.monmouth.edu/events/wp-content/uploads/sites/19/2024/09/999999999.20250203212259555.999999999.20250203212259555TdYO7.jpeg
END:VEVENT
BEGIN:VEVENT
DTSTART;TZID=America/New_York:20250206T210000
DTEND;TZID=America/New_York:20250206T220000
DTSTAMP:20260425T144548
CREATED:20250122T153326Z
LAST-MODIFIED:20250124T205811Z
UID:40810118008-1738875600-1738879200@www.monmouth.edu
SUMMARY:Trivia Thursday - Black History Month
DESCRIPTION:Celebrate Black History Month with Trivia Thursday – Black History Month edition. Test your knowledge\, win prizes\, and honor the Black and African American trailblazers who have helped shaped the world—join the fun!
URL:https://www.monmouth.edu/events/event/trivia-thursday-black-history-month-kahoot-musical-trailblazers/
LOCATION:Intercultural Center (Magill Commons)
CATEGORIES:Intercultural Center Events
ATTACH;FMTTYPE=image/jpeg:https://www.monmouth.edu/events/wp-content/uploads/sites/19/2025/01/shutterstock_686118184-2.jpg
END:VEVENT
BEGIN:VEVENT
DTSTART;TZID=America/New_York:20250207T190000
DTEND;TZID=America/New_York:20250207T210000
DTSTAMP:20260425T144548
CREATED:20250115T205557Z
LAST-MODIFIED:20250207T032608Z
UID:40810114263-1738954800-1738962000@www.monmouth.edu
SUMMARY:Women's Basketball vs Drexel - Black History Night/Biergarten (130226)
DESCRIPTION:Monmouth University Women’s Basketball vs Drexel – Black History Night/Biergarten (130226)\nStreaming Video: https://flosports.link/3IzwagG\nTickets: https://mpv.tickets.com/?CCID=MNMV&agency=MNMV_PLAGENCY_MPV&orgid=44869&eventId=120194#/event/E120194/seatmap/?selectBuyers=false&minPrice=10&maxPrice=10&quantity=2&sort=price_desc&ada=false&seatSelection=true&onlyCoupon=true&onlyVoucher=false
URL:https://www.monmouth.edu/events/event/womens-basketball-vs-drexel-black-history-night-beer-garden/
LOCATION:OceanFirst Bank Center
CATEGORIES:Alumni,Black Alumni Network,Diversity and Inclusion,Intercultural Center Events,Women's Basketball
ATTACH;FMTTYPE=image/jpeg:https://www.monmouth.edu/events/wp-content/uploads/sites/19/2025/01/999999999.20250203212259711.999999999.202502032122597114cS6A.jpeg
END:VEVENT
BEGIN:VEVENT
DTSTART;TZID=America/New_York:20250211T193000
DTEND;TZID=America/New_York:20250211T213000
DTSTAMP:20260425T144548
CREATED:20240611T131153Z
LAST-MODIFIED:20250121T200006Z
UID:40810112513-1739302200-1739309400@www.monmouth.edu
SUMMARY:The 1619 Project
DESCRIPTION:Join us for Tuesday Night Book Club! Hosted by Monmouth University’s Ken Womack. This month’s novel is The 1619 Project. \nA dramatic expansion of a groundbreaking work of journalism\, The 1619 Project: A New American Origin Story offers a profoundly revealing vision of the American past and present. \nThe New York Times Magazine‘s award-winning “1619 Project” issue reframed our understanding of American history by placing slavery and its continuing legacy at the center of our national narrative. This new book substantially expands on that work\, weaving together eighteen essays that explore the legacy of slavery in present-day America with thirty-six poems and works of fiction that illuminate key moments of oppression\, struggle\, and resistance. The essays show how the inheritance of 1619 reaches into every part of contemporary American society\, from politics\, music\, diet\, traffic\, and citizenship to capitalism\, religion\, and our democracy itself. \nWhen you register you will be provided the meeting link to join the conversation.
URL:https://www.monmouth.edu/events/event/the-1619-project/
LOCATION:Virtual
CATEGORIES:Alumni,Alumni Affairs,Alumni Events,Arts at Monmouth,English,Free,Intercultural Center Events,Lectures,Lectures/Workshops/Symposiums
ATTACH;FMTTYPE=image/jpeg:https://www.monmouth.edu/events/wp-content/uploads/sites/19/2024/06/1619_header.jpg
ORGANIZER;CN="Center for the Arts":MAILTO:kbarratt@monmouth.edu
END:VEVENT
BEGIN:VEVENT
DTSTART;TZID=America/New_York:20250214T150000
DTEND;TZID=America/New_York:20250214T170000
DTSTAMP:20260425T144548
CREATED:20250109T170433Z
LAST-MODIFIED:20250207T175506Z
UID:40810117748-1739545200-1739552400@www.monmouth.edu
SUMMARY:BSU and SAB present: Classroom Concert
DESCRIPTION:Join BSU and SAB for a coffeehouse classroom jams session\, where live music and cozy vibes come together!
URL:https://www.monmouth.edu/events/event/coffeehouse-classroom-jams/
LOCATION:Student Center Fireplace Lounge
CATEGORIES:Intercultural Center Events
ATTACH;FMTTYPE=image/jpeg:https://www.monmouth.edu/events/wp-content/uploads/sites/19/2025/01/israel-palacio-Y20JJ_ddy9M-unsplash-1-scaled-1.jpg
ORGANIZER;CN="Student Activities Board":MAILTO:activities@monmouth.edu
END:VEVENT
BEGIN:VEVENT
DTSTART;TZID=America/New_York:20250218T180000
DTEND;TZID=America/New_York:20250218T180000
DTSTAMP:20260425T144548
CREATED:20250114T190143Z
LAST-MODIFIED:20250217T142820Z
UID:40810117888-1739901600-1739901600@www.monmouth.edu
SUMMARY:Black History Month Alumni Career Panel
DESCRIPTION:Presented by The Intercultural Center\, Alumni Engagement and Annual Giving\, and Career Development \n\n\n\nJoin us for an engaging panel discussion featuring Black alumni as they share their journeys from college to career\, the challenges they faced\, and valuable advice for building a successful career. All alumni are welcome to attend. The panel will be followed by a mixer\, providing an opportunity to connect with students and fellow Hawks. Enjoy complimentary food and beverages while networking!
URL:https://www.monmouth.edu/events/event/black-history-month-alumni-career-panel-2/
LOCATION:Julian Abele Room (The Great Hall Room 104)
CATEGORIES:Alumni,Alumni Calendar Featured,Alumni Events,Black Alumni Network,Featured,Free,Intercultural Center Events,Lectures,Social Events
ATTACH;FMTTYPE=image/jpeg:https://www.monmouth.edu/events/wp-content/uploads/sites/19/2025/01/BHM-Panel.jpg
END:VEVENT
BEGIN:VEVENT
DTSTART;TZID=America/New_York:20250221T100000
DTEND;TZID=America/New_York:20250221T170000
DTSTAMP:20260425T144548
CREATED:20250218T172524Z
LAST-MODIFIED:20250218T172531Z
UID:40810118775-1740132000-1740157200@www.monmouth.edu
SUMMARY:Toni Morrison Day 2025
DESCRIPTION:Keynote Speaker: Autumn Womack\nAutumn Womack is an associate professor of African American studies and English at Princeton University. She is the author of “The Matter of Living: The Aesthetic Experiment of Racial Data\, 1880-1930” (U. Chicago\, 2022)\, which won the\nMLA’s William Sanders Scarborough Prize and was shortlisted for the Modernist Studies Association’s First Book Prize. At Princeton University she curated the critically acclaimed archival exhibition Toni Morrison: Sites of Memory\, which brought over 150 never seen original archival objects into view. She is currently at work on two book projects that focus on Morrison: “The Wanderer: Toni Morrison and the Art of Creativity” and “Sites of Memory: Toni Morrison and the Politics of the Archive”.
URL:https://www.monmouth.edu/events/event/toni-morrison-day-2025/
LOCATION:Pozycki Hall Auditorium
CATEGORIES:Alumni,Black Alumni Network,Current Student,English,Faculty,Featured,Free,Intercultural Center Events,Lectures,Lectures/Workshops/Symposiums,School of Humanities and Social Sciences
ATTACH;FMTTYPE=image/jpeg:https://www.monmouth.edu/events/wp-content/uploads/sites/19/2025/02/TMD-Banner-Website_png.jpg
END:VEVENT
BEGIN:VEVENT
DTSTART;TZID=America/New_York:20250224T180000
DTEND;TZID=America/New_York:20250224T200000
DTSTAMP:20260425T144548
CREATED:20250205T172907Z
LAST-MODIFIED:20250205T172907Z
UID:40810118582-1740420000-1740427200@www.monmouth.edu
SUMMARY:Barbershop Talk with Alumnus Felipe Estrada (Felipe Fades)
DESCRIPTION:Join us for an engaging conversation with Monmouth University Alumnus Felipe Estrada\, a licensed barber\, social media influencer\, and entrepreneur. In alignment with this year’s Black History Month national theme: African Americans & Labor\, Felipe will share his journey in the barbering industry\, the challenges and sacrifices he’s made\, and how he has built his personal brand. \nThis conversation will explore the historical and cultural significance of labor in the Black community\, offering insight and encouragement for students interested in pursuing careers in skilled trades and entrepreneurial paths. Whether you’re looking to enter a labor-intensive field or seeking motivation for your own career journey\, this event is for you! \nDon’t miss this opportunity to learn\, connect\, and be inspired!
URL:https://www.monmouth.edu/events/event/barbershop-talk-with-alumnus-felipe-estrada-felipe-fades/
LOCATION:Magill Commons
CATEGORIES:Intercultural Center Events
ORGANIZER;CN="Intercultural Center":MAILTO:Intercultural@monmouth.edu
END:VEVENT
BEGIN:VEVENT
DTSTART;TZID=America/New_York:20250226T114000
DTEND;TZID=America/New_York:20250226T130000
DTSTAMP:20260425T144548
CREATED:20250218T221807Z
LAST-MODIFIED:20250218T221807Z
UID:40810118784-1740570000-1740574800@www.monmouth.edu
SUMMARY:Black History Month Featured Lecture: Blair LM Kelley\, Ph.D. - "Black Folk: The Roots of the Black Working Class"
DESCRIPTION:Blair LM Kelley\, Ph.D. is an award-winning author\, historian\, and scholar of the African American experience. A dedicated public historian\, Kelley works to amplify the histories of Black people\, chronicling the everyday impact of their activism. Kelley is currently the Joel R. Williamson Distinguished Professor of Southern Studies at the University of North Carolina-Chapel Hill and the director of the Center for the Study of the American South\, the first Black woman to serve in that role in the center’s thirty-year history. \nCo-sponsored by: Department of History and Anthropology\, African Diaspora Studies\, Black and African Diaspora Forum United (BADFU)\, Program in Gender and Intersectionality Studies\, and the Intercultural Center
URL:https://www.monmouth.edu/events/event/black-history-month-featured-lecture-blair-lm-kelley-ph-d-black-folk-the-roots-of-the-black-working-class/
LOCATION:Edison Atrium – Room 201
CATEGORIES:Black Alumni Network,Intercultural Center Events
ATTACH;FMTTYPE=image/png:https://www.monmouth.edu/events/wp-content/uploads/sites/19/2025/02/Kelley.png
ORGANIZER;CN="Intercultural Center":MAILTO:Intercultural@monmouth.edu
END:VEVENT
BEGIN:VEVENT
DTSTART;TZID=America/New_York:20250226T150000
DTEND;TZID=America/New_York:20250226T170000
DTSTAMP:20260425T144548
CREATED:20250218T221457Z
LAST-MODIFIED:20250218T221457Z
UID:40810118781-1740582000-1740589200@www.monmouth.edu
SUMMARY:Keep Calm\, and Crush Midterms with the Intercultural Center
DESCRIPTION:Come give your brain a break and enjoy some crafts before midterms. Conquer your midterms with confidence!
URL:https://www.monmouth.edu/events/event/keep-calm-and-crush-midterms-with-the-intercultural-center/
LOCATION:Intercultural Center (Magill Commons)
CATEGORIES:Intercultural Center Events
ATTACH;FMTTYPE=image/png:https://www.monmouth.edu/events/wp-content/uploads/sites/19/2025/02/CRAFT.png
ORGANIZER;CN="Intercultural Center":MAILTO:Intercultural@monmouth.edu
END:VEVENT
END:VCALENDAR