BEGIN:VCALENDAR
VERSION:2.0
PRODID:-//Events - ECPv6.15.20//NONSGML v1.0//EN
CALSCALE:GREGORIAN
METHOD:PUBLISH
X-ORIGINAL-URL:https://www.monmouth.edu/events
X-WR-CALDESC:Events for Events
REFRESH-INTERVAL;VALUE=DURATION:PT1H
X-Robots-Tag:noindex
X-PUBLISHED-TTL:PT1H
BEGIN:VTIMEZONE
TZID:America/New_York
BEGIN:DAYLIGHT
TZOFFSETFROM:-0500
TZOFFSETTO:-0400
TZNAME:EDT
DTSTART:20130310T070000
END:DAYLIGHT
BEGIN:STANDARD
TZOFFSETFROM:-0400
TZOFFSETTO:-0500
TZNAME:EST
DTSTART:20131103T060000
END:STANDARD
BEGIN:DAYLIGHT
TZOFFSETFROM:-0500
TZOFFSETTO:-0400
TZNAME:EDT
DTSTART:20140309T070000
END:DAYLIGHT
BEGIN:STANDARD
TZOFFSETFROM:-0400
TZOFFSETTO:-0500
TZNAME:EST
DTSTART:20141102T060000
END:STANDARD
BEGIN:DAYLIGHT
TZOFFSETFROM:-0500
TZOFFSETTO:-0400
TZNAME:EDT
DTSTART:20150308T070000
END:DAYLIGHT
BEGIN:STANDARD
TZOFFSETFROM:-0400
TZOFFSETTO:-0500
TZNAME:EST
DTSTART:20151101T060000
END:STANDARD
BEGIN:DAYLIGHT
TZOFFSETFROM:-0500
TZOFFSETTO:-0400
TZNAME:EDT
DTSTART:20160313T070000
END:DAYLIGHT
BEGIN:STANDARD
TZOFFSETFROM:-0400
TZOFFSETTO:-0500
TZNAME:EST
DTSTART:20161106T060000
END:STANDARD
BEGIN:DAYLIGHT
TZOFFSETFROM:-0500
TZOFFSETTO:-0400
TZNAME:EDT
DTSTART:20170312T070000
END:DAYLIGHT
BEGIN:STANDARD
TZOFFSETFROM:-0400
TZOFFSETTO:-0500
TZNAME:EST
DTSTART:20171105T060000
END:STANDARD
END:VTIMEZONE
BEGIN:VEVENT
DTSTART;VALUE=DATE:20151224
DTEND;VALUE=DATE:20160102
DTSTAMP:20260422T152010
CREATED:20180725T204719Z
LAST-MODIFIED:20180725T204719Z
UID:40810103501-1450915200-1451692799@www.monmouth.edu
SUMMARY:Holiday Break
DESCRIPTION:
URL:https://www.monmouth.edu/events/event/holiday-break-2/
CATEGORIES:Current Student,Faculty,Holiday / Breaks
ATTACH;FMTTYPE=image/jpeg:https://www.monmouth.edu/events/wp-content/uploads/sites/19/2018/07/holiday-break.jpg
END:VEVENT
BEGIN:VEVENT
DTSTART;VALUE=DATE:20151126
DTEND;VALUE=DATE:20151128
DTSTAMP:20260422T152010
CREATED:20180725T204720Z
LAST-MODIFIED:20180725T204720Z
UID:40810103516-1448496000-1448668799@www.monmouth.edu
SUMMARY:Thanksgiving Day Holidays: Thursday and Friday
DESCRIPTION:Please note: It is recognized that the Holiday Schedule may be varied at the discretion of the President by special announcement. It is recognized that employees may be required to work on the above-mentioned holidays. If so\, unionized employees will be paid in accordance with their respective collective bargaining agreement. Employees wishing to utilize compensatory time should discuss their request with their supervisors. As in the past\, some University offices may be required to be open. Arrangements should be made in advance with supervisors for employees who wish to observe certain religious holidays that are not University Holidays.
URL:https://www.monmouth.edu/events/event/thanksgiving-day-holidays-thursday-and-friday/
CATEGORIES:Current Student,Faculty,Holiday / Breaks
ATTACH;FMTTYPE=image/jpeg:https://www.monmouth.edu/events/wp-content/uploads/sites/19/2018/07/Thanksgiving.jpg
END:VEVENT
BEGIN:VEVENT
DTSTART;VALUE=DATE:20150907
DTEND;VALUE=DATE:20150908
DTSTAMP:20260422T152010
CREATED:20180725T204720Z
LAST-MODIFIED:20180725T204720Z
UID:40810103513-1441584000-1441670399@www.monmouth.edu
SUMMARY:Labor Day
DESCRIPTION:
URL:https://www.monmouth.edu/events/event/labor-day-2/
CATEGORIES:Current Student,Faculty,Holiday / Breaks
ATTACH;FMTTYPE=image/jpeg:https://www.monmouth.edu/events/wp-content/uploads/sites/19/2018/07/MoveInDay.jpg
END:VEVENT
BEGIN:VEVENT
DTSTART;VALUE=DATE:20150525
DTEND;VALUE=DATE:20150526
DTSTAMP:20260422T152010
CREATED:20180725T204422Z
LAST-MODIFIED:20180725T204422Z
UID:40810102721-1432512000-1432598399@www.monmouth.edu
SUMMARY:Memorial Day
DESCRIPTION:
URL:https://www.monmouth.edu/events/event/memorial-day/
CATEGORIES:Academic Calendar,Holiday / Breaks
ATTACH;FMTTYPE=image/jpeg:https://www.monmouth.edu/events/wp-content/uploads/sites/19/2018/07/holiday-breaks-placeholder.jpg
END:VEVENT
BEGIN:VEVENT
DTSTART;VALUE=DATE:20150320
DTEND;VALUE=DATE:20150321
DTSTAMP:20260422T152010
CREATED:20180725T204422Z
LAST-MODIFIED:20180725T204422Z
UID:40810102718-1426809600-1426895999@www.monmouth.edu
SUMMARY:Spring Holiday
DESCRIPTION:
URL:https://www.monmouth.edu/events/event/spring-holiday/
CATEGORIES:Holiday / Breaks
ATTACH;FMTTYPE=image/jpeg:https://www.monmouth.edu/events/wp-content/uploads/sites/19/2018/07/holiday-breaks-placeholder.jpg
END:VEVENT
BEGIN:VEVENT
DTSTART;VALUE=DATE:20150119
DTEND;VALUE=DATE:20150120
DTSTAMP:20260422T152010
CREATED:20180725T204422Z
LAST-MODIFIED:20180725T204422Z
UID:40810102715-1421625600-1421711999@www.monmouth.edu
SUMMARY:Martin Luther King Jr. Birthday Holiday
DESCRIPTION:
URL:https://www.monmouth.edu/events/event/martin-luther-king-jr-birthday-holiday/
CATEGORIES:Holiday / Breaks
ATTACH;FMTTYPE=image/jpeg:https://www.monmouth.edu/events/wp-content/uploads/sites/19/2018/07/holiday-breaks-placeholder.jpg
END:VEVENT
BEGIN:VEVENT
DTSTART;VALUE=DATE:20141224
DTEND;VALUE=DATE:20150103
DTSTAMP:20260422T152010
CREATED:20180725T204422Z
LAST-MODIFIED:20180725T204422Z
UID:40810102712-1419379200-1420243199@www.monmouth.edu
SUMMARY:Holiday Break
DESCRIPTION:Have a wonderful holiday!
URL:https://www.monmouth.edu/events/event/holiday-break/
CATEGORIES:Holiday / Breaks
ATTACH;FMTTYPE=image/jpeg:https://www.monmouth.edu/events/wp-content/uploads/sites/19/2018/07/holiday-breaks-placeholder.jpg
END:VEVENT
BEGIN:VEVENT
DTSTART;VALUE=DATE:20141127
DTEND;VALUE=DATE:20141129
DTSTAMP:20260422T152010
CREATED:20180725T204626Z
LAST-MODIFIED:20180725T204626Z
UID:40810103243-1417046400-1417219199@www.monmouth.edu
SUMMARY:Thanksgiving Break
DESCRIPTION:Have a wonderful holiday!
URL:https://www.monmouth.edu/events/event/thanksgiving-break/
CATEGORIES:Academic Calendar,Holiday / Breaks
ATTACH;FMTTYPE=image/jpeg:https://www.monmouth.edu/events/wp-content/uploads/sites/19/2018/07/holiday-breaks-placeholder.jpg
END:VEVENT
BEGIN:VEVENT
DTSTART;VALUE=DATE:20140901
DTEND;VALUE=DATE:20140902
DTSTAMP:20260422T152010
CREATED:20180725T204627Z
LAST-MODIFIED:20180725T204627Z
UID:40810103270-1409529600-1409615999@www.monmouth.edu
SUMMARY:Labor Day
DESCRIPTION:Have a wonderful holiday!
URL:https://www.monmouth.edu/events/event/labor-day/
CATEGORIES:Academic Calendar,Holiday / Breaks
ATTACH;FMTTYPE=image/jpeg:https://www.monmouth.edu/events/wp-content/uploads/sites/19/2018/07/holiday-breaks-placeholder.jpg
END:VEVENT
END:VCALENDAR