BEGIN:VCALENDAR
VERSION:2.0
PRODID:-//Events - ECPv6.15.20//NONSGML v1.0//EN
CALSCALE:GREGORIAN
METHOD:PUBLISH
X-WR-CALNAME:Events
X-ORIGINAL-URL:https://www.monmouth.edu/events
X-WR-CALDESC:Events for Events
REFRESH-INTERVAL;VALUE=DURATION:PT1H
X-Robots-Tag:noindex
X-PUBLISHED-TTL:PT1H
BEGIN:VTIMEZONE
TZID:America/New_York
BEGIN:DAYLIGHT
TZOFFSETFROM:-0500
TZOFFSETTO:-0400
TZNAME:EDT
DTSTART:20250309T070000
END:DAYLIGHT
BEGIN:STANDARD
TZOFFSETFROM:-0400
TZOFFSETTO:-0500
TZNAME:EST
DTSTART:20251102T060000
END:STANDARD
BEGIN:DAYLIGHT
TZOFFSETFROM:-0500
TZOFFSETTO:-0400
TZNAME:EDT
DTSTART:20260308T070000
END:DAYLIGHT
BEGIN:STANDARD
TZOFFSETFROM:-0400
TZOFFSETTO:-0500
TZNAME:EST
DTSTART:20261101T060000
END:STANDARD
BEGIN:DAYLIGHT
TZOFFSETFROM:-0500
TZOFFSETTO:-0400
TZNAME:EDT
DTSTART:20270314T070000
END:DAYLIGHT
BEGIN:STANDARD
TZOFFSETFROM:-0400
TZOFFSETTO:-0500
TZNAME:EST
DTSTART:20271107T060000
END:STANDARD
END:VTIMEZONE
BEGIN:VEVENT
DTSTART;TZID=America/New_York:20260413T100000
DTEND;TZID=America/New_York:20260426T170000
DTSTAMP:20260421T165438
CREATED:20260406T154257Z
LAST-MODIFIED:20260407T153154Z
UID:40810122127-1776074400-1777222800@www.monmouth.edu
SUMMARY:Robert Mueller - Man & Machine
DESCRIPTION:Exhibition Talk: 5pm on April 13th at the Great Hall Auditorium \nClosing Reception: April 26\, 6-8pm \nGallery Hours: Monday-Friday\, 10am-5pm | Saturday & Sunday\, 10am-4pm
URL:https://www.monmouth.edu/events/event/robert-mueller/
LOCATION:Rotary Ice House Gallery
CATEGORIES:Alumni,Art and Design,Arts at Monmouth,Current Student,Faculty,Free
ATTACH;FMTTYPE=image/jpeg:https://www.monmouth.edu/events/wp-content/uploads/sites/19/2026/04/5975e6f3-9f23-49ae-8b80-5f9c73833dc8-1.jpg
END:VEVENT
BEGIN:VEVENT
DTSTART;TZID=America/New_York:20260413T100000
DTEND;TZID=America/New_York:20260426T170000
DTSTAMP:20260421T165438
CREATED:20260406T160938Z
LAST-MODIFIED:20260406T213657Z
UID:40810122099-1776074400-1777222800@www.monmouth.edu
SUMMARY:Senior Exhibition 2026
DESCRIPTION:Featuring the work of Monmouth University graduating seniors who will receive their degrees from the Department of Art & Design. \nClosing Reception: April 26 from 1 to 4 p.m. \nGallery Hours: Monday-Friday\, 10am-5pm | Saturday & Sunday\, 10am-4pm
URL:https://www.monmouth.edu/events/event/senior-exhibition-2026/
LOCATION:DiMattio Gallery at Rechnitz Hall
CATEGORIES:Art and Design,Art Exhibitions,Arts at Monmouth,Free
ATTACH;FMTTYPE=image/jpeg:https://www.monmouth.edu/events/wp-content/uploads/sites/19/2026/04/758a97cc-6a2d-4213-a119-fae9046b1276-3.jpg
END:VEVENT
BEGIN:VEVENT
DTSTART;TZID=America/New_York:20260415T100000
DTEND;TZID=America/New_York:20260415T130000
DTSTAMP:20260421T165438
CREATED:20260108T201707Z
LAST-MODIFIED:20260108T203025Z
UID:40810120689-1776247200-1776258000@www.monmouth.edu
SUMMARY:2026 Spring Career & Internship Fair
DESCRIPTION:Join Monmouth University for our in-person Spring 2026 Career and Internship Fair! This fair attracts 100+ companies across all industries and provides a great opportunity for employers\, alumni\, and students from all class years and majors to connect and explore career opportunities.
URL:https://www.monmouth.edu/events/event/2026-spring-career-internship-fair/
LOCATION:Gaffney Court\, OceanFirst Bank Center
CATEGORIES:Alumni,Alumni Events,Current Student,Free
END:VEVENT
BEGIN:VEVENT
DTSTART;TZID=America/New_York:20260415T163000
DTEND;TZID=America/New_York:20260415T180000
DTSTAMP:20260421T165438
CREATED:20260402T203100Z
LAST-MODIFIED:20260403T160511Z
UID:40810122091-1776270600-1776276000@www.monmouth.edu
SUMMARY:Visiting Writers Series with Megha Majumdar
DESCRIPTION:Free & Open to the Public\, but registration is required.  \nPlease join us for a keynote event: Megha Majumdar \nNational Bestseller\nWinner of the Andrew Carnegie Medal for Excellence\nFinalist for the National Book Award\nOprah’s Book Club Pick & NYPL/WNYC Get Lit March Book Club \nIn conversation with Monmouth University students & book signing. Welcome by Dr. Patrick Leahy\, Monmouth University President \nSponsored by:\nThe Office of the President\nThe Office of the Provost\nThe Department of Political Science and Sociology\nThe Freed Endowed Chair in Social Sciences\nThe Rechnitz Family/UCI Endowed Chair in Marine & Environmental Law and Policy\nMonmouth University Bookstore
URL:https://www.monmouth.edu/events/event/visiting-writers-series-with-megha-majumdar/
LOCATION:Great Hall Auditorium
CATEGORIES:Alumni,Arts at Monmouth,Community Member,Current Student,English,Faculty,Free,Lectures,School of Humanities and Social Sciences,World Languages and Culture
ATTACH;FMTTYPE=image/jpeg:https://www.monmouth.edu/events/wp-content/uploads/sites/19/2026/04/Copy-of-Untitled-Design.jpg
END:VEVENT
BEGIN:VEVENT
DTSTART;TZID=America/New_York:20260417T170000
DTEND;TZID=America/New_York:20260417T200000
DTSTAMP:20260421T165438
CREATED:20260403T204918Z
LAST-MODIFIED:20260413T185830Z
UID:40810122123-1776445200-1776456000@www.monmouth.edu
SUMMARY:Hawk TV 30th Anniversary Celebration
DESCRIPTION:Alumni of Hawk TV are invited to celebrate it’s 30th anniversary. Join us as we celebrate 30 years of Hawk TV\, honoring the stories\, creativity\, and talent that have shaped this incredible student-run organization. Reconnect with fellow alumni\, meet current students\, and take a walk down memory lane as we highlight some of Hawk TV’s most memorable moments. We hope you’ll be part of this special celebration!
URL:https://www.monmouth.edu/events/event/hawk-tv-30th-anniversary-celebration/
LOCATION:Plangere Center
CATEGORIES:Alumni,Communication,Free,Social Events
ATTACH;FMTTYPE=image/png:https://www.monmouth.edu/events/wp-content/uploads/sites/19/2026/04/Logo1.png
END:VEVENT
END:VCALENDAR