BEGIN:VCALENDAR
VERSION:2.0
PRODID:-//Events - ECPv6.15.20//NONSGML v1.0//EN
CALSCALE:GREGORIAN
METHOD:PUBLISH
X-WR-CALNAME:Events
X-ORIGINAL-URL:https://www.monmouth.edu/events
X-WR-CALDESC:Events for Events
REFRESH-INTERVAL;VALUE=DURATION:PT1H
X-Robots-Tag:noindex
X-PUBLISHED-TTL:PT1H
BEGIN:VTIMEZONE
TZID:America/New_York
BEGIN:DAYLIGHT
TZOFFSETFROM:-0500
TZOFFSETTO:-0400
TZNAME:EDT
DTSTART:20230312T070000
END:DAYLIGHT
BEGIN:STANDARD
TZOFFSETFROM:-0400
TZOFFSETTO:-0500
TZNAME:EST
DTSTART:20231105T060000
END:STANDARD
BEGIN:DAYLIGHT
TZOFFSETFROM:-0500
TZOFFSETTO:-0400
TZNAME:EDT
DTSTART:20240310T070000
END:DAYLIGHT
BEGIN:STANDARD
TZOFFSETFROM:-0400
TZOFFSETTO:-0500
TZNAME:EST
DTSTART:20241103T060000
END:STANDARD
BEGIN:DAYLIGHT
TZOFFSETFROM:-0500
TZOFFSETTO:-0400
TZNAME:EDT
DTSTART:20250309T070000
END:DAYLIGHT
BEGIN:STANDARD
TZOFFSETFROM:-0400
TZOFFSETTO:-0500
TZNAME:EST
DTSTART:20251102T060000
END:STANDARD
END:VTIMEZONE
BEGIN:VEVENT
DTSTART;TZID=America/New_York:20240903T000000
DTEND;TZID=America/New_York:20241220T235959
DTSTAMP:20260425T112218
CREATED:20240716T151454Z
LAST-MODIFIED:20240812T131140Z
UID:40810112570-1725321600-1734739199@www.monmouth.edu
SUMMARY:I Wish That I Had Spoken Only of It All: 20 Years of Sheryl Oring’s I Wish to Say
DESCRIPTION:Curated by Corey Dzenko\, Associate Professor of Art History\nWith backgrounds in journalism and fine art\, Sheryl Oring began her ongoing project I Wish to Say in 2004 from a concern that many people’s voices were not being heard. She started to take dictation from the public about what they wanted to say to the (next) President. Dressed as a 1960s secretary with a typewriter\, she records whatever participants say onto a postcard\, making copies with carbon paper. During larger events\, a secretarial bank takes dictation. Oring mails the postcards to the White House and exhibits copies. To date she has typed over 4241 postcards. \nFor this exhibition\, MU’s DiMattio Gallery will chronologically display hundreds of I Wish to Say postcards\, photographs\, and videos of performances\, along with larger prints of select postcard texts. A timeline on the wall will note the presidential elections that span Oring’s project. The empty wall space for 2024 will fill as MU student-typists add postcards they collect during the current election season. The other half of the gallery will showcase a selection of Oring’s related projects that all involve a question\, active listening\, and a typewriter for a secretary to record dictation. These include Collective Memory (September 2011)\, recorded memories of the 9-11 attacks; Travel Desk (2014)\, travel stories that were then carved into a wooden table now installed in the San Diego International Airport; and other artworks. \nMulti-part programming will include an artist’s talk to showcase Oring’s timely and inclusive artmaking practice. MU students will participate as typists at numerous live events throughout the exhibition’s duration. MU faculty from various disciplines will hold public teach-ins in the gallery about topics related to Oring’s project. Finally\, MU is collaborating with nearby Neptune and Long Branch school districts so that high school students can dictate their own postcards to the future president. As an educator\, Oring has involved younger constituencies\, empowering the next generation of participants in both US democracy and artmaking. \nOring performs I Wish to Say: Thursday\, September 19\, 2024\, 11am-1pm\, Rebecca Stafford Student Center Patio \nArtist talk: Thursday\, September 19\, 2024\, 4:30-5:30pm\, Great Hall Auditorium\nOpening Reception: Thursday\, September 19\, 2024\, 5:30-7:30pm\, DiMattio Gallery\, Rechnitz Hall \nAbout the Artist\nSheryl Oring examines critical social issues through projects that incorporate old and new media to tell stories\, examine public opinion\, and foster open exchange. Using tools typically employed by journalists (the camera\, the typewriter\, the pen\, the interview\, and the archive)\, she builds on her experience in her former profession to create installations\, performances\, artist books\, and internet-based works that address themes of citizenship\, free expression\, first amendment rights\, story-telling\, and activism through art. Oring received her MFA from the University of California at San Diego. She is currently a board member for the National Coalition Against Censorship. She has held several academic positions\, most recently serving as the Dean of the School of Art at University of the Arts in Philadelphia. \nOring has shown her work at the O1SJ Biennial; Bryant Park in Manhattan; the Brooklyn Public Library; and the Jewish Museum Berlin. She has also presented work at Art in Odd Places in New York; the Art Prospect festival in St. Petersburg\, Russia; Encuentro in São Paolo\, Brazil; and the International Symposium on Electronic Art in Dubai. She has completed public art commissions at the San Diego and Tampa International Airports. Collecting institutions include the Library of Congress; Museum of Modern Art; Tate Britain; Bibliothèque nationale de Luxembourg; and many others. \nFor more information\, see: https://www.sheryloring.org/\nOr contact Dr. Corey Dzenko\, cdzenko@monmouth.edu \nThis exhibition was made possible with funding from the Edna Wright Andrade Fund of the Philadelphia Foundation and from the Diversity Innovation Grant Program coordinated by the Office of the Provost and Intercultural Center at Monmouth University. Thank you also to ArtNOW\, the Helen Bennett McMurray Endowed Chair of Social Ethics\, and Monmouth University’s Department of Art and Design and Department of Curriculum and Instruction.
URL:https://www.monmouth.edu/events/event/i-wish-that-i-had-spoken-only-of-it-all-20-years-of-sheryl-orings-i-wish-to-say/
LOCATION:DiMattio Gallery at Rechnitz Hall
CATEGORIES:Art and Design,Art Exhibitions,Arts at Monmouth,Free
ATTACH;FMTTYPE=image/jpeg:https://www.monmouth.edu/events/wp-content/uploads/sites/19/2024/07/oring_header3.jpg
END:VEVENT
BEGIN:VEVENT
DTSTART;TZID=America/New_York:20240903T050000
DTEND;TZID=America/New_York:20241210T045959
DTSTAMP:20260425T112218
CREATED:20240826T171236Z
LAST-MODIFIED:20240830T184807Z
UID:40810112642-1725339600-1733806799@www.monmouth.edu
SUMMARY:Michael Anthony Donato: Angels & Devils
DESCRIPTION:Michael Anthony Donato\, a School of Visual Arts graduate\, is an award-winning children’s book illustrator. His work on Squanto and the First Thanksgiving aired on Showtime and earned honors from the American Library Association. His illustrations for Tales Alive\, a collection of global folktales\, received a Parents’ Choice Award. Donato also collaborated with Simon & Schuster and the Metropolitan Museum of Art on Voyage Up the Nile. He currently teaches drawing and advanced painting at Monmouth University. \nArtist Reception: October 18\, 5-7 PM
URL:https://www.monmouth.edu/events/event/michael-anthony-donato-angels-devils/
LOCATION:Pollak Gallery
CATEGORIES:Art Exhibitions,Arts at Monmouth,Free
ATTACH;FMTTYPE=image/jpeg:https://www.monmouth.edu/events/wp-content/uploads/sites/19/2024/08/donato_header.jpg
END:VEVENT
BEGIN:VEVENT
DTSTART;TZID=America/New_York:20241202T114000
DTEND;TZID=America/New_York:20241202T130000
DTSTAMP:20260425T112218
CREATED:20240827T194445Z
LAST-MODIFIED:20241028T184323Z
UID:40810112663-1733139600-1733144400@www.monmouth.edu
SUMMARY:I Wish to Say Teach-In Series
DESCRIPTION:This fall the DiMattio Gallery is hosting I Wish That I Had Spoken Only of It All\, an exhibition of Sheryl Oring’s social practice project I Wish to Say and related works. Part of our programming will be a teach-in series from MU faculty about topics related to themes that intersect with Oring’s project as art reaches across disciplinary bounds. These teach-ins will be free and open to the public. \nSince 2004\, Oring has traveled with her typewriter to different public spaces and colleges and universities\, asking community members to dictate and mail postcards to the US President. To date\, she has typed over 4241 postcards in her attempt to use art as a catalyst for social change. With her project\, she encourages civic engagement and dialogue in our society (https://www.sheryloring.org/i-wish-to-say). \nOur teach-in series will be held in the DiMattio Gallery and currently includes: \nWednesday\, September 25\, 2024\, 4:30-5:15pm\nDr. Katherine Parkin (History)\n“Native American Reproductive Lives in the Archives” \nTuesday\, October 1\, 2024\, 6-7pm\nDr. Kristin Bluemel (English)\n“Green Worlds in Black and White: Feminist Readings of the 1930s Wood Engraving Revival”\n** Presented as part of the annual lecture series “Ink and Electricity: Advancing Liberal Learning in the Digital Age\,” hosted by the Wayne D. McMurray-Helen Bennett Endowed Chair in the Humanities. \nThursday\, October 10\, 2024\, 2:50-4:10pm\nDr. Laura Turner (Math)\n“Solving for XX: Histories of Sexism in Mathematical Practice” \nWednesday\, October 16\, 2024\, 1:15-2:15pm\nProf. Kimberly Callas (Studio Art)\n“Socially Engaged Drawings” (an opportunity to create your own postcard drawings) \nMonday\, November 25\, 4:30-5:50pm\nDr. Jason Fitzgerald (Education–Curriculum and Instruction)\n“Fostering Students’ Civic Voices” \nMonday\, December 2\, 11:40am-1pm\nDr. Johanna Foster (Sociology)\n“Changing Systems\, Not Just People: The Sociology of Social Justice Work” \nIn addition to the Teach-In Series\, these other events will be taking place in conjunction with the exhibition. \nOring performs I Wish to Say: Thursday\, September 19\, 2024\, 11am-1pm\, Rebecca Stafford Student Center Patio \nArtist talk: Thursday\, September 19\, 2024\, 4:30-5:30pm\, Great Hall Auditorium\nOpening Reception: Thursday\, September 19\, 2024\, 5:30-7:30pm\, DiMattio Gallery\, Rechnitz Hall \nFor more information\, contact the exhibition curator\, Prof. Corey Dzenko at cdzenko@monmouth.edu.
URL:https://www.monmouth.edu/events/event/i-wish-to-say-teach-in-series/2024-12-02/
LOCATION:DiMattio Gallery at Rechnitz Hall
CATEGORIES:Art Exhibitions,Arts at Monmouth,Free,Lectures,Lectures/Workshops/Symposiums
ATTACH;FMTTYPE=image/jpeg:https://www.monmouth.edu/events/wp-content/uploads/sites/19/2024/08/teachinheader.jpg
END:VEVENT
BEGIN:VEVENT
DTSTART;TZID=America/New_York:20241203T193000
DTEND;TZID=America/New_York:20241203T210000
DTSTAMP:20260425T112218
CREATED:20240605T141954Z
LAST-MODIFIED:20240926T172423Z
UID:40810112480-1733254200-1733259600@www.monmouth.edu
SUMMARY:Queen\, A Night at the Opera
DESCRIPTION:It’s just like book club but with albums! With new advances in technology\, the way we consume music through our devices\, apps and on demand streaming services like Pandora\, Spotify and iTunes is making the idea of the “album” as an art form extinct. Get together with other music enthusiasts on Tuesday nights to discuss some of the greatest records of all-time! Listen to the album beforehand and then come prepared to discuss. This event will feature Queen\, A Night at the Opera. \nThis event is offered BOTH in person and via Zoom. Join us in person at the WOODS THEATRE on the Campus of Monmouth University or join us via zoom. When you register you will be provided the ZOOM meeting link to join the conversation. \nFree and open to the public\, but registration is required.
URL:https://www.monmouth.edu/events/event/queen-a-night-at-the-opera/
LOCATION:Woods Theatre/Virtual\, 400 Cedar Ave\, West Long Branch\, NJ\, 07764\, United States
CATEGORIES:Alumni,Alumni Affairs,Alumni Events,Arts at Monmouth,Free,Lectures,Lectures/Workshops/Symposiums
ATTACH;FMTTYPE=image/jpeg:https://www.monmouth.edu/events/wp-content/uploads/sites/19/2024/06/queen_header.jpg
END:VEVENT
BEGIN:VEVENT
DTSTART;TZID=America/New_York:20241206T163000
DTEND;TZID=America/New_York:20241206T180000
DTSTAMP:20260425T112218
CREATED:20241202T183037Z
LAST-MODIFIED:20241203T151543Z
UID:40810115922-1733502600-1733508000@www.monmouth.edu
SUMMARY:Monmouth Review Early Bird Submission Party
DESCRIPTION:Join the Monmouth Review for their Early Bird Submission Party! If you’ve submitted by the early bird deadline on December 6th you will be entered to win gift cards and prizes.
URL:https://www.monmouth.edu/events/event/monmouth-review-early-bird-submission-party/
LOCATION:Rechnitz Hall
CATEGORIES:Free
ATTACH;FMTTYPE=image/png:https://www.monmouth.edu/events/wp-content/uploads/sites/19/2024/12/Untitled-1-Post.png
END:VEVENT
BEGIN:VEVENT
DTSTART;TZID=America/New_York:20241206T190000
DTEND;TZID=America/New_York:20241206T210000
DTSTAMP:20260425T112218
CREATED:20241203T143004Z
LAST-MODIFIED:20241203T144113Z
UID:40810115929-1733511600-1733518800@www.monmouth.edu
SUMMARY:Blue Hawk Records – Album Release Event
DESCRIPTION:The Record Label Strategies class along with the rest of the Blue Hawk team invites you to celebrate the release of their 25th compilation album “Signature Edition”! Blue Hawk Records is partnering with WMCX on this milestone release. Join us for some live music\, food\, and a giveaway!
URL:https://www.monmouth.edu/events/event/blue-hawk-records-album-release-event-2/
LOCATION:Plangere 235
CATEGORIES:Arts at Monmouth,Concerts,Free,Music
ATTACH;FMTTYPE=image/jpeg:https://www.monmouth.edu/events/wp-content/uploads/sites/19/2024/12/bluehawk_header.jpg
END:VEVENT
BEGIN:VEVENT
DTSTART;TZID=America/New_York:20241207T080000
DTEND;TZID=America/New_York:20241207T233000
DTSTAMP:20260425T112218
CREATED:20241205T152832Z
LAST-MODIFIED:20241205T152832Z
UID:40810115938-1733558400-1733614200@www.monmouth.edu
SUMMARY:Game Room
DESCRIPTION:Enjoy some games to de-stress for finals!
URL:https://www.monmouth.edu/events/event/game-room-2/
LOCATION:Library Room 101 – 1st Floor
CATEGORIES:Featured Student Activites,Free,Social Events
END:VEVENT
END:VCALENDAR