BEGIN:VCALENDAR
VERSION:2.0
PRODID:-//Events - ECPv6.15.20//NONSGML v1.0//EN
CALSCALE:GREGORIAN
METHOD:PUBLISH
X-WR-CALNAME:Events
X-ORIGINAL-URL:https://www.monmouth.edu/events
X-WR-CALDESC:Events for Events
REFRESH-INTERVAL;VALUE=DURATION:PT1H
X-Robots-Tag:noindex
X-PUBLISHED-TTL:PT1H
BEGIN:VTIMEZONE
TZID:America/New_York
BEGIN:DAYLIGHT
TZOFFSETFROM:-0500
TZOFFSETTO:-0400
TZNAME:EDT
DTSTART:20230312T070000
END:DAYLIGHT
BEGIN:STANDARD
TZOFFSETFROM:-0400
TZOFFSETTO:-0500
TZNAME:EST
DTSTART:20231105T060000
END:STANDARD
BEGIN:DAYLIGHT
TZOFFSETFROM:-0500
TZOFFSETTO:-0400
TZNAME:EDT
DTSTART:20240310T070000
END:DAYLIGHT
BEGIN:STANDARD
TZOFFSETFROM:-0400
TZOFFSETTO:-0500
TZNAME:EST
DTSTART:20241103T060000
END:STANDARD
BEGIN:DAYLIGHT
TZOFFSETFROM:-0500
TZOFFSETTO:-0400
TZNAME:EDT
DTSTART:20250309T070000
END:DAYLIGHT
BEGIN:STANDARD
TZOFFSETFROM:-0400
TZOFFSETTO:-0500
TZNAME:EST
DTSTART:20251102T060000
END:STANDARD
END:VTIMEZONE
BEGIN:VEVENT
DTSTART;TZID=America/New_York:20240903T000000
DTEND;TZID=America/New_York:20241220T235959
DTSTAMP:20260424T215007
CREATED:20240716T151454Z
LAST-MODIFIED:20240812T131140Z
UID:40810112570-1725321600-1734739199@www.monmouth.edu
SUMMARY:I Wish That I Had Spoken Only of It All: 20 Years of Sheryl Oring’s I Wish to Say
DESCRIPTION:Curated by Corey Dzenko\, Associate Professor of Art History\nWith backgrounds in journalism and fine art\, Sheryl Oring began her ongoing project I Wish to Say in 2004 from a concern that many people’s voices were not being heard. She started to take dictation from the public about what they wanted to say to the (next) President. Dressed as a 1960s secretary with a typewriter\, she records whatever participants say onto a postcard\, making copies with carbon paper. During larger events\, a secretarial bank takes dictation. Oring mails the postcards to the White House and exhibits copies. To date she has typed over 4241 postcards. \nFor this exhibition\, MU’s DiMattio Gallery will chronologically display hundreds of I Wish to Say postcards\, photographs\, and videos of performances\, along with larger prints of select postcard texts. A timeline on the wall will note the presidential elections that span Oring’s project. The empty wall space for 2024 will fill as MU student-typists add postcards they collect during the current election season. The other half of the gallery will showcase a selection of Oring’s related projects that all involve a question\, active listening\, and a typewriter for a secretary to record dictation. These include Collective Memory (September 2011)\, recorded memories of the 9-11 attacks; Travel Desk (2014)\, travel stories that were then carved into a wooden table now installed in the San Diego International Airport; and other artworks. \nMulti-part programming will include an artist’s talk to showcase Oring’s timely and inclusive artmaking practice. MU students will participate as typists at numerous live events throughout the exhibition’s duration. MU faculty from various disciplines will hold public teach-ins in the gallery about topics related to Oring’s project. Finally\, MU is collaborating with nearby Neptune and Long Branch school districts so that high school students can dictate their own postcards to the future president. As an educator\, Oring has involved younger constituencies\, empowering the next generation of participants in both US democracy and artmaking. \nOring performs I Wish to Say: Thursday\, September 19\, 2024\, 11am-1pm\, Rebecca Stafford Student Center Patio \nArtist talk: Thursday\, September 19\, 2024\, 4:30-5:30pm\, Great Hall Auditorium\nOpening Reception: Thursday\, September 19\, 2024\, 5:30-7:30pm\, DiMattio Gallery\, Rechnitz Hall \nAbout the Artist\nSheryl Oring examines critical social issues through projects that incorporate old and new media to tell stories\, examine public opinion\, and foster open exchange. Using tools typically employed by journalists (the camera\, the typewriter\, the pen\, the interview\, and the archive)\, she builds on her experience in her former profession to create installations\, performances\, artist books\, and internet-based works that address themes of citizenship\, free expression\, first amendment rights\, story-telling\, and activism through art. Oring received her MFA from the University of California at San Diego. She is currently a board member for the National Coalition Against Censorship. She has held several academic positions\, most recently serving as the Dean of the School of Art at University of the Arts in Philadelphia. \nOring has shown her work at the O1SJ Biennial; Bryant Park in Manhattan; the Brooklyn Public Library; and the Jewish Museum Berlin. She has also presented work at Art in Odd Places in New York; the Art Prospect festival in St. Petersburg\, Russia; Encuentro in São Paolo\, Brazil; and the International Symposium on Electronic Art in Dubai. She has completed public art commissions at the San Diego and Tampa International Airports. Collecting institutions include the Library of Congress; Museum of Modern Art; Tate Britain; Bibliothèque nationale de Luxembourg; and many others. \nFor more information\, see: https://www.sheryloring.org/\nOr contact Dr. Corey Dzenko\, cdzenko@monmouth.edu \nThis exhibition was made possible with funding from the Edna Wright Andrade Fund of the Philadelphia Foundation and from the Diversity Innovation Grant Program coordinated by the Office of the Provost and Intercultural Center at Monmouth University. Thank you also to ArtNOW\, the Helen Bennett McMurray Endowed Chair of Social Ethics\, and Monmouth University’s Department of Art and Design and Department of Curriculum and Instruction.
URL:https://www.monmouth.edu/events/event/i-wish-that-i-had-spoken-only-of-it-all-20-years-of-sheryl-orings-i-wish-to-say/
LOCATION:DiMattio Gallery at Rechnitz Hall
CATEGORIES:Art and Design,Art Exhibitions,Arts at Monmouth,Free
ATTACH;FMTTYPE=image/jpeg:https://www.monmouth.edu/events/wp-content/uploads/sites/19/2024/07/oring_header3.jpg
END:VEVENT
BEGIN:VEVENT
DTSTART;TZID=America/New_York:20240903T050000
DTEND;TZID=America/New_York:20241210T045959
DTSTAMP:20260424T215007
CREATED:20240826T171236Z
LAST-MODIFIED:20240830T184807Z
UID:40810112642-1725339600-1733806799@www.monmouth.edu
SUMMARY:Michael Anthony Donato: Angels & Devils
DESCRIPTION:Michael Anthony Donato\, a School of Visual Arts graduate\, is an award-winning children’s book illustrator. His work on Squanto and the First Thanksgiving aired on Showtime and earned honors from the American Library Association. His illustrations for Tales Alive\, a collection of global folktales\, received a Parents’ Choice Award. Donato also collaborated with Simon & Schuster and the Metropolitan Museum of Art on Voyage Up the Nile. He currently teaches drawing and advanced painting at Monmouth University. \nArtist Reception: October 18\, 5-7 PM
URL:https://www.monmouth.edu/events/event/michael-anthony-donato-angels-devils/
LOCATION:Pollak Gallery
CATEGORIES:Art Exhibitions,Arts at Monmouth,Free
ATTACH;FMTTYPE=image/jpeg:https://www.monmouth.edu/events/wp-content/uploads/sites/19/2024/08/donato_header.jpg
END:VEVENT
BEGIN:VEVENT
DTSTART;TZID=America/New_York:20241106T120000
DTEND;TZID=America/New_York:20241106T120000
DTSTAMP:20260424T215007
CREATED:20240923T145659Z
LAST-MODIFIED:20241104T204648Z
UID:40810114313-1730894400-1730894400@www.monmouth.edu
SUMMARY:Alumni Speaker Series: "Lunch and Learn" with Brian Alaburda ’10
DESCRIPTION:Brian Alaburda is an accomplished sales professional with a proven track record in driving business growth and forging strategic partnerships. Currently serving as a client partner executive in strategic sales at T-Mobile\, Alaburda has been instrumental in securing key Fortune 100 accounts and managing high-impact client relationships since 2019. His role at T-Mobile has included everything from prospecting and selling small businesses\, all the way through managing some of the biggest companies in the world. In this virtual session\, learn more about the role of sales\, key skills needed\, and how to overcome the common misconceptions.
URL:https://www.monmouth.edu/events/event/alumni-speaker-series-lunch-and-learn-with-brian-alaburda-10/
LOCATION:Virtual (Zoom)
CATEGORIES:Alumni,Alumni Calendar Featured,Alumni Events,Free,Lectures,Virtual,Workshops and Professional Development
END:VEVENT
BEGIN:VEVENT
DTSTART;TZID=America/New_York:20241106T120000
DTEND;TZID=America/New_York:20241106T133000
DTSTAMP:20260424T215007
CREATED:20241021T134215Z
LAST-MODIFIED:20241021T134215Z
UID:40810115100-1730894400-1730899800@www.monmouth.edu
SUMMARY:"Lunch and Learn" with T-Mobile Sales Professional
DESCRIPTION:Join alumnus\, Brian Alaburda ’10 🦅\, Sales Professional at T-Mobile\, as he shares his career journey in sales\, key skills needed\, and how to overcome common misconceptions. Whether you are a new graduate looking to explore a career in sales or you are looking for a change\, this session is for you! \nNavigating the World of Sales: Skills\, Strategies\, Stigmas\, and Success \nBrian Alaburda is an accomplished sales professional with a proven track record in driving business growth and forging strategic partnerships. Currently serving as a client partner executive in strategic sales at T-Mobile\, Alaburda has been instrumental in securing key Fortune 100 accounts and managing high-impact client relationships since 2019. His role at T-Mobile has included everything from prospecting and selling small businesses\, all the way through managing some of the biggest companies in the world. In this virtual session\, learn more about the role of sales\, key skills needed\, and how to overcome the common misconceptions.\nLive via Zoom \nWednesday\, Nov. 6\, 2024 | 12 p.m.\nFree Event \nRegister for the event now by visiting: https://monmouth.joinhandshake.com/events/1630728/share_preview!
URL:https://www.monmouth.edu/events/event/lunch-and-learn-with-t-mobile-sales-professional/
LOCATION:Zoom (Online)
CATEGORIES:Free,Workshops and Professional Development
ORGANIZER;CN="Career Development":MAILTO:careerdevelopment@monmouth.edu
END:VEVENT
BEGIN:VEVENT
DTSTART;TZID=America/New_York:20241106T120000
DTEND;TZID=America/New_York:20241106T133000
DTSTAMP:20260424T215007
CREATED:20241028T182918Z
LAST-MODIFIED:20241028T182918Z
UID:40810115177-1730894400-1730899800@www.monmouth.edu
SUMMARY:Teaching Climate Change to Public School Teachers
DESCRIPTION:This is the first event of the Fellowship of Environmental Faculty\, co-sponsored by the Institute for Global Understanding. \nWith: \n\nMichelle Schpakow\nCatherine Duckett\nPeter Jacques
URL:https://www.monmouth.edu/events/event/teaching-climate-change-to-public-school-teachers/
LOCATION:Edison Science Building\, Room 228
CATEGORIES:Alumni,Community Member,Current Student,Faculty,Free,Institute for Global Understanding,Lectures,Lectures/Workshops/Symposiums
END:VEVENT
BEGIN:VEVENT
DTSTART;TZID=America/New_York:20241106T123000
DTEND;TZID=America/New_York:20241106T150000
DTSTAMP:20260424T215007
CREATED:20241028T132827Z
LAST-MODIFIED:20241028T173606Z
UID:40810115171-1730896200-1730905200@www.monmouth.edu
SUMMARY:Therapy Dogs & Ice Cream
DESCRIPTION:Celebrate International Stress Awareness Day by stopping by to pet therapy dogs\, enjoy ice cream\, and bracelet making.
URL:https://www.monmouth.edu/events/event/therapy-dogs-ice-cream/
LOCATION:Anacon Hall A and B
CATEGORIES:Free
END:VEVENT
BEGIN:VEVENT
DTSTART;TZID=America/New_York:20241106T163000
DTEND;TZID=America/New_York:20241106T173000
DTSTAMP:20260424T215007
CREATED:20240911T192142Z
LAST-MODIFIED:20240926T173047Z
UID:40810113899-1730910600-1730914200@www.monmouth.edu
SUMMARY:John Vercher
DESCRIPTION:John’s debut novel\, Three-Fifths\, was named one of the best books of 2019 by the Chicago Tribune. In the U.K.\, Three-Fifths was named a Book of the Year by The Sunday Times\, The Financial Times\, and The Guardian. His second novel\, After the Lights Go Out\, was published by Soho Press. It’s been called “simply brilliant” by Publishers Weekly in a starred review\, “shrewd and explosive” by The New York Times\, and was named an Editors’ Choice in Adult Fiction for 2022 by Booklist. His third novel\, Devil Is Fine has received starred reviews from Booklist and BookPage\, was named a Best New Book of the Summer by TIME Magazine and The Root\, an Indie Next pick for July\, and one of the Top Ten Books to Add to Your Reading List in June by the Los Angeles Times. Additionally\, Devil is Fine was a June book pick by The Center for Fiction\, one of the 12 Must-Read Books of June by The Chicago Review of Books\, a Book of the Day for July by NPR\, and was featured on NPR’s It’s Been A Minute.
URL:https://www.monmouth.edu/events/event/john-vercher/
LOCATION:Great Hall 104 (Julian Abele Room)
CATEGORIES:Alumni,Alumni Affairs,Alumni Events,Arts at Monmouth,English,Free
ATTACH;FMTTYPE=image/jpeg:https://www.monmouth.edu/events/wp-content/uploads/sites/19/2024/09/Vercher_header.jpg
END:VEVENT
BEGIN:VEVENT
DTSTART;TZID=America/New_York:20241106T170000
DTEND;TZID=America/New_York:20241106T190000
DTSTAMP:20260424T215007
CREATED:20241025T144442Z
LAST-MODIFIED:20241025T144513Z
UID:40810115159-1730912400-1730919600@www.monmouth.edu
SUMMARY:David Libesman: Al and Data Thought Leader (Industry Speaker Event)
DESCRIPTION:Hosted by the School of Science and the Computer Science and Software Engineering Department \n\nJoin us for an exclusive event featuring David Libesman (AI and data analytics thought leader; and SVP & GM\, AI & Data Analytics at WorkWave). Libesman has revolutionized how businesses leverage AI for optimizing profits\, operational efficiency\, and customer engagement. \n\n\nLearn how Al is disrupting traditional business models across industries.\nUnderstand how companies use predictive analytics and data-driven insights to gain a competitive edge.\nGain insights on how Al is transforming the service management landscape\, from automating schedules to enhancing customer support.\nAl-Driven Solutions: Discover how Al streamlines WorkWave’s service operations\, ensuring efficiency and accuracy.\nPredictive Analytics: Hear how predictive models are helping businesses forecast demand\, optimize resources\, and prevent customer churn.\n\n\n\n\nRegister for the Event
URL:https://www.monmouth.edu/events/event/david-libesman-al-and-data-thought-leader-industry-speaker-event/
LOCATION:Edison Hall E201
CATEGORIES:Alumni,Computer Science + Software Engineering,Current Student,Faculty,Free,Graduate Student,Lectures,Lectures/Workshops/Symposiums,Media,School of Science,Undergraduate Student,Workshops and Professional Development
END:VEVENT
END:VCALENDAR