BEGIN:VCALENDAR
VERSION:2.0
PRODID:-//Events - ECPv6.15.20//NONSGML v1.0//EN
CALSCALE:GREGORIAN
METHOD:PUBLISH
X-WR-CALNAME:Events
X-ORIGINAL-URL:https://www.monmouth.edu/events
X-WR-CALDESC:Events for Events
REFRESH-INTERVAL;VALUE=DURATION:PT1H
X-Robots-Tag:noindex
X-PUBLISHED-TTL:PT1H
BEGIN:VTIMEZONE
TZID:America/New_York
BEGIN:DAYLIGHT
TZOFFSETFROM:-0500
TZOFFSETTO:-0400
TZNAME:EDT
DTSTART:20250309T070000
END:DAYLIGHT
BEGIN:STANDARD
TZOFFSETFROM:-0400
TZOFFSETTO:-0500
TZNAME:EST
DTSTART:20251102T060000
END:STANDARD
BEGIN:DAYLIGHT
TZOFFSETFROM:-0500
TZOFFSETTO:-0400
TZNAME:EDT
DTSTART:20260308T070000
END:DAYLIGHT
BEGIN:STANDARD
TZOFFSETFROM:-0400
TZOFFSETTO:-0500
TZNAME:EST
DTSTART:20261101T060000
END:STANDARD
BEGIN:DAYLIGHT
TZOFFSETFROM:-0500
TZOFFSETTO:-0400
TZNAME:EDT
DTSTART:20270314T070000
END:DAYLIGHT
BEGIN:STANDARD
TZOFFSETFROM:-0400
TZOFFSETTO:-0500
TZNAME:EST
DTSTART:20271107T060000
END:STANDARD
END:VTIMEZONE
BEGIN:VEVENT
DTSTART;TZID=America/New_York:20260120T100000
DTEND;TZID=America/New_York:20260327T170000
DTSTAMP:20260421T224335
CREATED:20260130T010928Z
LAST-MODIFIED:20260319T145840Z
UID:40810121112-1768903200-1774630800@www.monmouth.edu
SUMMARY:Pop Surrealism: From the James and Maureen Dorment Collection
DESCRIPTION:Please note: The Gallery Reception has been rescheduled to March 12 from 7–9pm. \nPop Surrealism (or Lowbrow Art) is a contemporary art movement blending surrealism’s dreamlike\, unconscious themes with pop art’s imagery from popular culture\, cartoons\, comics\, and kitsch\, characterized by high technical skill\, satirical commentary\, and roots in underground scenes like hot-rod culture and punk rock\, often featuring fantastical characters and exploring social themes with dark humor and whimsy with magazines like Juxtapoz popularizing the style. The exhibition features key artists from this movement including Mark Ryden\, Camille Rose Garcia\, Ana Bagayan\, Swoon\, Neckface\, Barnaby Whitfield\, John John Jessie\, Tim Biskup\, Liz McGrath\, Mark Ryden\, Aaron Johnson\, Camille Rose Garcia\, R. Crumb\, and many more.
URL:https://www.monmouth.edu/events/event/pop-surrealism-james-and-maureen-dorment/
LOCATION:DiMattio Gallery at Rechnitz Hall
CATEGORIES:Alumni,Art and Design,Art Exhibitions,Arts at Monmouth,Community Member,Current Student,Faculty,Free
ATTACH;FMTTYPE=application/pdf:https://www.monmouth.edu/events/wp-content/uploads/sites/19/2026/01/Aaron-Johnson.pdf
END:VEVENT
BEGIN:VEVENT
DTSTART;TZID=America/New_York:20260303T193000
DTEND;TZID=America/New_York:20260303T210000
DTSTAMP:20260421T224335
CREATED:20250502T165854Z
LAST-MODIFIED:20260105T172317Z
UID:40810119151-1772566200-1772571600@www.monmouth.edu
SUMMARY:Kate Bush\, Hounds of Love
DESCRIPTION:It’s just like book club but with albums! With new advances in technology\, the way we consume music through our devices\, apps and on demand streaming services like Pandora\, Spotify and iTunes is making the idea of the “album” as an art form extinct. Get together with other music enthusiasts on Tuesday nights to discuss some of the greatest records of all-time! Listen to the album beforehand and then come prepared to discuss. This event will feature Kate Bush\, Hounds of Love. \nThis event is offered BOTH in person and via Zoom. Join us in person at the Great Hall Auditorium on the Campus of Monmouth University or join us via zoom. When you register you will be provided the ZOOM meeting link to join the conversation. \nFree and open to the public\, but registration is required.
URL:https://www.monmouth.edu/events/event/kate-bush-hounds-of-love/
LOCATION:The Great Hall Auditorium/Virtual\, 400 Cedar Ave\, West Long Branch\, NJ\, 07720\, United States
CATEGORIES:Arts at Monmouth,Free,Music,Virtual
ATTACH;FMTTYPE=image/jpeg:https://www.monmouth.edu/events/wp-content/uploads/sites/19/2025/05/Bush-e1747056259184.jpg
ORGANIZER;CN="Kenneth Womack":MAILTO:kwomack@monmouth.edu
END:VEVENT
BEGIN:VEVENT
DTSTART;TZID=America/New_York:20260311T163000
DTEND;TZID=America/New_York:20260311T173000
DTSTAMP:20260421T224335
CREATED:20260122T205200Z
LAST-MODIFIED:20260122T205200Z
UID:40810120999-1773246600-1773250200@www.monmouth.edu
SUMMARY:Artist Talk: Jake Yuzna
DESCRIPTION:Jake Yuzna (Filmmaker and Monmouth University Assistant Professor)\nArtist Talk\nMarch 11\, 2026\, 4:30pm – 5:30pm\nPozycki Hall\, Lecture Hall 115\n\nJoin us as we welcome the Department of Communication’s newest faculty member to campus\, Assistant Professor Jake Yuzna\, who will share an artist talk and selects from their creative practice. Yuzna is a filmmaker\, artist\, and curator whose work often explores evolving identities\, subculture\, and genre. Their films have been presented at the Cannes Film Festival\, Berlin Film Festival\, London Film Festival\, New Museum of Contemporary Art\, Walker Art Center\, and the British Film Institute\, among others. In addition\, their work has been distributed by NetFlix\, Hulu\, PBS\, and Arté Television\, among others. Yuzna is the first American feature director to win the Teddy Jury Prize at the Berlin Film Festival and has received additional grants and awards from the Guggenheim Foundation\, National Endowment for the Arts\, Creative Capital Foundation\, Frameline Foundation\, McKnight Foundation\, IFP MN\, FilmNorth\, as well as a Richard P. Rogers Spirit of Excellence Award in Directing from the American Film Institute. Yuzna has also curated projects and exhibitions for the Walker Art Center\, Performa: The NYC Biennial of Performance Art\, the Moscow Biennial of Contemporary Art\, the City of Los Angeles\, and SCCA-Center for Contemporary Art–Ljubljana. Their scholarship has been collected by Yale and New York Universities and they have been a contributor to Artforum Magazine since 2020.\n \nIf you have any questions\, feel free to contact ArtNOW’s chair\, Prof. Dickie Cox.
URL:https://www.monmouth.edu/events/event/artist-talk-jake-yuzna/
LOCATION:Pozycki Lecture Hall
CATEGORIES:Alumni,Alumni Affairs,Alumni Events,Arts at Monmouth,Community Member,Free,Lectures,Lectures/Workshops/Symposiums,School of Humanities and Social Sciences,Virtual,Workshops and Professional Development
END:VEVENT
BEGIN:VEVENT
DTSTART;TZID=America/New_York:20260311T190000
DTEND;TZID=America/New_York:20260311T190000
DTSTAMP:20260421T224335
CREATED:20260309T182538Z
LAST-MODIFIED:20260309T182753Z
UID:40810121796-1773255600-1773255600@www.monmouth.edu
SUMMARY:Sparkle & Shine a Studio 54: Celebrating the Resilient Voices of Women in Music
DESCRIPTION:Free Registration on Eventbrite This Women’s History Month\, a powerful new movement takes center stage to honor the architects of sound and soul. Women In Music\, Monmouth University’s collegiate chapter\, proudly announces an inspiring evening of dialogue\, connection\, and music inspired by the era of disco\, dedicated to the women who are not just participating in the music industry but actively redefining it. “Sparkle & Shine a Studio 54: Celebrating the Resilient Voices of Women in Music” addresses a critical industry gap. While women’s presence on the charts is rising\, executive representation remains stagnant. This gathering serves as both a sanctuary and a strategic hub designed to turn those artistic gains into institutional power. \nNavigating the Rhythm of the Industry\n\nThe heart of the event features a deep-dive panel discussion on the unique journey of women in music. From smashing the “glass ceiling” of the charts to navigating the complexities of technical production and business management\, our speakers will share raw\, heartwarming\, and triumphant accounts of their careers. The discussion will focus on the power of mentorship\, the importance of creative sovereignty\, and the magic that happens when women choose to “build the table” rather than just pull up a chair. \n\n\nFeatured Panelists & Moderator\n\n\nWe are honored to welcome a powerhouse lineup of industry leaders: \n\n\n\n\nJenna Gaudio\, Co-President of Vydia\n\n\n\nSkylar Rupperecht\, Operations Producer at Respective Collective\n\n\n\nHeather de Armas\, COO of Not Dead Yet Media\n\n\n\nKaren Louisa Gross\, Moderator & Founder of She Rocked It Media Productions\n\n\n\n\nA Celebration of Legacy\n\n\n\n“Women have always been the heartbeat of music history\, even when our voices are being overshadowed\,” says Joleen Amer\, event creative director. “Holding this event during Women’s History Month isn’t just about looking back at the icons who paved the way; it’s about fueling the fire for the women who are writing the next verse right now.” \n\n\n\nThe event will conclude with a networking mixer designed to foster lifelong collaborations and live performances by Joleen Amer\, Antonia Bongiorno\, and Marley Bell. \nMedia Contact\nRashida Scott-Cruz (WIMMU Faculty Advisor): rcruz@monmouth.edu\, or 848-207-8217 \n\n 
URL:https://www.monmouth.edu/events/event/sparkle-shine-a-studio-54-celebrating-the-resilient-voices-of-women-in-music/
LOCATION:Lauren K. Woods Theatre
CATEGORIES:Alumni,Community Member,Current Student,Faculty,Free,Lectures,Lectures/Workshops/Symposiums
ATTACH;FMTTYPE=image/jpeg:https://www.monmouth.edu/events/wp-content/uploads/sites/19/2026/03/women-in-music.jpg
END:VEVENT
BEGIN:VEVENT
DTSTART;TZID=America/New_York:20260321T113000
DTEND;TZID=America/New_York:20260321T133000
DTSTAMP:20260421T224335
CREATED:20251219T204237Z
LAST-MODIFIED:20251219T204502Z
UID:40810120515-1774092600-1774099800@www.monmouth.edu
SUMMARY:Monmouth Alumni FoodBank Volunteering
DESCRIPTION:We invite you to reconnect with fellow alumni\, make new friends\, and experience the joy of giving back. Join us for a meaningful volunteer opportunity at the Community FoodBank of New Jersey! Together\, we can fight hunger and make a difference in our community. Sign up today by following the directions below. We look forward to coming together to support those in need! \nRegistration will close on Friday\, March 20 (or when all volunteer slots have been filled).
URL:https://www.monmouth.edu/events/event/monmouth-alumni-foodbank-volunteering-3/
LOCATION:Community FoodBank of New Jersey\, 31 Evans Terminal Road\, Hillside\, NJ
CATEGORIES:Alumni,Alumni Events,Free,Social Events,Special Events
ATTACH;FMTTYPE=image/jpeg:https://www.monmouth.edu/events/wp-content/uploads/sites/19/2024/08/Website-graphic3.jpg
END:VEVENT
BEGIN:VEVENT
DTSTART;TZID=America/New_York:20260324T163000
DTEND;TZID=America/New_York:20260324T183000
DTSTAMP:20260421T224335
CREATED:20260211T153401Z
LAST-MODIFIED:20260211T153401Z
UID:40810121556-1774369800-1774377000@www.monmouth.edu
SUMMARY:"Sugarcane" Film Screening
DESCRIPTION:Tuesday\, March 24\, 2026\n4:30–6:30 p.m.\nGuggenheim Memorial Library Room 101 \n\n\n\nRated R \n\n\n\n\nA stunning tribute to the resilience of Native people and their way of life\, “Sugarcane”\, the debut feature documentary from Julian Brave NoiseCat and Emily Kassie\, is an epic cinematic portrait of a community during a moment of international reckoning. In 2021\, evidence of unmarked graves was discovered on the grounds of an Indian residential school run by the Catholic Church in Canada. After years of silence\, the forced separation\, assimilation and abuse many children experienced at these segregated boarding schools was brought to light\, sparking a national outcry against a system designed to destroy Indigenous communities. Set amidst a groundbreaking investigation\, “Sugarcane” illuminates the beauty of a community breaking cycles of intergenerational trauma and finding the strength to persevere.
URL:https://www.monmouth.edu/events/event/sugarcane-film-screening/
LOCATION:Guggenheim Memorial Library\, Room 101\, 400 Cedar Ave\, West Long Branch\, NJ\, 07764\, United States
CATEGORIES:Alumni,Community Member,Current Student,Faculty,Film,Free,History + Anthropology,Media,School of Humanities and Social Sciences,Social Events,Special Events
ATTACH;FMTTYPE=image/jpeg:https://www.monmouth.edu/events/wp-content/uploads/sites/19/2026/02/sugarcane-poster.jpg
END:VEVENT
BEGIN:VEVENT
DTSTART;TZID=America/New_York:20260326T000000
DTEND;TZID=America/New_York:20260327T235959
DTSTAMP:20260421T224335
CREATED:20260211T152639Z
LAST-MODIFIED:20260211T152639Z
UID:40810121553-1774483200-1774655999@www.monmouth.edu
SUMMARY:Native American Boarding School Symposium
DESCRIPTION:This symposium provides a space for generative conversations on what we know about Native American boarding schools and what that knowledge means. Join us in exploring the 20th-century history of North American Indian boarding schools in this two-day symposium\, featuring speakers\, workshops\, and film. \nAbout the Symposium\nIn the late-19th and early-20th century\, throughout the United States and Canada\, federal governments created boarding schools for Native American youth. Student experiences at each school varied\, depending on living conditions\, curriculum\, and who oversaw the school (churches\, federal employees\, trained teachers\, etc.). The boarding schools tried to strip children of their Indigenous culture\, agency\, and family. The white administrators forcibly cut children’s hair\, sacred to many\, and required that they only wear western clothing instead of their traditional clothing. In many schools\, students were expected to adhere to strict rules that helped repress the expression of Indigenous culture. In most schools\, for example\, children could only speak English\, a language completely unfamiliar to them. Failure to adhere to rules and complete assigned work could result in severe punishment. The schools subjected the children to inadequate diets\, rampant disease\, overwork\, and overcrowding\, which along with the poor building and living conditions resulted in poor health and even death.  \nThe governments of Canada and the United States left the history of Native American boarding schools unacknowledged until relatively recently. Stephen Harper\, the prime minister of Canada\, made a formal apology for the implementation of boarding school systems and the trauma they produced in 2008\, with President Joe Biden making the United States’ national apology in 2024.  \nThis symposium brings together scholars who have worked with the history of Native American Boarding Schools in North America. The goal of this symposium is to spark conversation on what is known about Native American boarding schools and what this knowledge means. The Native American Boarding School Symposium will be hosted March 26–27 on Monmouth University’s campus.  \nThe Native American Boarding School Symposium would not be possible without the generous help of the Diversity Innovation Grant from the Intercultural Center at Monmouth University. We are grateful for this grant and thank all of the co-sponsors of this event: the Office of the Provost\, the School of Humanities and Social Sciences\, the School of Education\, the Leon Hess Business School\, the Department of English\, the Department of Criminal Justice\, the Department of Curriculum and Instruction\, the Intercultural Center\, the Department of History and Anthropology\, and the Program in Gender and Intersectionality Studies.
URL:https://www.monmouth.edu/events/event/native-american-boarding-school-symposium/
LOCATION:Monmouth University
CATEGORIES:Alumni,Criminal Justice,Current Student,Curriculum and Instruction,English,Faculty,Featured,Free,History + Anthropology,Institute for Global Understanding,Intercultural Center Events,Lectures,Lectures/Workshops/Symposiums,Leon Hess Business School,Media,School of Education,School of Humanities and Social Sciences,Undergraduate Student
ATTACH;FMTTYPE=image/jpeg:https://www.monmouth.edu/events/wp-content/uploads/sites/19/2026/02/25_Native_American_Brding_Schl_Symp_SGraphic-v3.jpg
END:VEVENT
BEGIN:VEVENT
DTSTART;TZID=America/New_York:20260326T180000
DTEND;TZID=America/New_York:20260326T213000
DTSTAMP:20260421T224335
CREATED:20250904T175436Z
LAST-MODIFIED:20260312T162554Z
UID:40810119544-1774548000-1774560600@www.monmouth.edu
SUMMARY:Green Border
DESCRIPTION:The Institute for Global Understanding (IGU) and the Center for the Arts at Monmouth University invite you to our second Pearson’s World Cinema Series movie and discussion event of the spring semester on Thursday\, March 26th\, at 6:05 PM in the Bey Hall Auditorium. We will screen the movie Green Border (2023) directed by Agneiszka Holland\, followed by a post-screening Q&A session hosted by Dr. Frank Fury with Chris DeRosa as discussant. We hope to see you there!
URL:https://www.monmouth.edu/events/event/green-border/
LOCATION:Bey Hall Auditorium
CATEGORIES:Alumni,Arts at Monmouth,Community Member,Current Student,Faculty,Film,Free,Institute for Global Understanding,Institute for Global Understanding
ATTACH;FMTTYPE=image/png:https://www.monmouth.edu/events/wp-content/uploads/sites/19/2025/09/WSC2025_05-1.png
ORGANIZER;CN="Center for the Arts":MAILTO:kbarratt@monmouth.edu
END:VEVENT
END:VCALENDAR