BEGIN:VCALENDAR
VERSION:2.0
PRODID:-//Events - ECPv6.15.20//NONSGML v1.0//EN
CALSCALE:GREGORIAN
METHOD:PUBLISH
X-ORIGINAL-URL:https://www.monmouth.edu/events
X-WR-CALDESC:Events for Events
REFRESH-INTERVAL;VALUE=DURATION:PT1H
X-Robots-Tag:noindex
X-PUBLISHED-TTL:PT1H
BEGIN:VTIMEZONE
TZID:America/New_York
BEGIN:DAYLIGHT
TZOFFSETFROM:-0500
TZOFFSETTO:-0400
TZNAME:EDT
DTSTART:20240310T070000
END:DAYLIGHT
BEGIN:STANDARD
TZOFFSETFROM:-0400
TZOFFSETTO:-0500
TZNAME:EST
DTSTART:20241103T060000
END:STANDARD
BEGIN:DAYLIGHT
TZOFFSETFROM:-0500
TZOFFSETTO:-0400
TZNAME:EDT
DTSTART:20250309T070000
END:DAYLIGHT
BEGIN:STANDARD
TZOFFSETFROM:-0400
TZOFFSETTO:-0500
TZNAME:EST
DTSTART:20251102T060000
END:STANDARD
BEGIN:DAYLIGHT
TZOFFSETFROM:-0500
TZOFFSETTO:-0400
TZNAME:EDT
DTSTART:20260308T070000
END:DAYLIGHT
BEGIN:STANDARD
TZOFFSETFROM:-0400
TZOFFSETTO:-0500
TZNAME:EST
DTSTART:20261101T060000
END:STANDARD
END:VTIMEZONE
BEGIN:VEVENT
DTSTART;TZID=America/New_York:20250506T193000
DTEND;TZID=America/New_York:20250506T210000
DTSTAMP:20260423T114650
CREATED:20240605T152724Z
LAST-MODIFIED:20250324T145148Z
UID:40810112495-1746559800-1746565200@www.monmouth.edu
SUMMARY:Michael Jackson\, Off the Wall
DESCRIPTION:It’s just like book club but with albums! With new advances in technology\, the way we consume music through our devices\, apps and on demand streaming services like Pandora\, Spotify and iTunes is making the idea of the “album” as an art form extinct. Get together with other music enthusiasts on Tuesday nights to discuss some of the greatest records of all-time! Listen to the album beforehand and then come prepared to discuss. This event will feature Michael Jackson\, Off the Wall. \nThis event is offered BOTH in person and via Zoom. Join us in person at the Great Hall Auditorium on the Campus of Monmouth University or join us via zoom. When you register you will be provided the ZOOM meeting link to join the conversation. \nFree and open to the public\, but registration is required.
URL:https://www.monmouth.edu/events/event/michael-jackson-off-the-wall/
LOCATION:The Great Hall Auditorium/Virtual\, 400 Cedar Ave\, West Long Branch\, NJ\, 07720\, United States
CATEGORIES:Alumni,Alumni Affairs,Alumni Events,Arts at Monmouth,Featured,Free,Lectures,Lectures/Workshops/Symposiums
ATTACH;FMTTYPE=image/jpeg:https://www.monmouth.edu/events/wp-content/uploads/sites/19/2024/06/MJ_header.jpg
END:VEVENT
BEGIN:VEVENT
DTSTART;TZID=America/New_York:20250507T133000
DTEND;TZID=America/New_York:20250507T143000
DTSTAMP:20260423T114650
CREATED:20250417T202246Z
LAST-MODIFIED:20250417T203948Z
UID:40810119131-1746624600-1746628200@www.monmouth.edu
SUMMARY:The Alumni Insurance Program Pet Health Webinar
DESCRIPTION:The Alumni Insurance Program has partnered with MetLife to bring alumni a free webinar event to learn more about discounts and coverage options to protect your pet!  \nIf you want to attend\, register now. When your registration is approved\, you’ll receive an invitation to join the webinar.
URL:https://www.monmouth.edu/events/event/the-alumni-insurance-program-pet-health-webinar/
LOCATION:Remote Webinar
CATEGORIES:Alumni,Alumni Events,Free,Virtual
ATTACH;FMTTYPE=image/png:https://www.monmouth.edu/events/wp-content/uploads/sites/19/2025/04/alumni-insurance-program-logo_png.png
END:VEVENT
BEGIN:VEVENT
DTSTART;TZID=America/New_York:20250513T193000
DTEND;TZID=America/New_York:20250513T213000
DTSTAMP:20260423T114650
CREATED:20240611T141747Z
LAST-MODIFIED:20250324T145226Z
UID:40810112522-1747164600-1747171800@www.monmouth.edu
SUMMARY:Hernan Diaz\, Trust
DESCRIPTION:Join us for Tuesday Night Book Club! Hosted by Monmouth University’s Ken Womack. This month’s novel is Hernan Diaz’s Trust. \nWINNER OF THE PULITZER PRIZE FOR FICTION\nA NEW YORK TIMES BESTSELLER \nEven through the roar and effervescence of the 1920s\, everyone in New York has heard of Benjamin and Helen Rask. He is a legendary Wall Street tycoon; she is the daughter of eccentric aristocrats. Together\, they have risen to the very top of a world of seemingly endless wealth—all as a decade of excess and speculation draws to an end. But at what cost have they acquired their immense fortune? This is the mystery at the center of Bonds\, a successful 1937 novel that all of New York seems to have read. Yet there are other versions of this tale of privilege and deceit. \nHernan Diaz’s TRUST elegantly puts these competing narratives into conversation with one another—and in tension with the perspective of one woman bent on disentangling fact from fiction. The result is a novel that spans over a century and becomes more exhilarating with each new revelation. \nWhen you register you will be provided the meeting link to join the conversation.
URL:https://www.monmouth.edu/events/event/hernan-diaz-trust/
LOCATION:Virtual
CATEGORIES:Alumni,Alumni Affairs,Alumni Events,Arts at Monmouth,English,Featured,Free,Lectures,Lectures/Workshops/Symposiums
ATTACH;FMTTYPE=image/jpeg:https://www.monmouth.edu/events/wp-content/uploads/sites/19/2024/06/trust_header.jpg
END:VEVENT
END:VCALENDAR