BEGIN:VCALENDAR
VERSION:2.0
PRODID:-//Events - ECPv6.15.20//NONSGML v1.0//EN
CALSCALE:GREGORIAN
METHOD:PUBLISH
X-ORIGINAL-URL:https://www.monmouth.edu/events
X-WR-CALDESC:Events for Events
REFRESH-INTERVAL;VALUE=DURATION:PT1H
X-Robots-Tag:noindex
X-PUBLISHED-TTL:PT1H
BEGIN:VTIMEZONE
TZID:America/New_York
BEGIN:DAYLIGHT
TZOFFSETFROM:-0500
TZOFFSETTO:-0400
TZNAME:EDT
DTSTART:20240310T070000
END:DAYLIGHT
BEGIN:STANDARD
TZOFFSETFROM:-0400
TZOFFSETTO:-0500
TZNAME:EST
DTSTART:20241103T060000
END:STANDARD
BEGIN:DAYLIGHT
TZOFFSETFROM:-0500
TZOFFSETTO:-0400
TZNAME:EDT
DTSTART:20250309T070000
END:DAYLIGHT
BEGIN:STANDARD
TZOFFSETFROM:-0400
TZOFFSETTO:-0500
TZNAME:EST
DTSTART:20251102T060000
END:STANDARD
BEGIN:DAYLIGHT
TZOFFSETFROM:-0500
TZOFFSETTO:-0400
TZNAME:EDT
DTSTART:20260308T070000
END:DAYLIGHT
BEGIN:STANDARD
TZOFFSETFROM:-0400
TZOFFSETTO:-0500
TZNAME:EST
DTSTART:20261101T060000
END:STANDARD
END:VTIMEZONE
BEGIN:VEVENT
DTSTART;TZID=America/New_York:20250206T000000
DTEND;TZID=America/New_York:20250427T235959
DTSTAMP:20260423T131839
CREATED:20250306T225532Z
LAST-MODIFIED:20250306T225625Z
UID:40810115923-1738800000-1745798399@www.monmouth.edu
SUMMARY:Ocean Bodies\, A Solo Exhibit by Kimberly Callas
DESCRIPTION:Monmouth University’s Ice House Gallery presents Ocean Bodies\, a powerful solo exhibition by multimedia artist Kimberly Callas. The exhibition will open on February 6\, 2025\, with an evening reception from 5:30 to 7:30 PM\, and will run through April 27\, 2025. Ocean Bodies offers an immersive exploration of humanity’s interconnectedness with the ocean\, drawing on symbols\, archetypes\, and ecological narratives to invite contemplation and action. \nThrough sculptures\, large-scale drawings\, and mixed-media works\, Callas examines the “crisis of meaning” at the heart of the climate crisis and advocates for a shift in consciousness toward an “ecological self.” This concept\, central to her work\, reflects humanity’s integral role within nature rather than apart from it. In Ocean Bodies\, she uses water-based materials\, such as dyed fabrics\, India ink\, and water-soluble graphite\, to invoke the sea’s physical presence while exploring the symbolic depth of whales\, the horizon\, and the ocean itself as metaphors for the psyche and cosmos. \nAmong the featured works is a series of 10-foot mixed-media drawings inspired by historical nautical charts\, which pair psychological journeys with the migration of critically endangered North Atlantic right whales. Complementing these works are colorful life-size figurative sculptures and reliefs\, 3D-printed using bio-filament\, that further explore themes of renewal and interconnection. Through these works\, Callas poses urgent questions about the loss of meaning\, wisdom\, and biodiversity in the Anthropocene. \n“The ocean has a unique way to connect with people in an immediate and emotional way. Science and data can only tell us so much; art can speak to each of us in a way that is both uniquely personal and universal. Having Kimberly as the Urban Coast Institute artist-in-residence provided inspiration for some of the artwork in the Ocean Bodies exhibit\, which will in turn inspire others. She was also able to share her creative process with her students\, conducting lectures and using her art and sculpture as a pathway to ‘discovering the ecological self.’ This work reminds us that the worlds of art and science are two sides of the same coin\,” said Tony MacDonald\, J.D.\, Director\, Urban Coast Institute. \nCallas created much of the work in Ocean Bodies during an artist residency with Monmouth University’s Urban Coast Institute\, with additional research conducted at the Archive for Research in Archetypal Symbolism (ARAS) and an artist residency at the Arts Quarter Budapest. This body of work seeks to merge art\, science\, and archetypal symbols to foster a deeper understanding of humanity’s place within the natural world and inspire meaningful environmental action. \nAbout the Artist \nKimberly Callas is a multimedia artist\, sculptor\, and the lead artist of the Social Practice project Discovering the Ecological Self. Her work delves into the human/nature relationship\, focusing on the concept of the ecological self. Recently\, she has incorporated cutting-edge technologies\, such as 3D printing with bio-filaments and CNC\, into her life-size sculptures. Art New England described her series Portrait of the Ecological Self as “unforgettable.” \nCallas’s work often involves community engagement. With her Discovering the Ecological Self social practice project\, featured in The Huffington Post\, she has led workshops across the U.S. and internationally. Her art has been showcased in prestigious galleries and museums worldwide\, earning her numerous awards and grants\, including the Pollination Project Grant\, the Urban Coast Artist-in-Residence award\, and the Puffin Foundation Grant. Her accolades include First Place in Sculpture at the Catharine Lorillard Wolfe Art Club’s Annual Exhibit in New York City. \nCallas’s recent exhibitions include the International New Media Exhibit at the CICA Museum in South Korea\, Crossing Boundaries: Art and the Future of Energy at the Pensacola Museum of Art\, and Ocean Swimmers (Entanglement)\, a solo exhibition in Budapest. In May 2025\, she will unveil a public art commission for the Lambert Castle Renovation in Paterson\, New Jersey. \nCallas holds an MFA from the New York Academy of Art and a BFA from the University of Michigan. She is currently an Associate Professor of Art at Monmouth University and maintains studios in Maine and New Jersey. \nEvent Details: \nExhibition: Ocean Bodies\nLocation: Ice House Gallery\, Monmouth University\, 400 Cedar Ave # 600\, West Long Branch\, NJ 07764\nOpening Reception: February 6\, 2025\, 5:30–7:30 PM\nExhibition Dates: February 6\, 2025 – April 27\, 2025\nGallery Hours: Mon-Fri\, 10am-5pm\, \nFor additional information\, please contact Scott Knauer\, 732.923.4786  or visit https://kimberlycallas.com/. \n 
URL:https://www.monmouth.edu/events/event/ocean-bodies-a-solo-exhibit-by-eco-artist-kimberly-callas-2/
LOCATION:Rotary Ice House Gallery
CATEGORIES:Academic Calendar,Alumni Calendar Featured,Art and Design,Art Exhibitions,Arts at Monmouth,Free
ATTACH;FMTTYPE=image/jpeg:https://www.monmouth.edu/events/wp-content/uploads/sites/19/2024/12/callas_header-1.jpg
ORGANIZER;CN="Art and Design Department":MAILTO:sknauer@monmouth.edu
END:VEVENT
BEGIN:VEVENT
DTSTART;TZID=America/New_York:20250401T120000
DTEND;TZID=America/New_York:20250401T120000
DTSTAMP:20260423T131839
CREATED:20250214T172959Z
LAST-MODIFIED:20250214T172959Z
UID:40810118717-1743508800-1743508800@www.monmouth.edu
SUMMARY:Alumni Speaker Series: “Lunch and Learn” with Alaysha Prestia ’17
DESCRIPTION:Are you fearful of becoming burnt out in the field you are in? Do you often find yourself feeling exhausted\, overwhelmed\, or on edge? These symptoms do not occur overnight. They are frequently built up due to stress\, over-commitment\, and self-neglect. In this workshop\, hear from alumna and licensed psychotherapist\, Alaysha Prestia ’17 as she teaches you about evidence-based strategies to manage stress\, set boundaries\, and prevent burnout using cognitive behavioral and motivational interviewing techniques.
URL:https://www.monmouth.edu/events/event/alumni-speaker-series-lunch-and-learn-with-alaysha-prestia-17/
LOCATION:Virtual (Zoom)
CATEGORIES:Alumni,Alumni Events,Current Student,Free,Lectures,Lectures/Workshops/Symposiums,Workshops and Professional Development
ATTACH;FMTTYPE=image/jpeg:https://www.monmouth.edu/events/wp-content/uploads/sites/19/2025/02/IMG_1956.jpg
END:VEVENT
BEGIN:VEVENT
DTSTART;TZID=America/New_York:20250401T193000
DTEND;TZID=America/New_York:20250401T210000
DTSTAMP:20260423T131839
CREATED:20240605T150714Z
LAST-MODIFIED:20240926T165456Z
UID:40810112492-1743535800-1743541200@www.monmouth.edu
SUMMARY:Led Zeppelin\, IV
DESCRIPTION:It’s just like book club but with albums! With new advances in technology\, the way we consume music through our devices\, apps and on demand streaming services like Pandora\, Spotify and iTunes is making the idea of the “album” as an art form extinct. Get together with other music enthusiasts on Tuesday nights to discuss some of the greatest records of all-time! Listen to the album beforehand and then come prepared to discuss. This event will feature Led Zeppelin\, IV. \nThis event is offered BOTH in person and via Zoom. Join us in person at the Great Hall Auditorium on the Campus of Monmouth University or join us via zoom. When you register you will be provided the ZOOM meeting link to join the conversation. \nFree and open to the public\, but registration is required.
URL:https://www.monmouth.edu/events/event/led-zeppelin-iv/
LOCATION:The Great Hall Auditorium/Virtual\, 400 Cedar Ave\, West Long Branch\, NJ\, 07720\, United States
CATEGORIES:Alumni,Alumni Affairs,Alumni Events,Arts at Monmouth,Free,Lectures,Lectures/Workshops/Symposiums
ATTACH;FMTTYPE=image/jpeg:https://www.monmouth.edu/events/wp-content/uploads/sites/19/2024/06/Led-Zeppelin_header.jpg
END:VEVENT
BEGIN:VEVENT
DTSTART;TZID=America/New_York:20250402T133000
DTEND;TZID=America/New_York:20250402T150000
DTSTAMP:20260423T131839
CREATED:20250306T161918Z
LAST-MODIFIED:20250306T161918Z
UID:40810118985-1743600600-1743606000@www.monmouth.edu
SUMMARY:Pre-Law Honors School Alumni Panel
DESCRIPTION:Free Event \nJoin us for an engaging and insightful Pre-Law Alumni Panel\, where distinguished alumni from Monmouth University’s Honors School will share their journeys from their undergraduate experience to successful careers in law. This panel is designed for those interested in pursuing a legal career\, offering firsthand perspectives on law school\, different career paths\, and valuable advice on navigating the legal profession. \nFollowing the panel\, enjoy light refreshments and networking\, providing a great opportunity to connect with alumni\, ask questions\, and build valuable relationships. Don’t miss this chance to gain insight\, make connections\, and explore your future in law!
URL:https://www.monmouth.edu/events/event/pre-law-honors-school-alumni-panel/
LOCATION:Julian Abele Room (The Great Hall Room 104)
CATEGORIES:Alumni,Alumni Events,Free,Honors School,Lectures,Lectures/Workshops/Symposiums,Social Events,Undergraduate Student,Workshops and Professional Development
ATTACH;FMTTYPE=image/jpeg:https://www.monmouth.edu/events/wp-content/uploads/sites/19/2025/03/Pre-Law-Panel.jpg
END:VEVENT
BEGIN:VEVENT
DTSTART;TZID=America/New_York:20250408T193000
DTEND;TZID=America/New_York:20250408T213000
DTSTAMP:20260423T131839
CREATED:20240611T140909Z
LAST-MODIFIED:20240926T165532Z
UID:40810112519-1744140600-1744147800@www.monmouth.edu
SUMMARY:Jean Rhys\, Wide Sargasso Sea
DESCRIPTION:Join us for Tuesday Night Book Club! Hosted by Monmouth University’s Ken Womack. This month’s novel is Jean Rhys’s Wide Sargasso Sea. \nWide Sargasso Sea\, a masterpiece of modern fiction\, was Jean Rhys’s return to the literary center stage. She had a startling early career and was known for her extraordinary prose and haunting women characters. With Wide Sargasso Sea\, her last and best-selling novel\, she ingeniously brings into light one of fiction’s most fascinating characters: the madwoman in the attic from Charlotte Brontë’s Jane Eyre. This mesmerizing work introduces us to Antoinette Cosway\, a sensual and protected young woman who is sold into marriage to the prideful Mr. Rochester. Rhys portrays Cosway amidst a society so driven by hatred\, so skewed in its sexual relations\, that it can literally drive a woman out of her mind. \nWhen you register you will be provided the meeting link to join the conversation.
URL:https://www.monmouth.edu/events/event/jean-rhys-wide-sargasso-sea/
LOCATION:Virtual
CATEGORIES:Alumni,Alumni Affairs,Alumni Events,Arts at Monmouth,English,Free,Lectures,Lectures/Workshops/Symposiums
ATTACH;FMTTYPE=image/jpeg:https://www.monmouth.edu/events/wp-content/uploads/sites/19/2024/06/widesargasso_header.jpg
END:VEVENT
BEGIN:VEVENT
DTSTART;TZID=America/New_York:20250414T000000
DTEND;TZID=America/New_York:20250427T235959
DTSTAMP:20260423T131839
CREATED:20250331T194727Z
LAST-MODIFIED:20250331T194800Z
UID:40810119088-1744588800-1745798399@www.monmouth.edu
SUMMARY:Senior Exhibition 2025
DESCRIPTION:Featuring the work of Monmouth University graduating seniors who will receive their degrees from the Department of Art & Design. \nClosing Reception: April 27 from 1 to 4 p.m.
URL:https://www.monmouth.edu/events/event/senior-exhibition-2025/
LOCATION:DiMattio Gallery at Rechnitz Hall
CATEGORIES:Art and Design,Art Exhibitions,Arts at Monmouth,Free
ATTACH;FMTTYPE=image/jpeg:https://www.monmouth.edu/events/wp-content/uploads/sites/19/2024/03/Senior-Show-Card.jpg
END:VEVENT
BEGIN:VEVENT
DTSTART;TZID=America/New_York:20250416T110000
DTEND;TZID=America/New_York:20250416T140000
DTSTAMP:20260423T131839
CREATED:20250221T171147Z
LAST-MODIFIED:20250221T171147Z
UID:40810118791-1744801200-1744812000@www.monmouth.edu
SUMMARY:HireNewYork Multi-University Alumni Career Fair 2025
DESCRIPTION:Employers Hiring For Full-Time Salaried Positions\nAll Industries\, All Skills\,\nAll Majors\, All Career Levels \nWho Can Attend:\nAlumni\, Graduating Seniors\, Graduate Students \nTypical Demographics:\n50% Bachelors\, 40% Masters\, 10% Doctorate\, 6 Years Average Experience
URL:https://www.monmouth.edu/events/event/hirenewyork-multi-university-alumni-career-fair-2025/
LOCATION:Prince George Ballroom 15 E 27th St.\, NYC
CATEGORIES:Alumni,Alumni Events,Free,Workshops and Professional Development
END:VEVENT
BEGIN:VEVENT
DTSTART;TZID=America/New_York:20250418T190000
DTEND;TZID=America/New_York:20250418T220000
DTSTAMP:20260423T131839
CREATED:20250417T200242Z
LAST-MODIFIED:20250425T174244Z
UID:40810119114-1745002800-1745013600@www.monmouth.edu
SUMMARY:MU Players: You're A Good Man Charlie Brown
DESCRIPTION:This year\, MU Players proudly presents their annual club musical: “You’re a Good Man\, Charlie Brown.” \nJoin us for this heartwarming and fun-filled production on the following dates: \n\n\nThursday\, April 18 at 7:00 PM \n\n\nFriday\, April 19 at 2:00 PM & 7:00 PM \n\n\nSunday\, April 21 at 7:00 PM \n\n\nWe hope to see you there! \nLimited tickets are available at the door.
URL:https://www.monmouth.edu/events/event/mu-players-youre-a-good-man-charlie-brown-2/2025-04-18/
LOCATION:Lauren K Woods Theatre\, 398 Cedar Ave\, Long Branch\, NJ\, United States
CATEGORIES:Arts at Monmouth,Free,Music + Theatre Arts,Theatre
ATTACH;FMTTYPE=image/jpeg:https://www.monmouth.edu/events/wp-content/uploads/sites/19/2025/04/IMG_7592-e1744991273131.jpg
GEO:40.281658;-74.001637
X-APPLE-STRUCTURED-LOCATION;VALUE=URI;X-ADDRESS=Lauren K Woods Theatre 398 Cedar Ave Long Branch NJ United States;X-APPLE-RADIUS=500;X-TITLE=398 Cedar Ave:geo:-74.001637,40.281658
END:VEVENT
BEGIN:VEVENT
DTSTART;TZID=America/New_York:20250419T140000
DTEND;TZID=America/New_York:20250419T170000
DTSTAMP:20260423T131839
CREATED:20250417T200242Z
LAST-MODIFIED:20250425T174244Z
UID:40810119124-1745071200-1745082000@www.monmouth.edu
SUMMARY:MU Players: You're A Good Man Charlie Brown
DESCRIPTION:This year\, MU Players proudly presents their annual club musical: “You’re a Good Man\, Charlie Brown.” \nJoin us for this heartwarming and fun-filled production on the following dates: \n\n\nThursday\, April 18 at 7:00 PM \n\n\nFriday\, April 19 at 2:00 PM & 7:00 PM \n\n\nSunday\, April 21 at 7:00 PM \n\n\nWe hope to see you there! \nLimited tickets are available at the door.
URL:https://www.monmouth.edu/events/event/mu-players-youre-a-good-man-charlie-brown-2/2025-04-19/
LOCATION:Lauren K Woods Theatre\, 398 Cedar Ave\, Long Branch\, NJ\, United States
CATEGORIES:Arts at Monmouth,Free,Music + Theatre Arts,Theatre
ATTACH;FMTTYPE=image/jpeg:https://www.monmouth.edu/events/wp-content/uploads/sites/19/2025/04/IMG_7592-e1744991273131.jpg
GEO:40.281658;-74.001637
X-APPLE-STRUCTURED-LOCATION;VALUE=URI;X-ADDRESS=Lauren K Woods Theatre 398 Cedar Ave Long Branch NJ United States;X-APPLE-RADIUS=500;X-TITLE=398 Cedar Ave:geo:-74.001637,40.281658
END:VEVENT
BEGIN:VEVENT
DTSTART;TZID=America/New_York:20250421T190000
DTEND;TZID=America/New_York:20250421T220000
DTSTAMP:20260423T131839
CREATED:20250417T200242Z
LAST-MODIFIED:20250425T174244Z
UID:40810119136-1745262000-1745272800@www.monmouth.edu
SUMMARY:MU Players: You're A Good Man Charlie Brown
DESCRIPTION:This year\, MU Players proudly presents their annual club musical: “You’re a Good Man\, Charlie Brown.” \nJoin us for this heartwarming and fun-filled production on the following dates: \n\n\nThursday\, April 18 at 7:00 PM \n\n\nFriday\, April 19 at 2:00 PM & 7:00 PM \n\n\nSunday\, April 21 at 7:00 PM \n\n\nWe hope to see you there! \nLimited tickets are available at the door.
URL:https://www.monmouth.edu/events/event/mu-players-youre-a-good-man-charlie-brown-2/2025-04-21/
LOCATION:Lauren K Woods Theatre\, 398 Cedar Ave\, Long Branch\, NJ\, United States
CATEGORIES:Arts at Monmouth,Free,Music + Theatre Arts,Theatre
ATTACH;FMTTYPE=image/jpeg:https://www.monmouth.edu/events/wp-content/uploads/sites/19/2025/04/IMG_7592-e1744991273131.jpg
GEO:40.281658;-74.001637
X-APPLE-STRUCTURED-LOCATION;VALUE=URI;X-ADDRESS=Lauren K Woods Theatre 398 Cedar Ave Long Branch NJ United States;X-APPLE-RADIUS=500;X-TITLE=398 Cedar Ave:geo:-74.001637,40.281658
END:VEVENT
BEGIN:VEVENT
DTSTART;TZID=America/New_York:20250423T131500
DTEND;TZID=America/New_York:20250423T141500
DTSTAMP:20260423T131839
CREATED:20250324T144437Z
LAST-MODIFIED:20250324T144437Z
UID:40810119039-1745414100-1745417700@www.monmouth.edu
SUMMARY:Organized Crime and Abortion (Works in Progress Seminar)
DESCRIPTION:Presenter: Katherine Parkin\, Ph.D.\, Professor\, Department of History and Anthropology; Jules Plangere\, Jr.\, Endowed Chair in American Social History \nOrganized crime played a role in the experience of many securing\, providing\, and paying for abortions before they were legalized. The high rates for the procedure made illegal abortion in the 1960s the third largest moneymaker for organized crime. However\, most studies by historians\, criminologists\, and sociologists have not considered how\, where\, and when organized criminals and their accomplices profited from abortion. This study of organized crime includes those providing abortions and lending money nationally\, including relatives of Frank Sinatra and Drea de Matteo (“The Sopranos”) who provided illegal abortions in New York City.
URL:https://www.monmouth.edu/events/event/organized-crime-and-abortion-works-in-progress-seminar/
LOCATION:Howard Hall 316
CATEGORIES:Alumni,Current Student,Faculty,Free,History + Anthropology,Lectures,Lectures/Workshops/Symposiums,School of Humanities and Social Sciences
ATTACH;FMTTYPE=image/jpeg:https://www.monmouth.edu/events/wp-content/uploads/sites/19/2025/03/Life-Magazine_jpg1.jpg
END:VEVENT
BEGIN:VEVENT
DTSTART;TZID=America/New_York:20250424T190000
DTEND;TZID=America/New_York:20250424T190000
DTSTAMP:20260423T131839
CREATED:20250416T204731Z
LAST-MODIFIED:20250416T204922Z
UID:40810119082-1745521200-1745521200@www.monmouth.edu
SUMMARY:Building a Global Medtech Leader (Leon Hess Business School H.R. Young Lecture\, 2025)
DESCRIPTION:Great Hall Auditorium \nMeet Vincent Forlenza\n\nVincent Forlenza\, chair of Lehigh Univeristy’s Board of Trustees\, is a retired executive known for transforming Becton\, Dickinson and Company from a medical supplies manufacturer into a global leader in medical devices\, diagnostics\, and life sciences. \n\nA Lehigh University alumnus with a bachelor’s in chemical engineering and an MBA from The Wharton School\, he has held key leadership roles in the U.S. and Europe. Forlenza serves as a director for MARAbio Systems\, Inc. and MNHI\, is lead director at Moody’s Corporation\, and is chair emeritus on the Valley Health Systems Board of Trustees. \n\n\n\nRegister for the Lecture
URL:https://www.monmouth.edu/events/event/building-a-global-medtech-leader-leon-hess-business-school-h-r-young-lecture-2025/
LOCATION:The Great Hall Auditorium
CATEGORIES:Alumni,Current Student,Faculty,Featured,Free,Graduate Student,Lectures,Lectures/Workshops/Symposiums,Leon Hess Business School,Undergraduate Student
ATTACH;FMTTYPE=image/jpeg:https://www.monmouth.edu/events/wp-content/uploads/sites/19/2025/03/Forlenza_Vince_FORMAL_800x800-copy.jpg
END:VEVENT
END:VCALENDAR