BEGIN:VCALENDAR
VERSION:2.0
PRODID:-//Events - ECPv6.15.20//NONSGML v1.0//EN
CALSCALE:GREGORIAN
METHOD:PUBLISH
X-ORIGINAL-URL:https://www.monmouth.edu/events
X-WR-CALDESC:Events for Events
REFRESH-INTERVAL;VALUE=DURATION:PT1H
X-Robots-Tag:noindex
X-PUBLISHED-TTL:PT1H
BEGIN:VTIMEZONE
TZID:America/New_York
BEGIN:DAYLIGHT
TZOFFSETFROM:-0500
TZOFFSETTO:-0400
TZNAME:EDT
DTSTART:20230312T070000
END:DAYLIGHT
BEGIN:STANDARD
TZOFFSETFROM:-0400
TZOFFSETTO:-0500
TZNAME:EST
DTSTART:20231105T060000
END:STANDARD
BEGIN:DAYLIGHT
TZOFFSETFROM:-0500
TZOFFSETTO:-0400
TZNAME:EDT
DTSTART:20240310T070000
END:DAYLIGHT
BEGIN:STANDARD
TZOFFSETFROM:-0400
TZOFFSETTO:-0500
TZNAME:EST
DTSTART:20241103T060000
END:STANDARD
BEGIN:DAYLIGHT
TZOFFSETFROM:-0500
TZOFFSETTO:-0400
TZNAME:EDT
DTSTART:20250309T070000
END:DAYLIGHT
BEGIN:STANDARD
TZOFFSETFROM:-0400
TZOFFSETTO:-0500
TZNAME:EST
DTSTART:20251102T060000
END:STANDARD
END:VTIMEZONE
BEGIN:VEVENT
DTSTART;TZID=America/New_York:20240903T000000
DTEND;TZID=America/New_York:20241220T235959
DTSTAMP:20260424T081144
CREATED:20240716T151454Z
LAST-MODIFIED:20240812T131140Z
UID:40810112570-1725321600-1734739199@www.monmouth.edu
SUMMARY:I Wish That I Had Spoken Only of It All: 20 Years of Sheryl Oring’s I Wish to Say
DESCRIPTION:Curated by Corey Dzenko\, Associate Professor of Art History\nWith backgrounds in journalism and fine art\, Sheryl Oring began her ongoing project I Wish to Say in 2004 from a concern that many people’s voices were not being heard. She started to take dictation from the public about what they wanted to say to the (next) President. Dressed as a 1960s secretary with a typewriter\, she records whatever participants say onto a postcard\, making copies with carbon paper. During larger events\, a secretarial bank takes dictation. Oring mails the postcards to the White House and exhibits copies. To date she has typed over 4241 postcards. \nFor this exhibition\, MU’s DiMattio Gallery will chronologically display hundreds of I Wish to Say postcards\, photographs\, and videos of performances\, along with larger prints of select postcard texts. A timeline on the wall will note the presidential elections that span Oring’s project. The empty wall space for 2024 will fill as MU student-typists add postcards they collect during the current election season. The other half of the gallery will showcase a selection of Oring’s related projects that all involve a question\, active listening\, and a typewriter for a secretary to record dictation. These include Collective Memory (September 2011)\, recorded memories of the 9-11 attacks; Travel Desk (2014)\, travel stories that were then carved into a wooden table now installed in the San Diego International Airport; and other artworks. \nMulti-part programming will include an artist’s talk to showcase Oring’s timely and inclusive artmaking practice. MU students will participate as typists at numerous live events throughout the exhibition’s duration. MU faculty from various disciplines will hold public teach-ins in the gallery about topics related to Oring’s project. Finally\, MU is collaborating with nearby Neptune and Long Branch school districts so that high school students can dictate their own postcards to the future president. As an educator\, Oring has involved younger constituencies\, empowering the next generation of participants in both US democracy and artmaking. \nOring performs I Wish to Say: Thursday\, September 19\, 2024\, 11am-1pm\, Rebecca Stafford Student Center Patio \nArtist talk: Thursday\, September 19\, 2024\, 4:30-5:30pm\, Great Hall Auditorium\nOpening Reception: Thursday\, September 19\, 2024\, 5:30-7:30pm\, DiMattio Gallery\, Rechnitz Hall \nAbout the Artist\nSheryl Oring examines critical social issues through projects that incorporate old and new media to tell stories\, examine public opinion\, and foster open exchange. Using tools typically employed by journalists (the camera\, the typewriter\, the pen\, the interview\, and the archive)\, she builds on her experience in her former profession to create installations\, performances\, artist books\, and internet-based works that address themes of citizenship\, free expression\, first amendment rights\, story-telling\, and activism through art. Oring received her MFA from the University of California at San Diego. She is currently a board member for the National Coalition Against Censorship. She has held several academic positions\, most recently serving as the Dean of the School of Art at University of the Arts in Philadelphia. \nOring has shown her work at the O1SJ Biennial; Bryant Park in Manhattan; the Brooklyn Public Library; and the Jewish Museum Berlin. She has also presented work at Art in Odd Places in New York; the Art Prospect festival in St. Petersburg\, Russia; Encuentro in São Paolo\, Brazil; and the International Symposium on Electronic Art in Dubai. She has completed public art commissions at the San Diego and Tampa International Airports. Collecting institutions include the Library of Congress; Museum of Modern Art; Tate Britain; Bibliothèque nationale de Luxembourg; and many others. \nFor more information\, see: https://www.sheryloring.org/\nOr contact Dr. Corey Dzenko\, cdzenko@monmouth.edu \nThis exhibition was made possible with funding from the Edna Wright Andrade Fund of the Philadelphia Foundation and from the Diversity Innovation Grant Program coordinated by the Office of the Provost and Intercultural Center at Monmouth University. Thank you also to ArtNOW\, the Helen Bennett McMurray Endowed Chair of Social Ethics\, and Monmouth University’s Department of Art and Design and Department of Curriculum and Instruction.
URL:https://www.monmouth.edu/events/event/i-wish-that-i-had-spoken-only-of-it-all-20-years-of-sheryl-orings-i-wish-to-say/
LOCATION:DiMattio Gallery at Rechnitz Hall
CATEGORIES:Art and Design,Art Exhibitions,Arts at Monmouth,Free
ATTACH;FMTTYPE=image/jpeg:https://www.monmouth.edu/events/wp-content/uploads/sites/19/2024/07/oring_header3.jpg
END:VEVENT
BEGIN:VEVENT
DTSTART;TZID=America/New_York:20240903T050000
DTEND;TZID=America/New_York:20241210T045959
DTSTAMP:20260424T081144
CREATED:20240826T171236Z
LAST-MODIFIED:20240830T184807Z
UID:40810112642-1725339600-1733806799@www.monmouth.edu
SUMMARY:Michael Anthony Donato: Angels & Devils
DESCRIPTION:Michael Anthony Donato\, a School of Visual Arts graduate\, is an award-winning children’s book illustrator. His work on Squanto and the First Thanksgiving aired on Showtime and earned honors from the American Library Association. His illustrations for Tales Alive\, a collection of global folktales\, received a Parents’ Choice Award. Donato also collaborated with Simon & Schuster and the Metropolitan Museum of Art on Voyage Up the Nile. He currently teaches drawing and advanced painting at Monmouth University. \nArtist Reception: October 18\, 5-7 PM
URL:https://www.monmouth.edu/events/event/michael-anthony-donato-angels-devils/
LOCATION:Pollak Gallery
CATEGORIES:Art Exhibitions,Arts at Monmouth,Free
ATTACH;FMTTYPE=image/jpeg:https://www.monmouth.edu/events/wp-content/uploads/sites/19/2024/08/donato_header.jpg
END:VEVENT
BEGIN:VEVENT
DTSTART;TZID=America/New_York:20240903T193000
DTEND;TZID=America/New_York:20240903T210000
DTSTAMP:20260424T081144
CREATED:20240605T132023Z
LAST-MODIFIED:20240605T132126Z
UID:40810112471-1725391800-1725397200@www.monmouth.edu
SUMMARY:The Rolling Stones\, Sticky Fingers
DESCRIPTION:It’s just like book club but with albums! With new advances in technology\, the way we consume music through our devices\, apps and on demand streaming services like Pandora\, Spotify and iTunes is making the idea of the “album” as an art form extinct. Get together with other music enthusiasts on Tuesday nights to discuss some of the greatest records of all-time! Listen to the album beforehand and then come prepared to discuss. This event will feature The Rolling Stones\, Sticky Fingers. \nThis event is offered BOTH in person and via Zoom. Join us in person at the Great Hall Auditorium on the Campus of Monmouth University or join us via zoom. When you register you will be provided the ZOOM meeting link to join the conversation. \nFree and open to the public\, but registration is required.
URL:https://www.monmouth.edu/events/event/the-rolling-stones-sticky-fingers/
LOCATION:The Great Hall Auditorium/Virtual\, 400 Cedar Ave\, West Long Branch\, NJ\, 07720\, United States
CATEGORIES:Arts at Monmouth,Free,Lectures,Lectures/Workshops/Symposiums
ATTACH;FMTTYPE=image/jpeg:https://www.monmouth.edu/events/wp-content/uploads/sites/19/2024/06/stones_header.jpg
END:VEVENT
BEGIN:VEVENT
DTSTART;TZID=America/New_York:20240910T193000
DTEND;TZID=America/New_York:20240910T213000
DTSTAMP:20260424T081144
CREATED:20240610T203713Z
LAST-MODIFIED:20240610T203810Z
UID:40810112498-1725996600-1726003800@www.monmouth.edu
SUMMARY:Harper Lee\, To Kill a Mockingbird
DESCRIPTION:Join us for Tuesday Night Book Club! Hosted by Monmouth University’s Ken Womack. This month’s novel is Harper Lee’s To Kill a Mockingbird. \nThe unforgettable novel of a childhood in a sleepy Southern town and the crisis of conscience that rocked it\, To Kill A Mockingbird became both an instant bestseller and a critical success when it was first published in 1960. It went on to win the Pulitzer Prize in 1961 and was later made into an Academy Award-winning film\, also a classic. \nWhen you register you will be provided the meeting link to join the conversation.
URL:https://www.monmouth.edu/events/event/harper-lee-to-kill-a-mockingbird/
LOCATION:Virtual
CATEGORIES:Arts at Monmouth,English,Free,Lectures,Lectures/Workshops/Symposiums
ATTACH;FMTTYPE=image/jpeg:https://www.monmouth.edu/events/wp-content/uploads/sites/19/2024/06/mockingbird_header.jpg
END:VEVENT
BEGIN:VEVENT
DTSTART;TZID=America/New_York:20240911T133000
DTEND;TZID=America/New_York:20240911T133000
DTSTAMP:20260424T081144
CREATED:20240819T182049Z
LAST-MODIFIED:20240819T182657Z
UID:40810112633-1726061400-1726061400@www.monmouth.edu
SUMMARY:Identity Theft Protection Webinar
DESCRIPTION:The Alumni Insurance Program has partnered with Generali Global Assistance\, Inc. to offer Monmouth University alumni and their families the opportunity to attend a complimentary\, informative live event on identity theft protection. \nLearn how ID Theft Protection plans offered to Monmouth University alumni give you peace of mind with benefits such as prevention\, monitoring\, suspicious activity alerts and 24/7 comprehensive resolution care from our expert guest speaker\, Megan Crutchfield. Megan is a senior account director at Iris\, powered by Generali\, and has had nearly a decade of experience in the identity theft protection industry. \nThis live event will also include a Q&A session so come with all your identity theft protection questions. Monmouth alumni receive an extra 20% discount on ID Theft Protection by attending our live event.
URL:https://www.monmouth.edu/events/event/identity-theft-protection-webinar/
LOCATION:Virtual
CATEGORIES:Alumni,Alumni Events,Free,Lectures,Lectures/Workshops/Symposiums,Virtual
ATTACH;FMTTYPE=image/jpeg:https://www.monmouth.edu/events/wp-content/uploads/sites/19/2024/08/IDTheft-Square_2024_1.jpg
END:VEVENT
BEGIN:VEVENT
DTSTART;TZID=America/New_York:20240919T163000
DTEND;TZID=America/New_York:20240919T193000
DTSTAMP:20260424T081144
CREATED:20240716T150132Z
LAST-MODIFIED:20240812T131442Z
UID:40810112567-1726763400-1726774200@www.monmouth.edu
SUMMARY:I Wish That I Had Spoken Only of It All
DESCRIPTION:Sheryl Oring\, Performance of I Wish to Say | 11am-1pm | Rebecca Stafford Student Center Patio \nArtist Talk | 4:30-5:30pm | Great Hall Auditorium\nExhibition Opening Reception | 5:30-7:30pm | DiMattio Gallery\, Rechnitz Hall \nWith backgrounds in journalism and fine art\, Sheryl Oring began her ongoing project I Wish to Say in 2004 from a concern that many people’s voices were not being heard. She started to take dictation from the public about what they wanted to say to the (next) President. Dressed as a 1960s secretary with a typewriter\, she records whatever participants say onto a postcard\, making copies with carbon paper. During larger events\, a secretarial bank takes dictation. Oring mails the postcards to the White House and exhibits copies. To date she has typed over 4241 postcards. In this artist talk\, Oring will discuss I Wish to Say\, now in its 20th year\, alongside her other socially engaged art projects. \nThis talk is in connection with the exhibition I Wish That I Had Spoken Only of It All: 20 Years of Sheryl Oring’s I Wish to Say\, which is on display in Rechnitz Hall’s DiMattio Gallery for the Fall 2024 semester. A reception and performance of I Wish to Say in the DiMattio Gallery will follow this talk. \nAbout the Artist \nSheryl Oring examines critical social issues through projects that incorporate old and new media to tell stories\, examine public opinion\, and foster open exchange. Using tools typically employed by journalists (the camera\, the typewriter\, the pen\, the interview\, and the archive)\, she builds on her experience in her former profession to create installations\, performances\, artist books\, and internet-based works that address themes of citizenship\, free expression\, first amendment rights\, story-telling\, and activism through art. Oring received her MFA from the University of California at San Diego. She is currently a board member for the National Coalition Against Censorship. She has held several academic positions\, most recently serving as the Dean of the School of Art at University of the Arts in Philadelphia. \nOring has shown her work at the O1SJ Biennial; Bryant Park in Manhattan; the Brooklyn Public Library; and the Jewish Museum Berlin. She has also presented work at Art in Odd Places in New York; the Art Prospect festival in St. Petersburg\, Russia; Encuentro in São Paolo\, Brazil; and the International Symposium on Electronic Art in Dubai. She has completed public art commissions at the San Diego and Tampa International Airports. Collecting institutions include the Library of Congress; Museum of Modern Art; Tate Britain; Bibliothèque nationale de Luxembourg; and many others. \nFor more information\, see: https://www.sheryloring.org/\nOr contact Dr. Corey Dzenko\, cdzenko@monmouth.edu \nThis exhibition was made possible with funding from the Edna Wright Andrade Fund of the Philadelphia Foundation and from the Diversity Innovation Grant Program coordinated by the Office of the Provost and Intercultural Center at Monmouth University. Thank you also to ArtNOW\, the Helen Bennett McMurray Endowed Chair of Social Ethics\, and Monmouth University’s Department of Art and Design and Department of Curriculum and Instruction.
URL:https://www.monmouth.edu/events/event/i-wish-that-i-had-spoken-only-of-it-all/
LOCATION:DiMattio Gallery at Rechnitz Hall
CATEGORIES:Art and Design,Art Exhibitions,Arts at Monmouth,Free
ATTACH;FMTTYPE=image/jpeg:https://www.monmouth.edu/events/wp-content/uploads/sites/19/2024/07/oring_header2.jpg
END:VEVENT
BEGIN:VEVENT
DTSTART;TZID=America/New_York:20240922T170000
DTEND;TZID=America/New_York:20240922T183000
DTSTAMP:20260424T081144
CREATED:20240909T173955Z
LAST-MODIFIED:20240909T193734Z
UID:40810113851-1727024400-1727029800@www.monmouth.edu
SUMMARY:Hurricanes of Color
DESCRIPTION:Michael Frankel\, the author of Hurricanes of Color and Monmouth University alumnus will be giving an artist’s talk and book-signing hosted by Prof. Ken Womack and Prof. Joe Rapolla. \nHurricanes of Color \nIn 1964\, fifteen-year-old Mike Frankel found himself among professional photojournalists covering a Beatles concert during the band’s first tour in the United States. A few years later\, he was a regular photographer at the Fillmore East\, a storied venue in classic rock. And in 1969\, he was onstage at Woodstock\, documenting one of the most important events in American music history. \nFeaturing Frankel’s stunning photographs of nearly every major rock figure from the 1960s and ’70s―including Led Zeppelin\, Pink Floyd\, the Rolling Stones\, Janis Joplin\, and the Grateful Dead―as well as many unpublished images of the Beatles\, Hurricanes ofColor chronicles an extraordinary moment. Frankel\, who was for a time a personal photographer for Jefferson Airplane and Hot Tuna\, developed an innovative style―one that layered images with multiple exposures to capture the spirit of the music of the era and the experience of listening to the bands live. \nA must-have for fans of classic rock\, this is a spectacular and profound collection of photography that complements the music of the world’s biggest performers.
URL:https://www.monmouth.edu/events/event/hurricanes-of-color/
LOCATION:LakeHouse Recording Studio\, 619 Lake Ave\, Asbury Park\, NJ\, 07712\, United States
CATEGORIES:Alumni,Alumni Affairs,Alumni Events,Arts at Monmouth,Free,Lectures,Lectures/Workshops/Symposiums,Music
ATTACH;FMTTYPE=image/jpeg:https://www.monmouth.edu/events/wp-content/uploads/sites/19/2024/09/header_hurricane.jpg
END:VEVENT
BEGIN:VEVENT
DTSTART;TZID=America/New_York:20240925T163000
DTEND;TZID=America/New_York:20240925T171500
DTSTAMP:20260424T081144
CREATED:20240827T194445Z
LAST-MODIFIED:20241028T184323Z
UID:40810112651-1727281800-1727284500@www.monmouth.edu
SUMMARY:I Wish to Say Teach-In Series
DESCRIPTION:This fall the DiMattio Gallery is hosting I Wish That I Had Spoken Only of It All\, an exhibition of Sheryl Oring’s social practice project I Wish to Say and related works. Part of our programming will be a teach-in series from MU faculty about topics related to themes that intersect with Oring’s project as art reaches across disciplinary bounds. These teach-ins will be free and open to the public. \nSince 2004\, Oring has traveled with her typewriter to different public spaces and colleges and universities\, asking community members to dictate and mail postcards to the US President. To date\, she has typed over 4241 postcards in her attempt to use art as a catalyst for social change. With her project\, she encourages civic engagement and dialogue in our society (https://www.sheryloring.org/i-wish-to-say). \nOur teach-in series will be held in the DiMattio Gallery and currently includes: \nWednesday\, September 25\, 2024\, 4:30-5:15pm\nDr. Katherine Parkin (History)\n“Native American Reproductive Lives in the Archives” \nTuesday\, October 1\, 2024\, 6-7pm\nDr. Kristin Bluemel (English)\n“Green Worlds in Black and White: Feminist Readings of the 1930s Wood Engraving Revival”\n** Presented as part of the annual lecture series “Ink and Electricity: Advancing Liberal Learning in the Digital Age\,” hosted by the Wayne D. McMurray-Helen Bennett Endowed Chair in the Humanities. \nThursday\, October 10\, 2024\, 2:50-4:10pm\nDr. Laura Turner (Math)\n“Solving for XX: Histories of Sexism in Mathematical Practice” \nWednesday\, October 16\, 2024\, 1:15-2:15pm\nProf. Kimberly Callas (Studio Art)\n“Socially Engaged Drawings” (an opportunity to create your own postcard drawings) \nMonday\, November 25\, 4:30-5:50pm\nDr. Jason Fitzgerald (Education–Curriculum and Instruction)\n“Fostering Students’ Civic Voices” \nMonday\, December 2\, 11:40am-1pm\nDr. Johanna Foster (Sociology)\n“Changing Systems\, Not Just People: The Sociology of Social Justice Work” \nIn addition to the Teach-In Series\, these other events will be taking place in conjunction with the exhibition. \nOring performs I Wish to Say: Thursday\, September 19\, 2024\, 11am-1pm\, Rebecca Stafford Student Center Patio \nArtist talk: Thursday\, September 19\, 2024\, 4:30-5:30pm\, Great Hall Auditorium\nOpening Reception: Thursday\, September 19\, 2024\, 5:30-7:30pm\, DiMattio Gallery\, Rechnitz Hall \nFor more information\, contact the exhibition curator\, Prof. Corey Dzenko at cdzenko@monmouth.edu.
URL:https://www.monmouth.edu/events/event/i-wish-to-say-teach-in-series/2024-09-25/
LOCATION:DiMattio Gallery at Rechnitz Hall
CATEGORIES:Art Exhibitions,Arts at Monmouth,Free,Lectures,Lectures/Workshops/Symposiums
ATTACH;FMTTYPE=image/jpeg:https://www.monmouth.edu/events/wp-content/uploads/sites/19/2024/08/teachinheader.jpg
END:VEVENT
BEGIN:VEVENT
DTSTART;TZID=America/New_York:20240926T180500
DTEND;TZID=America/New_York:20240926T210000
DTSTAMP:20260424T081144
CREATED:20240709T142720Z
LAST-MODIFIED:20240926T174155Z
UID:40810112552-1727373900-1727384400@www.monmouth.edu
SUMMARY:Argentina 1985
DESCRIPTION:‘Argentina\, 1985’ is inspired by the true story of Julio Strassera\, Luis Moreno Ocampo and their young legal team of unlikely heroes in their David-vs-Goliath battle to prosecute Argentina’s bloodiest military dictatorship against all odds and in a race against time to bring justice to the victims of the Military Junta. Now a Golden Globe® winner for Best Picture – Non-English Language. \nThere will be a post screening Q&A hosted by Professor Manuel Chavez with special guest speaker Prof. Ken Mitchell.
URL:https://www.monmouth.edu/events/event/argentina-1985/
CATEGORIES:Alumni,Alumni Affairs,Alumni Events,Arts at Monmouth,Film,Free
ATTACH;FMTTYPE=image/jpeg:https://www.monmouth.edu/events/wp-content/uploads/sites/19/2024/07/Argentinaheader.jpg
END:VEVENT
END:VCALENDAR