BEGIN:VCALENDAR
VERSION:2.0
PRODID:-//Events - ECPv6.15.20//NONSGML v1.0//EN
CALSCALE:GREGORIAN
METHOD:PUBLISH
X-WR-CALNAME:Events
X-ORIGINAL-URL:https://www.monmouth.edu/events
X-WR-CALDESC:Events for Events
REFRESH-INTERVAL;VALUE=DURATION:PT1H
X-Robots-Tag:noindex
X-PUBLISHED-TTL:PT1H
BEGIN:VTIMEZONE
TZID:America/New_York
BEGIN:DAYLIGHT
TZOFFSETFROM:-0500
TZOFFSETTO:-0400
TZNAME:EDT
DTSTART:20230312T070000
END:DAYLIGHT
BEGIN:STANDARD
TZOFFSETFROM:-0400
TZOFFSETTO:-0500
TZNAME:EST
DTSTART:20231105T060000
END:STANDARD
BEGIN:DAYLIGHT
TZOFFSETFROM:-0500
TZOFFSETTO:-0400
TZNAME:EDT
DTSTART:20240310T070000
END:DAYLIGHT
BEGIN:STANDARD
TZOFFSETFROM:-0400
TZOFFSETTO:-0500
TZNAME:EST
DTSTART:20241103T060000
END:STANDARD
BEGIN:DAYLIGHT
TZOFFSETFROM:-0500
TZOFFSETTO:-0400
TZNAME:EDT
DTSTART:20250309T070000
END:DAYLIGHT
BEGIN:STANDARD
TZOFFSETFROM:-0400
TZOFFSETTO:-0500
TZNAME:EST
DTSTART:20251102T060000
END:STANDARD
END:VTIMEZONE
BEGIN:VEVENT
DTSTART;TZID=America/New_York:20240116T000000
DTEND;TZID=America/New_York:20240308T235959
DTSTAMP:20260425T070510
CREATED:20231204T162042Z
LAST-MODIFIED:20240122T204613Z
UID:40810112207-1705363200-1709942399@www.monmouth.edu
SUMMARY:Journeys of Interdependence: Portraits of First-Generation Identity in Higher Education
DESCRIPTION:The lives and experiences of students\, families\, faculty and professional staff who identify as first-generation are the subject of increased attention in higher education across the United States. The success of programs\, initiatives\, and interventions mostly focus on measurable student “outcomes” but may often miss the complicated narratives of aspiration\, sacrifice\, accomplishment and identity work first-generation students\, families\, faculty\, staff and communities navigate.  Portraiture can make visible the triumphs and challenges of being first in the family in higher educational spaces. This juried exhibition features works that highlight the  first-generation college experience through portraiture  made in a variety of media\, including painting\, drawing\, sculpture\, photography\, printmaking and textiles. \nArtist Reception: Rescheduled to Friday\, March 1 from 5-7 pm. RSVP to the reception here
URL:https://www.monmouth.edu/events/event/journeys-of-interdependence-portraits-of-first-generation-identity-in-higher-education/
LOCATION:Pollak Gallery
CATEGORIES:Art Exhibitions,Arts at Monmouth,Free
ATTACH;FMTTYPE=image/jpeg:https://www.monmouth.edu/events/wp-content/uploads/sites/19/2023/12/firstgennew.jpg
END:VEVENT
BEGIN:VEVENT
DTSTART;TZID=America/New_York:20240209T000000
DTEND;TZID=America/New_York:20240322T235959
DTSTAMP:20260425T070510
CREATED:20240122T210959Z
LAST-MODIFIED:20240228T213327Z
UID:40810112294-1707436800-1711151999@www.monmouth.edu
SUMMARY:The Cardboard Show
DESCRIPTION:Monmouth University\, in conjunction with Parlor Gallery is thrilled to kick off the year with a captivating art exhibition that transcends traditional boundaries. Prepare to immerse yourself in a world of limitless imagination at the much-anticipated Cardboard Show\, an extraordinary celebration of free-form and experimental creativity. \nThe Cardboard Show is the result: a collection of large-scale sculptures and forms in three distinct voices\, united by medium\, friendship\, and a commitment to a playful approach to creating art for its own sake. These three artists sequestered themselves in Parlor Gallery last January and opened the doors to the public a month later to share their fantastical and unique cardboard creations in an immersive type of presentation. For the continuation of this project\, the artists will follow the same practice of collaborating in the same space at the same time\, building these wonderous creations on site starting January 16th\, 2024\, and will continue to construct and design the exhibition until the opening night on February 9th\, 2024. \nDemo and Meet & Greet:\nThursday\, March 21st. Demo from 3-4 and continuation of the Meet & Greet from 4 – 6. \nOpening Night Reception: Friday\, February 9th from 6-9pm. In addition to the opening reception\, there will also be an artist meet & greet and informal artist talk during the exhibition. \nUnveiling the Magic:\nThe Cardboard Show is a testament to the power of collaboration. Three visionary artists—Porkchop\, Bradley Hoffer\, and Jason Stumpf—invite you to witness the evolution of their fantastical creations. Having sequestered themselves in Parlor Gallery last January\, the artists opened their doors to the public a month later\, sharing the enchantment of their unique cardboard world. \nCreating Wonders in Real-Time:\nAs part of the ongoing project\, these artists will once again unite under one roof\, infusing life into their cardboard wonders starting January 16th\, 2024. Witness the magic unfold as they construct and design this extraordinary exhibition\, culminating in the grand opening on February 9th\, 2024. Join us on a journey where art transcends boundaries\, fueled by the collaborative spirit of three local artists and friends. In addition to the cardboard sculptures\, each artist will also be exhibiting a selection of each of their respective work. \nAbout the Artists: \nBradley Hoffer is a multi-disciplinary artist\, designer\, carpenter\, and maker of original and preconceived concepts. Living and working most of his life in NJ; he received a BFA in sculpture from Mason Gross school of Visual Art at Rutgers. Bradley’s distinct style/work is recognizable using continuous line along with a balance of colors. For this show at Monmouth University\, he is exploring a new complex level of layers in three dimensions. Cardboard is the medium that is being used to accomplish the new sculptures. Bradley is also revealing a collection of paintings that have been in the works for the past 6 years. \nJason Stumpf is multidisciplinary artist based in Asbury Park\, NJ. A woodworker for over 30 years\, his work ranges from sculpture and furniture to cabinetry and wooden boats. His work is influenced by a fascination with structure\, minimalism\, and materiality.  Jason furniture designs often take inspiration from archaic forms and techniques. Those influences are expressed through a minimalist\, modern design ethos. His sculptures stretch that practical design aesthetic into abstracted forms and ideas. \nPorkchop is a multi-disciplinary artist from New Jersey. He has an MFA in Sculpture from VCU and a BFA in Fine Arts from University of the Arts in Philadelphia. Porkchop has established a great presence through his magnificently scaled murals\, including the extensively documented scenes he composed along the Asbury Park Boardwalk in conversation with the sea. Narrative is a prevalent theme in his work. Denizens and visitors to Monmouth County have been enjoying Porkchop’s vibrant and colorful artwork and murals for years\, but in most recent manifestation\, the artist strips his works of his normally vivid palette and instead employs intentionally ritualistic and graphic monochromatic designs and symbols accented with Gold. Influenced by ancient history\, mythology\, religion and literature\, the artist Porkchop sources out\, manipulates\, and casts familiar objects. He then painstakingly recreates their surfaces giving them a new existence into a dark and curious storyline. The application of paint into his intentional ritualistic designs followed by flawless coats of glossy resin is an act of pure precision and care\, like the work of a surgeon or mortician. There are often unexpected but pleasant marriages of imagery and object. By stripping these pieces of his usual vibrant palette\, Porkchop’s choice of black & white emphasizes the narrative in the works\, which becomes difficult to ignore. Presenting these pieces in symmetry creates an alter that pulls the stories altogether.
URL:https://www.monmouth.edu/events/event/the-cardboard-show/
LOCATION:DiMattio Gallery at Rechnitz Hall
CATEGORIES:Art and Design,Art Exhibitions,Arts at Monmouth,Free
ATTACH;FMTTYPE=image/jpeg:https://www.monmouth.edu/events/wp-content/uploads/sites/19/2024/01/header-5.jpg
END:VEVENT
BEGIN:VEVENT
DTSTART;TZID=America/New_York:20240305T193000
DTEND;TZID=America/New_York:20240305T210000
DTSTAMP:20260425T070510
CREATED:20230516T155819Z
LAST-MODIFIED:20240112T164031Z
UID:40810111961-1709667000-1709672400@www.monmouth.edu
SUMMARY:Amy Winehouse’s Back to Black
DESCRIPTION:It’s just like book club but with albums! With new advances in technology\, the way we consume music through our devices\, apps and on demand streaming services like Pandora\, Spotify and iTunes is making the idea of the “album” as an art form extinct. Get together with other music enthusiasts on Tuesday nights to discuss some of the greatest records of all-time! Listen to the album beforehand and then come prepared to discuss. This event will feature Amy Winehouse’s Back to Black \nThis event is offered BOTH in person and via Zoom. Join us in person at the Great Hall Auditorium on the Campus of Monmouth University or join us via zoom. When you register you will be provided the ZOOM meeting link to join the conversation.  \nFree and open to the public\, but registration is required.
URL:https://www.monmouth.edu/events/event/amy-winehouses-back-to-black/
LOCATION:The Great Hall Auditorium/Virtual\, 400 Cedar Ave\, West Long Branch\, NJ\, 07720\, United States
CATEGORIES:Alumni,Arts at Monmouth,Current Student,Free,Lectures,Lectures/Workshops/Symposiums
ATTACH;FMTTYPE=image/jpeg:https://www.monmouth.edu/events/wp-content/uploads/sites/19/2023/05/winehouse_header.jpg
ORGANIZER;CN="Center for the Arts":MAILTO:kbarratt@monmouth.edu
END:VEVENT
BEGIN:VEVENT
DTSTART;TZID=America/New_York:20240306T193000
DTEND;TZID=America/New_York:20240306T220000
DTSTAMP:20260425T070510
CREATED:20230519T141321Z
LAST-MODIFIED:20240112T164113Z
UID:40810112024-1709753400-1709762400@www.monmouth.edu
SUMMARY:Youth Unstoppable
DESCRIPTION:Directed by Slater Jewell-Kemker\nCanada\, 2018 \nYouth Unstoppable: My Decade in the Youth Climate Movement (formerly An Inconvenient Youth) captures the vibrant untold story of the global youth climate movement. Decisions made today are shaping the world they will live in\, and they are no longer willing to sit idly as the planet is degraded for the short term gain of the older generations. Director Slater Jewell-Kemker has been interviewing celebrities and politicians about the environment since the age of ten\, now she is telling the stories of these remarkable young people on the front lines of climate change. The feature documentary also gives life to a thriving online community\, already forming\, that will continue as a youth focused environmental social network. This is the story of the youth of today fighting for their planet\, their future. \nThere will be a post screening Q&A hosted by Professor Marina  Vujnovic  with special guest speaker Prof. Catherine Duckett. \nFor more information on climate change see: Climate Crisis Teach-In 2024 | School of Science | Monmouth University: https://www.monmouth.edu/school-of-science/climate-crisis-teach-in-2024/ \n  \nhttps://www.youtube.com/watch?v=C8xTsPtSzG4
URL:https://www.monmouth.edu/events/event/youth-unstoppable/
LOCATION:Pollak Theatre
CATEGORIES:Alumni,Arts at Monmouth,Current Student,Film,Free
ATTACH;FMTTYPE=image/jpeg:https://www.monmouth.edu/events/wp-content/uploads/sites/19/2023/05/youth_header.jpg
ORGANIZER;CN="Center for the Arts":MAILTO:kbarratt@monmouth.edu
END:VEVENT
BEGIN:VEVENT
DTSTART;TZID=America/New_York:20240307T190000
DTEND;TZID=America/New_York:20240307T210000
DTSTAMP:20260425T070510
CREATED:20240222T192845Z
LAST-MODIFIED:20240222T192845Z
UID:40810112339-1709838000-1709845200@www.monmouth.edu
SUMMARY:Women in Music 2024
DESCRIPTION:Join Blue Hawk Records at the 2nd annual Women in Music industry event for a discussion about navigating through the industry with some of the most successful women in the field\, in celebration of women’s history month. We have four amazing panelists joining us from some of the best-known companies in the music industry such as Atlantic Records\, Roc Nation\, Primary Wave\, and SiriusXm and Pandora.
URL:https://www.monmouth.edu/events/event/women-in-music-2024/
LOCATION:Lauren K. Woods Theatre
CATEGORIES:Arts at Monmouth,Free,Lectures,Lectures/Workshops/Symposiums,Music + Theatre Arts
ATTACH;FMTTYPE=image/jpeg:https://www.monmouth.edu/events/wp-content/uploads/sites/19/2024/02/header.jpg
END:VEVENT
BEGIN:VEVENT
DTSTART;TZID=America/New_York:20240312T193000
DTEND;TZID=America/New_York:20240312T210000
DTSTAMP:20260425T070510
CREATED:20230516T160222Z
LAST-MODIFIED:20240112T163916Z
UID:40810111964-1710271800-1710277200@www.monmouth.edu
SUMMARY:Julia Baird’s Imagine This: Growing Up with My Brother John Lennon
DESCRIPTION:Join us for Tuesday Night Book Club! Hosted by Monmouth University’s Ken Womack. This month’s novel is Julia Baird’s Imagine This: Growing Up with My Brother John Lennon. The honest and revealing story of John Lennon’s childhood by his sister Julia. Poignant\, raw and beautifully written\, Baird casts John Lennon’s life in a new light and reveals the source of his emotional fragility and musical genius. It’s also one family’s extraordinary and powerful story of how it dealt with fame and tragedy beyond all imagining. \nWhen you register you will be provided the meeting link to join the conversation.
URL:https://www.monmouth.edu/events/event/julia-bairds-imagine-this-growing-up-with-my-brother-john-lennon/
LOCATION:Virtual
CATEGORIES:Alumni,Arts at Monmouth,Current Student,English,Free,Lectures,Lectures/Workshops/Symposiums
ATTACH;FMTTYPE=image/jpeg:https://www.monmouth.edu/events/wp-content/uploads/sites/19/2023/05/Imagine_header.jpg
ORGANIZER;CN="Center for the Arts":MAILTO:kbarratt@monmouth.edu
END:VEVENT
BEGIN:VEVENT
DTSTART;TZID=America/New_York:20240319T193000
DTEND;TZID=America/New_York:20240319T210000
DTSTAMP:20260425T070510
CREATED:20240312T135419Z
LAST-MODIFIED:20240312T135809Z
UID:40810112357-1710876600-1710882000@www.monmouth.edu
SUMMARY:Bill Rosenblatt and Howie Singer
DESCRIPTION:Join authors Bill Rosenblatt and Howie Singer as they discuss their new book Key Changes\, which explores the top ten musical advances that have disrupted the music industry. A book-signing will follow their author Q&A with hosts Ken Womack and Joe Rapolla.
URL:https://www.monmouth.edu/events/event/bill-rosenblatt-and-howie-singer/
LOCATION:LakeHouse Recording Studio\, 619 Lake Ave\, Asbury Park\, NJ\, 07712\, United States
CATEGORIES:Arts at Monmouth,Free,Lectures,Lectures/Workshops/Symposiums
ATTACH;FMTTYPE=image/jpeg:https://www.monmouth.edu/events/wp-content/uploads/sites/19/2024/03/header.jpg
END:VEVENT
BEGIN:VEVENT
DTSTART;TZID=America/New_York:20240322T180000
DTEND;TZID=America/New_York:20240322T200000
DTSTAMP:20260425T070510
CREATED:20240312T164613Z
LAST-MODIFIED:20240312T164809Z
UID:40810112360-1711130400-1711137600@www.monmouth.edu
SUMMARY:Employee Talent Showcase
DESCRIPTION:Join us for an evening filled with creativity and inspiration. Discover the remarkable talents of your coworkers\, from musicians and painters to photographers\, knitters\, and beyond. Be amazed as you witness the diverse array of skills and passions that exist within our community. \nHighlights of the Event: \nConcert:\nEnjoy performances by your talented colleagues at 6:00 PM in the Pollak Theatre. Lu-Ann Russell will be our “STAR Emcee” for the evening\, guiding you through an unforgettable showcase of talent. \nArt Exhibition:\nExplore the creativity on display in the Pollak Gallery from March 14 to March 22. Marvel at the stunning artworks created by your fellow employees and gain a deeper appreciation for their skills. \nCrafts & Artisan Works:\nWitness the craftsmanship of your coworkers as their creations are showcased throughout the day on March 22 starting at 2pm. From intricate designs to handmade treasures\, there’s something for everyone to admire. \nEnjoy light refreshments before the concert. \nThis event is FREE and OPEN TO ALL! Don’t miss this opportunity to celebrate the incredible talent within our community. Come join us for an evening of creativity\, camaraderie\, and inspiration. \n  \n 
URL:https://www.monmouth.edu/events/event/employee-talent-showcase/
LOCATION:Pollak Gallery
CATEGORIES:Arts at Monmouth,Free
ATTACH;FMTTYPE=image/jpeg:https://www.monmouth.edu/events/wp-content/uploads/sites/19/2024/03/header-1.jpg
END:VEVENT
BEGIN:VEVENT
DTSTART;TZID=America/New_York:20240325T080000
DTEND;TZID=America/New_York:20240502T170000
DTSTAMP:20260425T070510
CREATED:20231220T184359Z
LAST-MODIFIED:20240305T140230Z
UID:40810112264-1711353600-1714669200@www.monmouth.edu
SUMMARY:Metamorphosis: Works by Nanci France-Vaz
DESCRIPTION:Metamorphosis: Life is all about transitions from one time in life to another. Artists of any art from have dreams of becoming a master in their genre\, successful in their career\, and recognized to the masses. The models in the paintings are artists in music\, art\, and performing art  based on a moment in their life or a narrative Nanci has created from film\, literature or poetry. Figurative storytelling is infused with light\, patterns\, and human presence to that have visual impact and make the viewers ponder over the meaning and left to their interpretations. France-Vaz is known for her Imaginative Portraits that render allegorical symbols combined with story and imagination. Most of the work is of female artists that never give up hope or their dreams of becoming a reality. \nArtist Demo: March 9 from 3-6\nThere will be a live demo of The Imaginative Portrait with Pam McCoy. Click here to RSVP to the FREE DEMO\n\nArtist Reception: April 26 from 6 -8 PM \nThis exhibition is in conjunction with the concert Metamorphosis: Portraits of Song on April 26 at 8 pm. The opening reception is FREE to the public\, however tickets are required to attend the concert. \nBio: \nNanci France-Vaz is a modern renaissance artist that uses allegorical symbolism to create visual stories on canvas. France-Vaz draws inspiration from the Pre-Raphaelite and Naturalist periods of art\, poetry\, and classic literature\, and film. She combines her strong foundation in life painting with imaginative backgrounds fusing classical with contemporary realism. \nThe artist was born in Brooklyn\, NY and moved to the UWS in Manhattan in 2002 to study portrait and figurative art. She was the recipient of the Rhodes Scholarship Award and earned a BFA from the School of Visual Arts in 3D Computer Animation for Film and Special Effects. \nFrance-Vaz has exhibited at the Dacia Gallery NYC\, Wausau Museum of Contemporary Art\, Museum of Modern European Art for ModPortrait and first round of Figurativas\,  Abend Gallery\, Principle Gallery\, Lovetts Gallery\, Eisele Gallery\, Butler Insitute of Fine Art\, National Arts Club NYC\, and Salmagundi Club NYC. She has had 3 solo shows. Her solo exhibit at DaciaGallery\, NYC will be in October 2023 dates TBA. \nNanci France-Vaz has won  of many notable awards nationally. She is the recipient of the ARC Salon Purchase Award in Imaginative Realism for the 16th Annual ARC Salon\, Beautiful Bizarre Art Prize Honorable Mention\, Best in Show Wausau Museum\, 2nd Place Southwest Art Artistic Excellence\, Len G Everett Memorial Award\, Joseph Hartley Memorial Award\, John Collins Award\, Colonel George J Morales Award\, PSOA 3rd Place \, ARC Salon\, International Artists People & Figures 2021\, and Best in Show Portrait Award\, Petite Gallery. \nThe concepts of her works are based on a moment in time\, classical literature\, film\, and poetry\, introducing a modern subject or twist to her story. Her intent is to combine hope\, spiritual beliefs\, and the human condition. Most of her models are professional musicians\, artists\, actors\, and dancers.  The spiritual\, the mystical\, and the mythical have underlying tones and meanings left for the beholder to ponder and engage psychologically. Having studied film and Stanislavski Method Acting allows for a spiritual connection to her subjects expressing emotion and mood. Her study of lighting and movement\, through acting\, dance\, and theater is the catalyst for creating a still image from a cinematic process.  France-Vaz’s patterns of life express a life experience or moment of thought in time. \nFrance-Vaz has been published in Fine Art Connoisseur Magazine\, ModPortrait 2020/2021\,  American Art Collector\, Southwest Art Magazine\, \, ARC Salon\, International Artists\, Realism Today\, and Leonardo Guide Artelibre 2021\, \nHer paintings and commissions hang in private collections.
URL:https://www.monmouth.edu/events/event/metamorphosis-works-by-nanci-france-vaz/
LOCATION:Pollak Gallery
CATEGORIES:Art Exhibitions,Arts at Monmouth,Free
ATTACH;FMTTYPE=image/jpeg:https://www.monmouth.edu/events/wp-content/uploads/sites/19/2023/12/newheader.jpg
END:VEVENT
BEGIN:VEVENT
DTSTART;TZID=America/New_York:20240326T120000
DTEND;TZID=America/New_York:20240326T120000
DTSTAMP:20260425T070510
CREATED:20240314T155835Z
LAST-MODIFIED:20240923T145824Z
UID:40810112366-1711454400-1711454400@www.monmouth.edu
SUMMARY:"Lunch and Learn" with Kerstin Japak ’14
DESCRIPTION:Career Advice You Wish You Got Sooner \nHear from alumna Kerstin Japak ’14 as she shares her career journey\, success strategies\, and the advice she “wishes she got sooner.” As an HR professional at Johnson & Johnson\, Kerstin will share her insight and expertise\, as well as a look into her role in recruitment for Global Corporate Affairs and how she got there. Whether you are about to graduate or are looking to take your career to the next level\, this session is for you! \nKerstin Japak graduated from Monmouth University in 2014 with a degree in Psychology. After graduating\, she worked in the brain injury and mental health field before embarking on a career pivot to HR with CentraState Healthcare System in 2018.  Despite changing functions\, she’s been working in healthcare now in some capacity for more than 11 years. Kerstin found her “home” in HR at Johnson & Johnson\, where she is currently employed. At J&J\, Kerstin supports recruitment for their Global Corporate Affairs function and is currently on a grow assignment within HR Digital Transformation.
URL:https://www.monmouth.edu/events/event/lunch-and-learn-with-kerstin-japak-14/
LOCATION:Virtual (Zoom)
CATEGORIES:Alumni,Alumni Events,Community Member,Current Student,Faculty,Free,Lectures,Workshops and Professional Development
ATTACH;FMTTYPE=image/jpeg:https://www.monmouth.edu/events/wp-content/uploads/sites/19/2024/03/Headshot.jpg
END:VEVENT
BEGIN:VEVENT
DTSTART;TZID=America/New_York:20240328T163000
DTEND;TZID=America/New_York:20240328T180000
DTSTAMP:20260425T070510
CREATED:20240326T191139Z
LAST-MODIFIED:20240327T141017Z
UID:40810112381-1711643400-1711648800@www.monmouth.edu
SUMMARY:Why Americans Doubt Climate Science
DESCRIPTION:A presentation by Peter Jacques\, Ph.D. \nIn 2023\, fifteen percent of surveyed Americans did not think climate change was happening\, and 28 percent responded that warming was not caused by human activities. 22 percent were doubtful or dismissive of climate change. Why is this when over\, according to a 2021 survey of climate experts found that 98.7 percent of them said the climate is warming and humans are driving this global environmental change? Between confirmed climate experts who published 20 or more peer reviewed papers on climate change between 2015 and 2019\, there was 100 percent agreement that the Earth is warming mostly because of human activity.  \nAt least part of this disconnect is because there has been a US-centered counter-movement organized to cast doubt on climate change science and climate scientists. This effort is organized by policy elites in conservative think tanks who have guided some of our narratives and these narratives have turned an elite-led counter-movement to one that is populist. This discussion will attend to the social science surrounding this climate change counter-movement (CCCM).
URL:https://www.monmouth.edu/events/event/why-americans-doubt-climate-science/
LOCATION:Edison Atrium – Room 201
CATEGORIES:Alumni,Community Member,Current Student,Faculty,Free,Graduate Student,Lectures,Media,Special Events
ORGANIZER;CN="Climate Crisis Teach-in":MAILTO:cduckett@monmouth.edu
END:VEVENT
END:VCALENDAR