BEGIN:VCALENDAR
VERSION:2.0
PRODID:-//Events - ECPv6.15.20//NONSGML v1.0//EN
CALSCALE:GREGORIAN
METHOD:PUBLISH
X-ORIGINAL-URL:https://www.monmouth.edu/events
X-WR-CALDESC:Events for Events
REFRESH-INTERVAL;VALUE=DURATION:PT1H
X-Robots-Tag:noindex
X-PUBLISHED-TTL:PT1H
BEGIN:VTIMEZONE
TZID:America/New_York
BEGIN:DAYLIGHT
TZOFFSETFROM:-0500
TZOFFSETTO:-0400
TZNAME:EDT
DTSTART:20230312T070000
END:DAYLIGHT
BEGIN:STANDARD
TZOFFSETFROM:-0400
TZOFFSETTO:-0500
TZNAME:EST
DTSTART:20231105T060000
END:STANDARD
BEGIN:DAYLIGHT
TZOFFSETFROM:-0500
TZOFFSETTO:-0400
TZNAME:EDT
DTSTART:20240310T070000
END:DAYLIGHT
BEGIN:STANDARD
TZOFFSETFROM:-0400
TZOFFSETTO:-0500
TZNAME:EST
DTSTART:20241103T060000
END:STANDARD
BEGIN:DAYLIGHT
TZOFFSETFROM:-0500
TZOFFSETTO:-0400
TZNAME:EDT
DTSTART:20250309T070000
END:DAYLIGHT
BEGIN:STANDARD
TZOFFSETFROM:-0400
TZOFFSETTO:-0500
TZNAME:EST
DTSTART:20251102T060000
END:STANDARD
END:VTIMEZONE
BEGIN:VEVENT
DTSTART;TZID=America/New_York:20240116T000000
DTEND;TZID=America/New_York:20240308T235959
DTSTAMP:20260425T101732
CREATED:20231204T162042Z
LAST-MODIFIED:20240122T204613Z
UID:40810112207-1705363200-1709942399@www.monmouth.edu
SUMMARY:Journeys of Interdependence: Portraits of First-Generation Identity in Higher Education
DESCRIPTION:The lives and experiences of students\, families\, faculty and professional staff who identify as first-generation are the subject of increased attention in higher education across the United States. The success of programs\, initiatives\, and interventions mostly focus on measurable student “outcomes” but may often miss the complicated narratives of aspiration\, sacrifice\, accomplishment and identity work first-generation students\, families\, faculty\, staff and communities navigate.  Portraiture can make visible the triumphs and challenges of being first in the family in higher educational spaces. This juried exhibition features works that highlight the  first-generation college experience through portraiture  made in a variety of media\, including painting\, drawing\, sculpture\, photography\, printmaking and textiles. \nArtist Reception: Rescheduled to Friday\, March 1 from 5-7 pm. RSVP to the reception here
URL:https://www.monmouth.edu/events/event/journeys-of-interdependence-portraits-of-first-generation-identity-in-higher-education/
LOCATION:Pollak Gallery
CATEGORIES:Art Exhibitions,Arts at Monmouth,Free
ATTACH;FMTTYPE=image/jpeg:https://www.monmouth.edu/events/wp-content/uploads/sites/19/2023/12/firstgennew.jpg
END:VEVENT
BEGIN:VEVENT
DTSTART;TZID=America/New_York:20240206T193000
DTEND;TZID=America/New_York:20240206T210000
DTSTAMP:20260425T101732
CREATED:20230516T155153Z
LAST-MODIFIED:20240112T182225Z
UID:40810111955-1707247800-1707253200@www.monmouth.edu
SUMMARY:Ella Fitzgerald and Louis Armstrong’s Ella & Louis
DESCRIPTION:It’s just like book club but with albums! With new advances in technology\, the way we consume music through our devices\, apps and on demand streaming services like Pandora\, Spotify and iTunes is making the idea of the “album” as an art form extinct. Get together with other music enthusiasts on Tuesday nights to discuss some of the greatest records of all-time! Listen to the album beforehand and then come prepared to discuss. This event will feature Ella Fitzgerald and Louis Armstrong’s Ella & Louis. \nThis event is offered BOTH in person and via Zoom. Join us in person at the Great Hall Auditorium on the Campus of Monmouth University or join us via zoom. When you register you will be provided the ZOOM meeting link to join the conversation.  \nFree and open to the public\, but registration is required.
URL:https://www.monmouth.edu/events/event/ella-fitzgerald-and-louis-armstrongs-ella-louis/
LOCATION:The Great Hall Auditorium/Virtual\, 400 Cedar Ave\, West Long Branch\, NJ\, 07720\, United States
CATEGORIES:Alumni,Arts at Monmouth,Current Student,Free,Lectures,Lectures/Workshops/Symposiums
ATTACH;FMTTYPE=image/jpeg:https://www.monmouth.edu/events/wp-content/uploads/sites/19/2023/05/ellaLouis_header.jpg
ORGANIZER;CN="Center for the Arts":MAILTO:kbarratt@monmouth.edu
END:VEVENT
BEGIN:VEVENT
DTSTART;TZID=America/New_York:20240206T193000
DTEND;TZID=America/New_York:20240206T220000
DTSTAMP:20260425T101732
CREATED:20230519T141055Z
LAST-MODIFIED:20240112T164113Z
UID:40810112021-1707247800-1707256800@www.monmouth.edu
SUMMARY:Last Train Home
DESCRIPTION:Directed by Lixin Fan\nCanada\, China\, 2009 \nA family embarks on an annual tormenting journey along with 200 other million peasant workers to reunite with their distant family\, and to revive their love and dignity as China soars as the world’s next super power. \nThere will be a post screening Q&A hosted by Professor Chris DeRosa with special guest speaker Prof. Mel Brzycki.
URL:https://www.monmouth.edu/events/event/last-train-home/
LOCATION:Pollak Theatre
CATEGORIES:Alumni,Arts at Monmouth,Current Student,Free
ATTACH;FMTTYPE=image/jpeg:https://www.monmouth.edu/events/wp-content/uploads/sites/19/2023/05/LastTrain_header.jpg
ORGANIZER;CN="Center for the Arts":MAILTO:kbarratt@monmouth.edu
END:VEVENT
BEGIN:VEVENT
DTSTART;TZID=America/New_York:20240209T000000
DTEND;TZID=America/New_York:20240322T235959
DTSTAMP:20260425T101732
CREATED:20240122T210959Z
LAST-MODIFIED:20240228T213327Z
UID:40810112294-1707436800-1711151999@www.monmouth.edu
SUMMARY:The Cardboard Show
DESCRIPTION:Monmouth University\, in conjunction with Parlor Gallery is thrilled to kick off the year with a captivating art exhibition that transcends traditional boundaries. Prepare to immerse yourself in a world of limitless imagination at the much-anticipated Cardboard Show\, an extraordinary celebration of free-form and experimental creativity. \nThe Cardboard Show is the result: a collection of large-scale sculptures and forms in three distinct voices\, united by medium\, friendship\, and a commitment to a playful approach to creating art for its own sake. These three artists sequestered themselves in Parlor Gallery last January and opened the doors to the public a month later to share their fantastical and unique cardboard creations in an immersive type of presentation. For the continuation of this project\, the artists will follow the same practice of collaborating in the same space at the same time\, building these wonderous creations on site starting January 16th\, 2024\, and will continue to construct and design the exhibition until the opening night on February 9th\, 2024. \nDemo and Meet & Greet:\nThursday\, March 21st. Demo from 3-4 and continuation of the Meet & Greet from 4 – 6. \nOpening Night Reception: Friday\, February 9th from 6-9pm. In addition to the opening reception\, there will also be an artist meet & greet and informal artist talk during the exhibition. \nUnveiling the Magic:\nThe Cardboard Show is a testament to the power of collaboration. Three visionary artists—Porkchop\, Bradley Hoffer\, and Jason Stumpf—invite you to witness the evolution of their fantastical creations. Having sequestered themselves in Parlor Gallery last January\, the artists opened their doors to the public a month later\, sharing the enchantment of their unique cardboard world. \nCreating Wonders in Real-Time:\nAs part of the ongoing project\, these artists will once again unite under one roof\, infusing life into their cardboard wonders starting January 16th\, 2024. Witness the magic unfold as they construct and design this extraordinary exhibition\, culminating in the grand opening on February 9th\, 2024. Join us on a journey where art transcends boundaries\, fueled by the collaborative spirit of three local artists and friends. In addition to the cardboard sculptures\, each artist will also be exhibiting a selection of each of their respective work. \nAbout the Artists: \nBradley Hoffer is a multi-disciplinary artist\, designer\, carpenter\, and maker of original and preconceived concepts. Living and working most of his life in NJ; he received a BFA in sculpture from Mason Gross school of Visual Art at Rutgers. Bradley’s distinct style/work is recognizable using continuous line along with a balance of colors. For this show at Monmouth University\, he is exploring a new complex level of layers in three dimensions. Cardboard is the medium that is being used to accomplish the new sculptures. Bradley is also revealing a collection of paintings that have been in the works for the past 6 years. \nJason Stumpf is multidisciplinary artist based in Asbury Park\, NJ. A woodworker for over 30 years\, his work ranges from sculpture and furniture to cabinetry and wooden boats. His work is influenced by a fascination with structure\, minimalism\, and materiality.  Jason furniture designs often take inspiration from archaic forms and techniques. Those influences are expressed through a minimalist\, modern design ethos. His sculptures stretch that practical design aesthetic into abstracted forms and ideas. \nPorkchop is a multi-disciplinary artist from New Jersey. He has an MFA in Sculpture from VCU and a BFA in Fine Arts from University of the Arts in Philadelphia. Porkchop has established a great presence through his magnificently scaled murals\, including the extensively documented scenes he composed along the Asbury Park Boardwalk in conversation with the sea. Narrative is a prevalent theme in his work. Denizens and visitors to Monmouth County have been enjoying Porkchop’s vibrant and colorful artwork and murals for years\, but in most recent manifestation\, the artist strips his works of his normally vivid palette and instead employs intentionally ritualistic and graphic monochromatic designs and symbols accented with Gold. Influenced by ancient history\, mythology\, religion and literature\, the artist Porkchop sources out\, manipulates\, and casts familiar objects. He then painstakingly recreates their surfaces giving them a new existence into a dark and curious storyline. The application of paint into his intentional ritualistic designs followed by flawless coats of glossy resin is an act of pure precision and care\, like the work of a surgeon or mortician. There are often unexpected but pleasant marriages of imagery and object. By stripping these pieces of his usual vibrant palette\, Porkchop’s choice of black & white emphasizes the narrative in the works\, which becomes difficult to ignore. Presenting these pieces in symmetry creates an alter that pulls the stories altogether.
URL:https://www.monmouth.edu/events/event/the-cardboard-show/
LOCATION:DiMattio Gallery at Rechnitz Hall
CATEGORIES:Art and Design,Art Exhibitions,Arts at Monmouth,Free
ATTACH;FMTTYPE=image/jpeg:https://www.monmouth.edu/events/wp-content/uploads/sites/19/2024/01/header-5.jpg
END:VEVENT
BEGIN:VEVENT
DTSTART;TZID=America/New_York:20240213T193000
DTEND;TZID=America/New_York:20240213T210000
DTSTAMP:20260425T101732
CREATED:20230516T155520Z
LAST-MODIFIED:20240112T182225Z
UID:40810111958-1707852600-1707858000@www.monmouth.edu
SUMMARY:Zora Neale Hurston’s Their Eyes Were Watching God
DESCRIPTION:Join us for Tuesday Night Book Club! Hosted by Monmouth University’s Ken Womack. This month’s novel is Zora Neale Hurston’s Their Eyes Were Watching God. One of the most important and enduring books of the twentieth century\, Their Eyes Were Watching God brings to life a Southern love story with the wit and pathos found only in the writing of Zora Neale Hurston. Out of print for almost thirty years—due largely to initial audiences’ rejection of its strong black female protagonist—Hurston’s classic has since its 1978 reissue become perhaps the most widely read and highly acclaimed novel in the canon of African-American literature. \nWhen you register you will be provided the meeting link to join the conversation.
URL:https://www.monmouth.edu/events/event/zora-neale-hurstons-their-eyes-were-watching-god/
LOCATION:Virtual
CATEGORIES:Alumni,Arts at Monmouth,Current Student,English,Free,Lectures,Lectures/Workshops/Symposiums
ATTACH;FMTTYPE=image/jpeg:https://www.monmouth.edu/events/wp-content/uploads/sites/19/2023/05/hurston_header.jpg
ORGANIZER;CN="Center for the Arts":MAILTO:kbarratt@monmouth.edu
END:VEVENT
BEGIN:VEVENT
DTSTART;TZID=America/New_York:20240223T153000
DTEND;TZID=America/New_York:20240223T170000
DTSTAMP:20260425T101732
CREATED:20240130T185256Z
LAST-MODIFIED:20240222T172909Z
UID:40810112321-1708702200-1708707600@www.monmouth.edu
SUMMARY:Ross Gay - Toni Morrison Day Keynote Speaker
DESCRIPTION:Ross Gay is the author of the poetry collections Against Which (2006)\, Bringing the Shovel Down (2011)\, Catalog of Unabashed Gratitude (2015)\, winner of the 2015 National Book Critics Circle Award and the 2016 Kingsley Tufts Poetry Award\, and Be Holding (2022)\, winner of the PEN American Literary Jean Stein Award. As an essayist\, he has published The Book of Delights\, a 2019 New York Times bestseller\, Inciting Joy (2022)\, and The Book of (More) Delights (2023). Gay is founding co-editor of the online sports magazine Some Call it Ballin’ and an ardent gardener and founding board member of the Bloomington Community Orchard\, a non-profit\, free-fruit-for-all food justice and joy project.  \nVisit the Toni Morrison homepage for the complete program: https://www.monmouth.edu/department-of-english/toni-morrison-day/ \nCo-Sponsored by the Department of English\, Intercultural Center \, Wayne D. McMurray School of Humanities and Social Sciences\, School of Social Work\, Leon Hess Business School\, History & Anthropology\, Guggenheim Memorial Library\, Monmouth Review  \nSpecial thanks to community partner Project Write Now\n \nQuestions can go to english@monmouth.edu
URL:https://www.monmouth.edu/events/event/ross-gay-toni-morrison-day-keynote-speaker/
LOCATION:Pozycki Hall Auditorium
CATEGORIES:Arts at Monmouth,English,Free,Lectures,Lectures/Workshops/Symposiums,School of Humanities and Social Sciences
ATTACH;FMTTYPE=image/jpeg:https://www.monmouth.edu/events/wp-content/uploads/sites/19/2024/01/headergay.jpg
END:VEVENT
BEGIN:VEVENT
DTSTART;TZID=America/New_York:20240227T183000
DTEND;TZID=America/New_York:20240227T200000
DTSTAMP:20260425T101732
CREATED:20240123T194613Z
LAST-MODIFIED:20240215T205947Z
UID:40810112300-1709058600-1709064000@www.monmouth.edu
SUMMARY:Black History Month Alumni Career Panel
DESCRIPTION:Presented by The Intercultural Center\, Alumni Engagement and Annual Giving\, and Career Development \nJoin us for a panel discussion with Black Alumni as they share their stories from college to career\, obstacles they had to overcome and offer advice on how to prepare for a successful career. All alumni are invited to attend the panel and mixer after to network with students and fellow Hawks! Food and beverages will be provided.
URL:https://www.monmouth.edu/events/event/black-history-month-alumni-career-panel/
LOCATION:Julian Abele Room (The Great Hall Room 104)
CATEGORIES:Alumni,Alumni Calendar Featured,Alumni Events,Current Student,Diversity and Inclusion,Faculty,Free,Intercultural Center,Intercultural Center Events,Lectures,Media,Workshops and Professional Development
ATTACH;FMTTYPE=image/jpeg:https://www.monmouth.edu/events/wp-content/uploads/sites/19/2024/01/Kuree-Cain.jpg
END:VEVENT
BEGIN:VEVENT
DTSTART;TZID=America/New_York:20240229T133000
DTEND;TZID=America/New_York:20240229T150000
DTSTAMP:20260425T101732
CREATED:20240220T225010Z
LAST-MODIFIED:20240220T225010Z
UID:40810112336-1709213400-1709218800@www.monmouth.edu
SUMMARY:Careers in Pharmaceuticals Panel
DESCRIPTION:Moderated by Kanesha Jones ’03\, Director of Product Quality Vigilance\, Johnson & Johnson \nDid you know that 14 of the top 20 pharmaceutical companies have offices in New Jersey? And that overall spending in the pharmaceutical industry is expected to exceed $1 trillion by 2030? \nWe are excited to offer this Careers in Pharmaceuticals Panel for you to hear from accomplished Monmouth University alumni working in top pharma careers. You will learn about the various career opportunities and companies in the pharmaceutical sector and receive tips on ensuring your application is competitive when applying for these jobs. Join us for valuable insight\, networking\, and refreshments.
URL:https://www.monmouth.edu/events/event/careers-in-pharmaceuticals-panel/
LOCATION:Julian Abele Room (The Great Hall Room 104)
CATEGORIES:Alumni,Alumni Calendar Featured,Alumni Events,Community Member,Current Student,Faculty,Free,Undergraduate Student,Workshops and Professional Development
ATTACH;FMTTYPE=image/jpeg:https://www.monmouth.edu/events/wp-content/uploads/sites/19/2024/02/KJones.jpeg
END:VEVENT
END:VCALENDAR