BEGIN:VCALENDAR
VERSION:2.0
PRODID:-//Events - ECPv6.15.20//NONSGML v1.0//EN
CALSCALE:GREGORIAN
METHOD:PUBLISH
X-WR-CALNAME:Events
X-ORIGINAL-URL:https://www.monmouth.edu/events
X-WR-CALDESC:Events for Events
REFRESH-INTERVAL;VALUE=DURATION:PT1H
X-Robots-Tag:noindex
X-PUBLISHED-TTL:PT1H
BEGIN:VTIMEZONE
TZID:America/New_York
BEGIN:DAYLIGHT
TZOFFSETFROM:-0500
TZOFFSETTO:-0400
TZNAME:EDT
DTSTART:20190310T070000
END:DAYLIGHT
BEGIN:STANDARD
TZOFFSETFROM:-0400
TZOFFSETTO:-0500
TZNAME:EST
DTSTART:20191103T060000
END:STANDARD
BEGIN:DAYLIGHT
TZOFFSETFROM:-0500
TZOFFSETTO:-0400
TZNAME:EDT
DTSTART:20200308T070000
END:DAYLIGHT
BEGIN:STANDARD
TZOFFSETFROM:-0400
TZOFFSETTO:-0500
TZNAME:EST
DTSTART:20201101T060000
END:STANDARD
BEGIN:DAYLIGHT
TZOFFSETFROM:-0500
TZOFFSETTO:-0400
TZNAME:EDT
DTSTART:20210314T070000
END:DAYLIGHT
BEGIN:STANDARD
TZOFFSETFROM:-0400
TZOFFSETTO:-0500
TZNAME:EST
DTSTART:20211107T060000
END:STANDARD
END:VTIMEZONE
BEGIN:VEVENT
DTSTART;VALUE=DATE:20200121
DTEND;VALUE=DATE:20200314
DTSTAMP:20260425T112031
CREATED:20191115T153257Z
LAST-MODIFIED:20200310T153747Z
UID:40810110128-1579564800-1584090000@www.monmouth.edu
SUMMARY:Closed: Access and Opportunity\, Diversity & Inclusion
DESCRIPTION:Acts of injustice\, bias\, and disrespect\, against groups and individuals\, continue to play out across our nation. This juried exhibition will feature works that define what it means to be a good citizen in a global context\, a person appreciative of all cultures and committed to fairness with respect and equality for all. By looking broadly at access and opportunity for all members of society regardless of age\, disability\, ethnicity\, gender identity\, national origin\, race\, religious affiliation\, or sexual orientation we can help everyone recognize\, appreciate\, and respect difference. \nParticipating Artists include: \nJoan Appel\nBrandin Barón\nAmy Block\nJanet Braun-Reinitz\nLindsay Brennan\nKelly Burke\nMonica Camin\nBonnie Carlson Diana\nMarina Carreira\nAshley Carroll\nJacob Clayton\nLinda Rae Coughlin\nRosemary Fineberg\nSandra Frankel\nLinda Friedman Schmidt\nZach Horn\nRusty Leffel\nJonathan Lessuck\nJacqueline Madara-Campbell\nRashna Madon\nRosemary Meza-DesPlas\nMaria Morales\nAndrea Phox\nJohn Piccoli\nRobert Selby\nAlice Sims-Gunzenhauser\nSandy Taylor\nNettie Thomas\nHui Tian\nEmily Tironi\nShoaib Wazir\nDavid Weed\nGuta Galli and Aaron Wilder
URL:https://www.monmouth.edu/events/event/access-and-opportunity-diversity-inclusion/
LOCATION:Pollak Gallery
CATEGORIES:Art Exhibitions,Arts at Monmouth,Free
ATTACH;FMTTYPE=image/jpeg:https://www.monmouth.edu/events/wp-content/uploads/sites/19/2019/11/access-Postcard_outlines2-1.jpg
END:VEVENT
BEGIN:VEVENT
DTSTART;VALUE=DATE:20200121
DTEND;VALUE=DATE:20200314
DTSTAMP:20260425T112031
CREATED:20190614T144300Z
LAST-MODIFIED:20200310T153732Z
UID:40810104896-1579564800-1584143999@www.monmouth.edu
SUMMARY:Closed: Gina Torello: LightScapes
DESCRIPTION:Light is a living element\, fixed in a moment of time\, captured by the lens of a machine or by the hand of man. This light shifts\, changes and instantaneously alters landscapes. It illuminates color and contrast\, in the key absence of artificial light. Lightscapes is the light in all our scapes\, originating from the sun or moon\, our natural resource. Lightscapes is the wonder of how light wraps itself around nature in a moment of stillness. \nAs you explore Lightscapes\, you will be surrounded by examples of how this light pulls you to various environments – evoking emotions\, some subtle and some turbulent. The exhibition does not seek to duplicate nature\, but instead allows the expressive and intimate use of color and light to dance within the work. \nLeveraging her strong classical European education\, Gina Torello’s work is diverse in both media and style. Her sense of expression demonstrates a mastery of color and is captured in her freedom to recreate Lightscapes that speak to the viewer from her soul. \nCome explore Lightscapes for yourself. In her retrospective exhibit\, Gina Torello demonstrates how light intertwines the subject matter of her oils\, pastels\, printmaking\, photography and sculpture in the Ice House Gallery. Gina Torello is a Professor in Monmouth University’s Department of Art and Design. \nArtist’s website:  www.ginatorello.studio
URL:https://www.monmouth.edu/events/event/gina-torello-lightscapes/
LOCATION:Rotary Ice House Gallery
CATEGORIES:Art Exhibitions,Arts at Monmouth,Free
ATTACH;FMTTYPE=image/jpeg:https://www.monmouth.edu/events/wp-content/uploads/sites/19/2019/06/ginaTorelloHero.jpg
END:VEVENT
BEGIN:VEVENT
DTSTART;TZID=America/New_York:20200302T180000
DTEND;TZID=America/New_York:20200302T200000
DTSTAMP:20260425T112031
CREATED:20190614T134029Z
LAST-MODIFIED:20210415T131212Z
UID:40810104863-1583172000-1583179200@www.monmouth.edu
SUMMARY:New Stories for the Anthropocene: Artist Talk with Elizabeth Demaray
DESCRIPTION:Elizabeth Demaray is an artist who focuses on the interface between the built and the natural environment. In this vein\, she builds listening stations for birds that play human music\, cultures lichen on the sides of skyscrapers in New York City\, and designs alternative forms of housing for land hermit crabs. These artworks often involve the concept of a biotope\, which is a small environment where human and non-human populations overlap. \nWhile in residence at Monmouth University\, Demaray will present these projects and will lead a workshop on non-anthropocentric design. She will also be pairing with the campus to create a community-based project that embraces the idea of “trans-species giving.” According to Demaray\, the concept of trans-species giving asserts that the commonalities between life forms are such that we may actually be able to give other organisms a “hand up\,” notwithstanding our own cultural or species-specific assumptions about the natural world. \nDemaray is the recipient of the National Studio Award from the New York Museum of Modern Art/P.S.1 Contemporary Art Center and the New York Foundation for the Arts Fellowship in Sculpture\, and was the featured artist at the 2014 Association of Environmental Science Studies symposium\, Welcome to the Anthropocene. She lives and works in Brooklyn\, New York\, and is an associate professor of fine arts and head of the sculpture concentration at Rutgers University\, Camden. On the Rutgers\, New Brunswick\, campus\, she is a work group advisor in the Department of Aerospace and Mechanical Engineering and an advisor at The Art and Artificial Intelligence Laboratory at Rutgers University\, in the Department of Computer Science\, which is dedicated to supporting artistic practice in the fields of computer vision and machine learning. \nDemaray’s work can be seen at: https://elizabethdemaray.org
URL:https://www.monmouth.edu/events/event/new-stories-for-the-anthropocene-artist-talk-with-elizabeth-demaray/
LOCATION:The Great Hall Auditorium
CATEGORIES:Arts at Monmouth,Free
ATTACH;FMTTYPE=image/jpeg:https://www.monmouth.edu/events/wp-content/uploads/sites/19/2019/06/elizabethDemarayHero.jpg
END:VEVENT
BEGIN:VEVENT
DTSTART;TZID=America/New_York:20200324T193000
DTEND;TZID=America/New_York:20200324T210000
DTSTAMP:20260425T112031
CREATED:20190610T133632Z
LAST-MODIFIED:20210415T144630Z
UID:40810104776-1585078200-1585083600@www.monmouth.edu
SUMMARY:CANCELLED - Mustang
DESCRIPTION:Monmouth University Global Education Office presents World Cinema Series 2019-2020 – “Women: Power and Identity”. A global cinematic survey of women as leaders of change in patriarchal cultures through their engagement in community\, national politics\, and film. \nWhen five orphan girls are seen innocently playing with boys on a beach\, their scandalized conservative guardians confine them while forced marriages are arranged. (Director: Deniz Gamze Ergüven\, 2015) \nRated: PG-13\n1 hour 37 minutes
URL:https://www.monmouth.edu/events/event/mustang/
LOCATION:Pollak Theatre
CATEGORIES:Arts at Monmouth,Film,Free
ATTACH;FMTTYPE=image/jpeg:https://www.monmouth.edu/events/wp-content/uploads/sites/19/2019/06/mustangHero.jpg
END:VEVENT
BEGIN:VEVENT
DTSTART;VALUE=DATE:20200327
DTEND;VALUE=DATE:20200404
DTSTAMP:20260425T112031
CREATED:20190614T144342Z
LAST-MODIFIED:20200313T153105Z
UID:40810104899-1585267200-1585958399@www.monmouth.edu
SUMMARY:POSTPONED - First Senior Show: Fine Art & Animation
DESCRIPTION:Featuring the work of Monmouth University graduating seniors who will receive their degrees in Fine Art and Animation.
URL:https://www.monmouth.edu/events/event/first-senior-show-fine-art-animation/
LOCATION:DiMattio Gallery at Rechnitz Hall
CATEGORIES:Art Exhibitions,Arts at Monmouth,Free
ATTACH;FMTTYPE=image/jpeg:https://www.monmouth.edu/events/wp-content/uploads/sites/19/2019/06/firstSeniorShowHero.jpg
END:VEVENT
BEGIN:VEVENT
DTSTART;TZID=America/New_York:20200327T193000
DTEND;TZID=America/New_York:20200327T213000
DTSTAMP:20260425T112031
CREATED:20200306T222716Z
LAST-MODIFIED:20200317T192627Z
UID:40810110179-1585337400-1585344600@www.monmouth.edu
SUMMARY:CANCELLED: Colin Hay – Waiting For My Real Life
DESCRIPTION:What happens after you reach the top? From international number one singles to obscurity and addiction to the simple song of salvation\, follow the inner journey of a singer–songwriter reborn by singing his truth. Colin Hay – Waiting For My Real Life is the inspiring story of Colin Hay\, an acclaimed solo artist and former Men At Work frontman\, and his personal and artistic journey from dizzying heights to staggering lows to finding salvation through song. We follow the surprisingly swift rise to superstardom of his band Men At Work\, to that band’s equally surprising demise\, to his long\, slow climb back to relevance and resonance. Ultimately\, commitment to his craft and the development of a truly one-of-a-kind stage show set Colin on the path that leads to a deeply satisfying solo career – one that is still ascending. With sold-out shows\, critically acclaimed albums and a word-of-mouth reputation for providing one of the finest nights out a music fan could ask for\, Colin finds himself at the top of his abilities and is just getting started. \nColin Hay- Waiting For My Real Life weaves its story around intimate footage from Colin’s successful 2013 world tour. It features interviews with close family and friends as well as celebrity admirers Hugh Jackman\, Mick Fleetwood\, Zach Braff\, Sia Furler and many others reflecting on the impact of this powerhouse singer on their lives and work – giving a glimpse into the heart of one of the most successful songwriters of the 20th century.
URL:https://www.monmouth.edu/events/event/colin-hay-waiting-for-my-real-life/
LOCATION:Pollak Theatre
CATEGORIES:Arts at Monmouth,Film,Free
ATTACH;FMTTYPE=image/jpeg:https://www.monmouth.edu/events/wp-content/uploads/sites/19/2020/03/header.jpg
END:VEVENT
BEGIN:VEVENT
DTSTART;TZID=America/New_York:20200330T180000
DTEND;TZID=America/New_York:20200330T200000
DTSTAMP:20260425T112031
CREATED:20200306T200104Z
LAST-MODIFIED:20200313T153608Z
UID:40810110176-1585591200-1585598400@www.monmouth.edu
SUMMARY:POSTPONED - Word is Bond
DESCRIPTION:Exclusive Screening and Conversation with Director Sacha Jenkins and Grammy Winning Artist\, Che “Rhymefest” Smith \n\nWord Is Bond\, a documentary exploring the transformational power and many layers of poetic hip-hop lyrics\, featuring insights from world-renowned hip-hop artists like Nas and J Cole.  \n\n 
URL:https://www.monmouth.edu/events/event/word-is-bond/
LOCATION:The Great Hall Auditorium
CATEGORIES:Arts at Monmouth,Free
ATTACH;FMTTYPE=image/jpeg:https://www.monmouth.edu/events/wp-content/uploads/sites/19/2020/03/Rhymefest.jpeg
ORGANIZER;CN="Center for the Arts":MAILTO:kbarratt@monmouth.edu
END:VEVENT
BEGIN:VEVENT
DTSTART;TZID=America/New_York:20200331T193000
DTEND;TZID=America/New_York:20200331T213000
DTSTAMP:20260425T112031
CREATED:20200324T164157Z
LAST-MODIFIED:20201002T185716Z
UID:40810110182-1585683000-1585690200@www.monmouth.edu
SUMMARY:The Beatles' Let It Be - Record Club\, Virtual Edition
DESCRIPTION:In accordance with University and CDC guidelines we have decided to continue with Record Club in virtual format using the ZOOM app. When you register you will be provided the meeting link to join the conversation. Click here for more information on how to use zoom. \nIt’s just like book club but with albums! With new advances in technology\, the way we consume music through our devices\, apps and on demand streaming services like Pandora\, Spotify and iTunes is making the idea of the “album” as an art form extinct. Get together with other music enthusiasts on Tuesday nights to discuss some of the greatest records of all-time! Listen to the album beforehand and then come prepared to discuss. This event will feature The Beatles’ Let It Be. \nFree and open to the public\, but registration is required.
URL:https://www.monmouth.edu/events/event/the-beatles-let-it-be-virtual-edition/
CATEGORIES:Alumni,Arts at Monmouth,Featured,Free,Lectures/Workshops/Symposiums,Social Events,Virtual
ATTACH;FMTTYPE=image/jpeg:https://www.monmouth.edu/events/wp-content/uploads/sites/19/2020/03/header-2.jpg
END:VEVENT
END:VCALENDAR