BEGIN:VCALENDAR
VERSION:2.0
PRODID:-//Events - ECPv6.15.20//NONSGML v1.0//EN
CALSCALE:GREGORIAN
METHOD:PUBLISH
X-ORIGINAL-URL:https://www.monmouth.edu/events
X-WR-CALDESC:Events for Events
REFRESH-INTERVAL;VALUE=DURATION:PT1H
X-Robots-Tag:noindex
X-PUBLISHED-TTL:PT1H
BEGIN:VTIMEZONE
TZID:America/New_York
BEGIN:DAYLIGHT
TZOFFSETFROM:-0500
TZOFFSETTO:-0400
TZNAME:EDT
DTSTART:20180311T070000
END:DAYLIGHT
BEGIN:STANDARD
TZOFFSETFROM:-0400
TZOFFSETTO:-0500
TZNAME:EST
DTSTART:20181104T060000
END:STANDARD
BEGIN:DAYLIGHT
TZOFFSETFROM:-0500
TZOFFSETTO:-0400
TZNAME:EDT
DTSTART:20190310T070000
END:DAYLIGHT
BEGIN:STANDARD
TZOFFSETFROM:-0400
TZOFFSETTO:-0500
TZNAME:EST
DTSTART:20191103T060000
END:STANDARD
BEGIN:DAYLIGHT
TZOFFSETFROM:-0500
TZOFFSETTO:-0400
TZNAME:EDT
DTSTART:20200308T070000
END:DAYLIGHT
BEGIN:STANDARD
TZOFFSETFROM:-0400
TZOFFSETTO:-0500
TZNAME:EST
DTSTART:20201101T060000
END:STANDARD
END:VTIMEZONE
BEGIN:VEVENT
DTSTART;VALUE=DATE:20190903
DTEND;VALUE=DATE:20191210
DTSTAMP:20260424T152950
CREATED:20190628T125814Z
LAST-MODIFIED:20190906T164000Z
UID:40810104956-1567468800-1575935999@www.monmouth.edu
SUMMARY:Karen Bright: Throughline
DESCRIPTION:Karen Bright: Throughline is an exhibition spanning 40 years of visual work by Karen Bright\, Professor from the Department of Art and Design. Bright’s environmentally focused themes serve as the main thread over the 30 year span with consistent narratives on global warming\, and climate change. Additional themes in Bright’s work relate to the MeToo movement\, prevalent social and cultural issues\, and current politics—all rendered as sculptures and paintings using encaustic-based materials.
URL:https://www.monmouth.edu/events/event/karen-bright-throughline/
LOCATION:DiMattio Gallery at Rechnitz Hall
CATEGORIES:Art Exhibitions,Arts at Monmouth,Free
ATTACH;FMTTYPE=image/jpeg:https://www.monmouth.edu/events/wp-content/uploads/sites/19/2019/06/karenBrightHero.jpg
END:VEVENT
BEGIN:VEVENT
DTSTART;VALUE=DATE:20190923
DTEND;VALUE=DATE:20191214
DTSTAMP:20260424T152950
CREATED:20190628T135515Z
LAST-MODIFIED:20190628T135515Z
UID:40810104992-1569196800-1576281599@www.monmouth.edu
SUMMARY:Woodstock & Beyond: The Visionary Art of Mike Frankel
DESCRIPTION:An exhibit of photographs by artist/photographer\, Mike Frankel that capture many of the historic milestones in rock history including; the first ever appearance of Led Zeppelin in New York City and the Who’s first New York City performance of Tommy\, along with photographs from the stage at Woodstock. The images have been scanned and printed directly from the 35 mm transparencies. The finished 35 mm slides were composed and exposed with up to 10 images on one frame of film while the action never stopped. There are some compelling single image photographs in the exhibition\, but the multiple image photographs vividly demonstrate the power and dynamism of the rock ‘n’ roll experience.
URL:https://www.monmouth.edu/events/event/woodstock-beyond-the-visionary-art-of-mike-frankel/
LOCATION:Pollak Gallery
CATEGORIES:Art Exhibitions,Arts at Monmouth,Free
ATTACH;FMTTYPE=image/jpeg:https://www.monmouth.edu/events/wp-content/uploads/sites/19/2019/06/woodstockAndBeyondHero.jpg
END:VEVENT
BEGIN:VEVENT
DTSTART;TZID=America/New_York:20191002T193000
DTEND;TZID=America/New_York:20191002T213000
DTSTAMP:20260424T152950
CREATED:20190731T200856Z
LAST-MODIFIED:20190919T202859Z
UID:40810110038-1570044600-1570051800@www.monmouth.edu
SUMMARY:AMERICAN GURU: Jimi Hendrix and The Spirit of a Generation Presented by Jimy Bleu\, Eliott Landy and Leonard J. Eisenberg
DESCRIPTION:This three-part lecture-demonstration focuses on Jimi Hendrix and his contemporaries. Told through photographs and guitar technique demonstrations Jimy Bleu focuses on Hendrix’ rise to super-stardom\, his tremendous impact on Popular and ‘serious music’\, his indefinable musical style\, his virtually unknown potential as a spiritual leader and his political awakening which coincided with the turbulent times of that era in the United States. Bleu’s research\, documentation and musical illustrations stand alone in presenting the most comprehensive and at times unheard viewpoints and topics about this remarkable musician. Learn why almost 50 years after his death the iconic Jimi Hendrix is still incredibly relevant and named “The Greatest Guitarist of All Time”! \nLeonard J. Eisenberg tells the story of Jimi Hendrix through photos taken by him at three concerts in the 1960’s and recently published in his book “Photographing Jimi Hendrix.” In 1968 Leonard was three feet away from the guitar god at The Boston Garden allowing him an unprecedented point of view. His photos of Hendrix at Woodstock have been seen around the world and photos from The Carousel in Framingham\, MA are renowned. Hear the stories of how these amazing images came to be. \nJoin Elliott Landy\, official Woodstock 1969 photographer as he presents a journey highlighting Jimi Hendrix\, iconic photos of Woodstock and the events and personalities of the historic late 1960’s era while telling the behind the scenes stories captured by his camera lens. His instantly recognizable photographs of Jimi Hendrix\, Janis Joplin\, The Band\, Bob Dylan\, Van Morrison\, pre Vietnam protests and legendary performers still resonate with audiences today.
URL:https://www.monmouth.edu/events/event/american-guru-jimi-hendrix-and-the-spirit-of-a-generation-presented-by-jimy-bleu-eliott-landy-and-leonard-j-eisenberg/
LOCATION:The Great Hall Auditorium
CATEGORIES:Arts at Monmouth,Free,Lectures
ATTACH;FMTTYPE=image/jpeg:https://www.monmouth.edu/events/wp-content/uploads/sites/19/2019/07/headerlecture.jpg
END:VEVENT
BEGIN:VEVENT
DTSTART;TZID=America/New_York:20191003T193000
DTEND;TZID=America/New_York:20191003T213000
DTSTAMP:20260424T152950
CREATED:20190731T205551Z
LAST-MODIFIED:20190909T202443Z
UID:40810110041-1570131000-1570138200@www.monmouth.edu
SUMMARY:Woodstock - Director's Cut
DESCRIPTION:The three-day Woodstock music festival in 1969 was the pivotal event of the 1960s peace movement\, and this landmark concert film is the definitive record of that milestone of rock & roll history. It’s more than a chronicle of the hippie movement\, however; this is a film of genuine historical and social importance\, capturing the spirit of America in transition\, when the Vietnam War was at its peak and antiwar protest was fully expressed through the liberating music of the time. With a brilliant crew at his disposal (including a young editor named Martin Scorsese)\, director Michael Wadleigh worked with over 300 hours of footage to create his original 225-minute director’s cut\, which was cut by 40 minutes for the film’s release in 1970. \nThe film deservedly won the Academy Award for Best Documentary\, and it’s still a stunning achievement. Abundant footage taken among the massive crowd (“half a million strong”) expresses the human heart of the event\, from skinny-dipping hippies to accidental overdoses\, to unpredictable weather\, midconcert childbirth\, and the thoughtful (or just plain rambling) reflections of the festive participants. Then\, of course\, there is the music–a nonstop parade of rock & roll from the greatest performers of the period\, including Crosby\, Stills\, and Nash\, Canned Heat\, The Who\, Richie Havens\, Joan Baez\, Ten Years After\, Sly & The Family Stone\, Santana\, and many more. Watching this ambitious film\, as the saying goes\, is the next best thing to being there–it’s a time-travel journey to that once-in-a-lifetime event.
URL:https://www.monmouth.edu/events/event/woodstock-directors-cut/
LOCATION:Pollak Theatre
CATEGORIES:Arts at Monmouth,Film,Free
ATTACH;FMTTYPE=image/jpeg:https://www.monmouth.edu/events/wp-content/uploads/sites/19/2019/07/header-5.jpg
END:VEVENT
BEGIN:VEVENT
DTSTART;TZID=America/New_York:20191006T190000
DTEND;TZID=America/New_York:20191006T213000
DTSTAMP:20260424T152950
CREATED:20190923T160909Z
LAST-MODIFIED:20201221T144436Z
UID:40810110083-1570388400-1570397400@www.monmouth.edu
SUMMARY:Tone\, Featuring David Sancious and Ernest 'Boom' Carter\, Former Members of Springsteen’s  E Street Band\, and Gerald Carboy
DESCRIPTION:The Bruce Springsteen Archives and Center for American Music at Monmouth University will present An Evening with Tone\, featuring David Sancious\, Ernest “Boom” Carter\, and Gerald Carboy\, hosted by Bob Santelli\, Founding Executive Director of the Grammy Museum\, on Sunday\, October 6\, at 7 p.m. in the Pollak Theater on the university campus. \nThe event is free and open to the public. \nIn 1974 E Street Band keyboards player Sancious and drummer Carter left the group and teamed with Carboy\, a Jersey Shore bass player\, to form the jazz-fusion band Tone. Acclaimed by critics\, Tone’s music expanded the parameters of fusion and featured the extraordinary keyboard work of Sancious. The group’s album\, Transformation: The Speed of Love\, is an acknowledged fusion classic. \n“Tone was one of the great jazz bands from the Jersey Shore\,” said Santelli\, author of Greetings from E Street: The Story of Bruce Springsteen and the E Street Band. “Critics loved the band\, but during the mid-1970’s hype surrounding the release of Born to Run\, Tone didn’t get the attention it deserved from Springsteen fans.” \nSantelli will interview the musicians about Tone\, their years in the Jersey Shore music scene\, and the role Sancious and Carter played in the early days of the E Street Band. The night will conclude with a rare performance by the trio. \nAdditionally\, authors Barry Schneier and Chris Phillips will be on site to sign their book\, Bruce Springsteen: Rock and Roll Future\, published earlier this year. The book features Schneier’s photographs from the legendary performance of Bruce Springsteen and the E Street Band at the Harvard Square Theatre in 1974. It was that show that was reviewed by future manager Jon Landau\, who wrote\, “I saw rock and roll future and its name is Bruce Springsteen.” The band line-up for that Boston show included Sancious and Carter.
URL:https://www.monmouth.edu/events/event/tone-featuring-david-sancious-and-ernest-boom-carter/
LOCATION:Pollak Theatre
CATEGORIES:Arts at Monmouth,Free
ATTACH;FMTTYPE=image/jpeg:https://www.monmouth.edu/events/wp-content/uploads/sites/19/2019/09/Tone-Banner.jpg
END:VEVENT
BEGIN:VEVENT
DTSTART;TZID=America/New_York:20191008T193000
DTEND;TZID=America/New_York:20191008T213000
DTSTAMP:20260424T152950
CREATED:20190927T182434Z
LAST-MODIFIED:20190927T183142Z
UID:40810110086-1570563000-1570570200@www.monmouth.edu
SUMMARY:An Evening with Sarfraz Manzoor
DESCRIPTION:Sarfraz Manzoor delved deep into his Bruce Springsteen fandom in his memoir Greetings from Bury Park\, which has been adapted into the film Blinded By The Light. \nJoin us as Sarfraz takes us behind the scenes through his journey from Springsteen fan to writer and director.
URL:https://www.monmouth.edu/events/event/an-evening-with-sarfraz-manzoor/
LOCATION:Pollak Theatre
CATEGORIES:Arts at Monmouth,Free,Lectures/Workshops/Symposiums
ATTACH;FMTTYPE=image/jpeg:https://www.monmouth.edu/events/wp-content/uploads/sites/19/2019/09/Manzoor-Springsteen-Banner.jpg
END:VEVENT
BEGIN:VEVENT
DTSTART;TZID=America/New_York:20191015T193000
DTEND;TZID=America/New_York:20191015T213000
DTSTAMP:20260424T152950
CREATED:20190610T135124Z
LAST-MODIFIED:20190723T153434Z
UID:40810104812-1571167800-1571175000@www.monmouth.edu
SUMMARY:Bruce Springsteen\, Greetings from Asbury Park\, NJ
DESCRIPTION:It’s just like a book club but with albums! Get together with other music enthusiasts on Tuesday nights to discuss some of the greatest records of all-time! Listen to the album beforehand and then come prepared to discuss … there will be special guest moderators and panelists at each event! \nThis discussion will feature Bruce Springsteen’s Greetings from Asbury Park\, NJ. This event is free but registration is required.
URL:https://www.monmouth.edu/events/event/bruce-springsteen-greetings-from-asbury-park-nj/
LOCATION:Pollak Theatre
CATEGORIES:Arts at Monmouth,Free
ATTACH;FMTTYPE=image/jpeg:https://www.monmouth.edu/events/wp-content/uploads/sites/19/2019/06/asburyParkHero.jpg
END:VEVENT
BEGIN:VEVENT
DTSTART;TZID=America/New_York:20191016T163000
DTEND;TZID=America/New_York:20191016T183000
DTSTAMP:20260424T152950
CREATED:20190614T134152Z
LAST-MODIFIED:20210415T144726Z
UID:40810104866-1571243400-1571250600@www.monmouth.edu
SUMMARY:Strange Radio\, Live! Listening to the Deep Connection: Lecture-Performance Transmission with Karen Werner
DESCRIPTION:Strange Radio\, Live! is an immersive lecture-performance in story and sound\, part of an ongoing series of experimental radio narrowcasts and broadcasts about the stranger\, nearness and distance\, forced migration\, displacement\, home\, and the intergenerational transmission of memory. Strange Radio’s point of departure is Holocaust postmemory in Vienna\, Austria\, a sonic portal for sensing experiences of strangers and strangeness in multiple unfolding contexts across the globe. Strange Radio\, Live! weaves together personal documentary; disembodied voices and sounds separated from points of origin; fragile signals transmitted through radios and embodied reflections on memory\, place\, time\, and radio—itself a strange medium. Postmemories bounce against histories\, sometimes buried and inaudible\, in new locations. Tuned into both utopian longings and wounds\, Strange Radio is a fragile signal\, a love song to radio as a medium\, metaphor\, and method of deep listening together. \nKaren Werner is an award-winning radio artist\, audio storyteller\, and sociologist. Her audio pieces have been broadcast on community and public radio stations across Europe\, North America\, Australia\, and Israel. They have also been part of numerous live events and art exhibitions. In 2017-2018\, Werner created a series of public sound installations at Vienna’s MuseumsQuartier\, including “Covenant of the Tongue” and “Zirkus\,” which are sonic autoethnographies about Holocaust postmemory in Vienna. Her recent work is in live performance: sound installation meets documentary storytelling meets narrowcast radio transmission. Werner is a 2019 invited artist at the Kone Foundation’s Saari Residence in Finland and was a 2017-2018 Fellow of the Memorial Foundation for Jewish Culture. She received a Tending Space Fellowship from the Hemera Foundation from 2014-2016 for artists with a Buddhist practice.  She is on the faculty of the BFA in Socially Engaged Art Program at Goddard College in Vermont. \nWerner’s work can be seen at: KarenWerner.net
URL:https://www.monmouth.edu/events/event/strange-radio-live-listening-to-the-deep-connection-lecture-performance-transmission-with-karen-werner/
LOCATION:Edison Atrium – Room 201
CATEGORIES:Arts at Monmouth,Free
ATTACH;FMTTYPE=image/jpeg:https://www.monmouth.edu/events/wp-content/uploads/sites/19/2019/06/karenWernerHero.jpg
END:VEVENT
BEGIN:VEVENT
DTSTART;TZID=America/New_York:20191029T190000
DTEND;TZID=America/New_York:20191029T210000
DTSTAMP:20260424T152950
CREATED:20191016T204402Z
LAST-MODIFIED:20191029T131145Z
UID:40810110101-1572375600-1572382800@www.monmouth.edu
SUMMARY:Just Beachy: A Reading of Sandy Stories
DESCRIPTION:Help us mark the seventh anniversary of Hurricane Sandy. Readers will present stories that have been posted to “9 Feet High\,” part of the Just Beachy/After Sandy installation now on view in Rechnitz Hall’s DiMattio Gallery. \nWe invite you to participate by reading your own story\, or listen as you hear your own story being read. Join us as your Sandy experience is acknowledged through the spoken word. Your story deserves to be heard!
URL:https://www.monmouth.edu/events/event/just-beachy-a-reading-of-sandy-stories/
LOCATION:DiMattio Gallery at Rechnitz Hall
CATEGORIES:Art and Design,Art Exhibitions,Arts at Monmouth,Free
ATTACH;FMTTYPE=image/jpeg:https://www.monmouth.edu/events/wp-content/uploads/sites/19/2019/10/header-1.jpg
END:VEVENT
BEGIN:VEVENT
DTSTART;TZID=America/New_York:20191030T170000
DTEND;TZID=America/New_York:20191030T180000
DTSTAMP:20260424T152950
CREATED:20191009T134017Z
LAST-MODIFIED:20200331T131437Z
UID:40810110092-1572454800-1572458400@www.monmouth.edu
SUMMARY:Ink & Electricity Lecture Series
DESCRIPTION:This annual lecture series brings top scholars in the fields of digital humanities\, media studies\, the history of the book\, print culture\, and children’s literature to Monmouth University every fall. \nSTRANGER THAN FICTION:\nTHE NOVEL IN WEB 2.0\nA Talk by Dr. Priya Joshi\nProfessor of English\nTemple University\nFan sites\, new writing platforms\, and new markets for the novel are now produced and curated by readers on Web 2.0 platforms. This talk reviews the story of “literature” in the age of digital production with particular attention to the future of literary theory. \nThis event is free and open to the public and refreshments will be served. \nInk and Electricity is sponsored by the Wayne D. McMurray-Helen Bennett Endowed Chair in the Humanities at Monmouth University\, Dr. Kristin Bluemel\, professor of English. She can be reached at kbluemel@monmouth.edu or 732-571-3622.
URL:https://www.monmouth.edu/events/event/ink-electricity-lecture-series/
LOCATION:The Great Hall -104
CATEGORIES:Council of Endowed Chairs,English,Free,Lectures/Workshops/Symposiums,School of Humanities and Social Sciences
ATTACH;FMTTYPE=image/jpeg:https://www.monmouth.edu/events/wp-content/uploads/sites/19/2019/10/Poster-InkElectricity-Event.jpg
END:VEVENT
END:VCALENDAR