BEGIN:VCALENDAR
VERSION:2.0
PRODID:-//Events - ECPv6.15.20//NONSGML v1.0//EN
CALSCALE:GREGORIAN
METHOD:PUBLISH
X-WR-CALNAME:Events
X-ORIGINAL-URL:https://www.monmouth.edu/events
X-WR-CALDESC:Events for Events
REFRESH-INTERVAL;VALUE=DURATION:PT1H
X-Robots-Tag:noindex
X-PUBLISHED-TTL:PT1H
BEGIN:VTIMEZONE
TZID:America/New_York
BEGIN:DAYLIGHT
TZOFFSETFROM:-0500
TZOFFSETTO:-0400
TZNAME:EDT
DTSTART:20170312T070000
END:DAYLIGHT
BEGIN:STANDARD
TZOFFSETFROM:-0400
TZOFFSETTO:-0500
TZNAME:EST
DTSTART:20171105T060000
END:STANDARD
BEGIN:DAYLIGHT
TZOFFSETFROM:-0500
TZOFFSETTO:-0400
TZNAME:EDT
DTSTART:20180311T070000
END:DAYLIGHT
BEGIN:STANDARD
TZOFFSETFROM:-0400
TZOFFSETTO:-0500
TZNAME:EST
DTSTART:20181104T060000
END:STANDARD
BEGIN:DAYLIGHT
TZOFFSETFROM:-0500
TZOFFSETTO:-0400
TZNAME:EDT
DTSTART:20190310T070000
END:DAYLIGHT
BEGIN:STANDARD
TZOFFSETFROM:-0400
TZOFFSETTO:-0500
TZNAME:EST
DTSTART:20191103T060000
END:STANDARD
END:VTIMEZONE
BEGIN:VEVENT
DTSTART;VALUE=DATE:20181001
DTEND;VALUE=DATE:20181005
DTSTAMP:20260424T072316
CREATED:20180904T175245Z
LAST-MODIFIED:20180904T175245Z
UID:40810104356-1538352000-1538697599@www.monmouth.edu
SUMMARY:Frontline Paper
DESCRIPTION:*Formerly known as Combat Paper NJ \nExhibit of created works will be displayed on October 4th following the reading in Pollak Theater. \nAll veterans have a story to tell. For too long\, we have lived in a day and age where veterans tend to suppress their experiences – producing a culture of the “silent veteran”. Frontline Paper (formerly known as Combat Paper NJ) is a unique art project that offers artistic tools and professional instruction for all\, providing a space to use art and writing to explore experiences\, and ultimately share them publicly\, all through papermaking. \nFrontline Paper’s specialty is the transformative process of making handmade paper from military uniforms. This handmade paper\, created through public workshops\, provides a platform for veterans and non-veterans to come together to share stories and generate a “new language” and much needed conversations.
URL:https://www.monmouth.edu/events/event/frontline-paper/
LOCATION:Pollak Theatre
CATEGORIES:Free
ATTACH;FMTTYPE=image/jpeg:https://www.monmouth.edu/events/wp-content/uploads/sites/19/2018/09/FrontlinePaper1400x600px.jpg
END:VEVENT
BEGIN:VEVENT
DTSTART;TZID=America/New_York:20181008T193000
DTEND;TZID=America/New_York:20181008T213000
DTSTAMP:20260424T072316
CREATED:20180725T203036Z
LAST-MODIFIED:20180725T203036Z
UID:40810100780-1539027000-1539034200@www.monmouth.edu
SUMMARY:No
DESCRIPTION:An ad executive comes up with a campaign to defeat Augusto Pinochet in Chile’s 1988 referendum.  \nDirector: Pablo Larraín \n(2012) \nRated: R \n128 minutes
URL:https://www.monmouth.edu/events/event/no/
LOCATION:Pollak Theatre
CATEGORIES:Arts at Monmouth,Film,Free
ATTACH;FMTTYPE=image/jpeg:https://www.monmouth.edu/events/wp-content/uploads/sites/19/2018/07/no201400x60020px.jpg
END:VEVENT
BEGIN:VEVENT
DTSTART;TZID=America/New_York:20181009T193000
DTEND;TZID=America/New_York:20181009T210000
DTSTAMP:20260424T072316
CREATED:20180725T203023Z
LAST-MODIFIED:20180924T150831Z
UID:40810100765-1539113400-1539118800@www.monmouth.edu
SUMMARY:John Coltrane's A Love Supreme
DESCRIPTION:It’s just like book club but with albums! With new advances in technology\, the way we consume music through our devices\, apps and on demand streaming services like Pandora\, Spotify and iTunes is making the idea of the “album” as an art form extinct. Get together with other music enthusiasts on Tuesday nights to discuss some of the greatest records of all-time! Listen to the album beforehand and then come prepared to discuss… there will be special guest moderators and panelists at each event! This event will feature John Coltrane’s A Love Supreme.
URL:https://www.monmouth.edu/events/event/alovesupreme/
LOCATION:Lauren K. Woods Theatre
CATEGORIES:Arts at Monmouth,Free
ATTACH;FMTTYPE=image/jpeg:https://www.monmouth.edu/events/wp-content/uploads/sites/19/2018/07/alovesupreme201400x60020px.jpg
END:VEVENT
BEGIN:VEVENT
DTSTART;TZID=America/New_York:20181029T173000
DTEND;TZID=America/New_York:20181029T184500
DTSTAMP:20260424T072316
CREATED:20180925T203816Z
LAST-MODIFIED:20190301T182355Z
UID:40810104398-1540834200-1540838700@www.monmouth.edu
SUMMARY:H.R. Young and Stephen B. Siegel Endowed Lecture Series: John Dean and James Robenalt
DESCRIPTION:Following the 1972 Watergate break-in and subsequent cover-up by President Richard M. Nixon\, the powers of the Presidency have been the subject of much discussion. As a result\, both Congress and the Supreme Court have attempted to place limits on the influence of the White House. Over 40 years later\, President Donald Trump is testing the limits of presidential power more than any president since Nixon. \nJohn W. Dean\, Nixon’s White House lawyer whose actions ultimately led to the former president’s impeachment and resignation\, and now a noted author and CNN contributor\, along with renowned presidential historian\, attorney\, and author\, James D. Robenalt\, will deliver a program on presidential powers discussing and comparing Presidents Nixon and Trump. \nRegistration\nThis free event is open to the public. Registration is required. To register\, please contact Theresa Lowy at tlowy@monmouth.edu.
URL:https://www.monmouth.edu/events/event/john-dean-and-james-robenalt-lecture/
LOCATION:The Great Hall Auditorium
CATEGORIES:Alumni,Current Student,Faculty,Free,Lectures,Media
ATTACH;FMTTYPE=image/jpeg:https://www.monmouth.edu/events/wp-content/uploads/sites/19/2018/09/JohnDean_BW_Nixon.jpg
END:VEVENT
END:VCALENDAR