BEGIN:VCALENDAR
VERSION:2.0
PRODID:-//Events - ECPv6.15.20//NONSGML v1.0//EN
CALSCALE:GREGORIAN
METHOD:PUBLISH
X-ORIGINAL-URL:https://www.monmouth.edu/events
X-WR-CALDESC:Events for Events
REFRESH-INTERVAL;VALUE=DURATION:PT1H
X-Robots-Tag:noindex
X-PUBLISHED-TTL:PT1H
BEGIN:VTIMEZONE
TZID:America/New_York
BEGIN:DAYLIGHT
TZOFFSETFROM:-0500
TZOFFSETTO:-0400
TZNAME:EDT
DTSTART:20240310T070000
END:DAYLIGHT
BEGIN:STANDARD
TZOFFSETFROM:-0400
TZOFFSETTO:-0500
TZNAME:EST
DTSTART:20241103T060000
END:STANDARD
BEGIN:DAYLIGHT
TZOFFSETFROM:-0500
TZOFFSETTO:-0400
TZNAME:EDT
DTSTART:20250309T070000
END:DAYLIGHT
BEGIN:STANDARD
TZOFFSETFROM:-0400
TZOFFSETTO:-0500
TZNAME:EST
DTSTART:20251102T060000
END:STANDARD
BEGIN:DAYLIGHT
TZOFFSETFROM:-0500
TZOFFSETTO:-0400
TZNAME:EDT
DTSTART:20260308T070000
END:DAYLIGHT
BEGIN:STANDARD
TZOFFSETFROM:-0400
TZOFFSETTO:-0500
TZNAME:EST
DTSTART:20261101T060000
END:STANDARD
END:VTIMEZONE
BEGIN:VEVENT
DTSTART;TZID=America/New_York:20250224T193000
DTEND;TZID=America/New_York:20250224T210000
DTSTAMP:20260425T124831
CREATED:20241114T180207Z
LAST-MODIFIED:20250911T150656Z
UID:40810115834-1740425400-1740430800@www.monmouth.edu
SUMMARY:Exhibition on Screen - Van Gogh: Poets & Lovers
DESCRIPTION:200 years after its opening and a century after acquiring its first Van Gogh works\, the National Gallery\, London is hosting the UK’s biggest ever Van Gogh exhibition. Van Gogh is not only one of the most beloved artists of all time\, but perhaps the most misunderstood. \nThis film is a chance to reexamine and better understand this iconic artist. Focusing on his unique creative process\, Van Gogh: Poets & Lovers explores the artist’s years in the south of France\, where he revolutionized his style. Van Gogh became consumed with a passion for storytelling in his art\, turning the world around him into vibrant\, idealized spaces and symbolic characters. \nPoets and lovers filled his imagination; everything he did in the south of France served this new obsession. In part\, this is what caused his notorious breakdown\, but it didn’t hold back his creativity as he created masterpiece after masterpiece. Explore one of art history’s most pivotal periods in this once-in-a-century show.
URL:https://www.monmouth.edu/events/event/van-gogh-poets-lovers/
LOCATION:Pollak Theatre
CATEGORIES:Art and Design,Arts at Monmouth,Featured
ATTACH;FMTTYPE=image/jpeg:https://www.monmouth.edu/events/wp-content/uploads/sites/19/2024/11/VG_PandL_header.jpg
ORGANIZER;CN="Center for the Arts":MAILTO:kbarratt@monmouth.edu
END:VEVENT
END:VCALENDAR