BEGIN:VCALENDAR
VERSION:2.0
PRODID:-//Events - ECPv6.15.20//NONSGML v1.0//EN
CALSCALE:GREGORIAN
METHOD:PUBLISH
X-ORIGINAL-URL:https://www.monmouth.edu/events
X-WR-CALDESC:Events for Events
REFRESH-INTERVAL;VALUE=DURATION:PT1H
X-Robots-Tag:noindex
X-PUBLISHED-TTL:PT1H
BEGIN:VTIMEZONE
TZID:America/New_York
BEGIN:DAYLIGHT
TZOFFSETFROM:-0500
TZOFFSETTO:-0400
TZNAME:EDT
DTSTART:20180311T070000
END:DAYLIGHT
BEGIN:STANDARD
TZOFFSETFROM:-0400
TZOFFSETTO:-0500
TZNAME:EST
DTSTART:20181104T060000
END:STANDARD
BEGIN:DAYLIGHT
TZOFFSETFROM:-0500
TZOFFSETTO:-0400
TZNAME:EDT
DTSTART:20190310T070000
END:DAYLIGHT
BEGIN:STANDARD
TZOFFSETFROM:-0400
TZOFFSETTO:-0500
TZNAME:EST
DTSTART:20191103T060000
END:STANDARD
BEGIN:DAYLIGHT
TZOFFSETFROM:-0500
TZOFFSETTO:-0400
TZNAME:EDT
DTSTART:20200308T070000
END:DAYLIGHT
BEGIN:STANDARD
TZOFFSETFROM:-0400
TZOFFSETTO:-0500
TZNAME:EST
DTSTART:20201101T060000
END:STANDARD
END:VTIMEZONE
BEGIN:VEVENT
DTSTART;TZID=America/New_York:20190225T193000
DTEND;TZID=America/New_York:20190225T210000
DTSTAMP:20260419T173530
CREATED:20190108T182827Z
LAST-MODIFIED:20190226T144336Z
UID:40810104458-1551123000-1551128400@www.monmouth.edu
SUMMARY:Van Gogh: Of Wheat Fields and Clouded Skies
DESCRIPTION:Take a fresh look at Van Gogh through the legacy of the greatest private collector of the Dutch artist’s work: Helene Kröller-Müller (1869-1939)\, one of the first to recognize the genius of Van Gogh. In the early 20th century\, Kröller-Müller amassed nearly 300 of Van Gogh’s paintings and drawings now housed at her namesake museum in Holland. \nThe Basilica Palladina exhibition in Vicenza\, “Amid Wheat Fields and Clouded Skies\,” with 40 paintings and 85 drawings on loan from the Kröller-Müller Museum\, lends the basis of this program\, revealing Van Gogh’s art and his genius\, while allowing audiences to understand the importance of drawing as part of his craft. \nVan Gogh’s seemingly instinctive canvases were the result of long\, preparatory studies very rarely exhibited – not just sketches but stunning works of art in and of themselves\, where the broken flow of lines that characterize the style and strokes in Van Gogh’s paintings can already be seen. \nProduced by 3D Productions and Nexo Digital
URL:https://www.monmouth.edu/events/event/van-gogh-of-wheat-fields-and-clouded-skies/
LOCATION:Pollak Theatre
CATEGORIES:Arts at Monmouth,Featured,Film
ATTACH;FMTTYPE=image/jpeg:https://www.monmouth.edu/events/wp-content/uploads/sites/19/2018/11/vangogh1400x600px.jpg
END:VEVENT
END:VCALENDAR