BEGIN:VCALENDAR
VERSION:2.0
PRODID:-//Events - ECPv6.15.20//NONSGML v1.0//EN
CALSCALE:GREGORIAN
METHOD:PUBLISH
X-ORIGINAL-URL:https://www.monmouth.edu/events
X-WR-CALDESC:Events for Events
REFRESH-INTERVAL;VALUE=DURATION:PT1H
X-Robots-Tag:noindex
X-PUBLISHED-TTL:PT1H
BEGIN:VTIMEZONE
TZID:America/New_York
BEGIN:DAYLIGHT
TZOFFSETFROM:-0500
TZOFFSETTO:-0400
TZNAME:EDT
DTSTART:20240310T070000
END:DAYLIGHT
BEGIN:STANDARD
TZOFFSETFROM:-0400
TZOFFSETTO:-0500
TZNAME:EST
DTSTART:20241103T060000
END:STANDARD
BEGIN:DAYLIGHT
TZOFFSETFROM:-0500
TZOFFSETTO:-0400
TZNAME:EDT
DTSTART:20250309T070000
END:DAYLIGHT
BEGIN:STANDARD
TZOFFSETFROM:-0400
TZOFFSETTO:-0500
TZNAME:EST
DTSTART:20251102T060000
END:STANDARD
BEGIN:DAYLIGHT
TZOFFSETFROM:-0500
TZOFFSETTO:-0400
TZNAME:EDT
DTSTART:20260308T070000
END:DAYLIGHT
BEGIN:STANDARD
TZOFFSETFROM:-0400
TZOFFSETTO:-0500
TZNAME:EST
DTSTART:20261101T060000
END:STANDARD
END:VTIMEZONE
BEGIN:VEVENT
DTSTART;TZID=America/New_York:20250405T120000
DTEND;TZID=America/New_York:20250405T160000
DTSTAMP:20260425T080154
CREATED:20250109T170817Z
LAST-MODIFIED:20250324T144822Z
UID:40810117788-1743854400-1743868800@www.monmouth.edu
SUMMARY:Point Pleasant Aquarium Shuttle
DESCRIPTION:Take a ride on the Point Pleasant Aquarium Shuttle for a hassle-free journey to explore marine life up close! Enjoy a day filled with fascinating exhibits\, sea creatures\, and unforgettable experiences at the aquarium\, all with a convenient shuttle service.
URL:https://www.monmouth.edu/events/event/point-pleasant-aquarium-shuttle/
LOCATION:Student Center
CATEGORIES:Featured
ATTACH;FMTTYPE=image/jpeg:https://www.monmouth.edu/events/wp-content/uploads/sites/19/2025/01/Jenk-08194-2.jpeg
END:VEVENT
BEGIN:VEVENT
DTSTART;TZID=America/New_York:20250408T160000
DTEND;TZID=America/New_York:20250408T190000
DTSTAMP:20260425T080154
CREATED:20250109T191035Z
LAST-MODIFIED:20250407T135748Z
UID:40810117803-1744128000-1744138800@www.monmouth.edu
SUMMARY:Culture Fest
DESCRIPTION:Celebrate different cultures and communities at Culture Fest\, where you can experience a vibrant mix of food\, music\, dance\, and art from around the world! Immerse yourself in the rich traditions and unique cultures that make our community so special\, all in one exciting event!
URL:https://www.monmouth.edu/events/event/culture-fest/
LOCATION:Anacon Hall A and B
CATEGORIES:Featured
ATTACH;FMTTYPE=image/jpeg:https://www.monmouth.edu/events/wp-content/uploads/sites/19/2025/01/52-MG_M0266.jpg
ORGANIZER;CN="Student Activities Board":MAILTO:activities@monmouth.edu
END:VEVENT
BEGIN:VEVENT
DTSTART;TZID=America/New_York:20250410T193000
DTEND;TZID=America/New_York:20250410T210000
DTSTAMP:20260425T080154
CREATED:20241204T190354Z
LAST-MODIFIED:20250324T144942Z
UID:40810115957-1744313400-1744318800@www.monmouth.edu
SUMMARY:Dr. Strangelove
DESCRIPTION:co-adapted by Armando Iannucci\nco-adapted and directed by Sean Foley \nSeven-time BAFTA Award-winner Steve Coogan (Alan Partridge\, The Trip) plays four roles in the world premiere stage adaptation of Stanley Kubrick’s comedy masterpiece Dr. Strangelove.  When a rogue U.S General triggers a nuclear attack\, a surreal race takes place\, seeing the Government and one eccentric scientist scramble to avert global destruction.   This explosively funny satire is led by a world-renowned creative team including Emmy Award-winner Armando Iannucci (The Thick of It\, Veep) and Olivier Award-winner Sean Foley (The Upstart Crow\, The Play What I Wrote).
URL:https://www.monmouth.edu/events/event/dr-strangelove/
LOCATION:Pollak Theatre
CATEGORIES:Arts at Monmouth,Broadcast in HD,Featured,Theatre
ATTACH;FMTTYPE=image/jpeg:https://www.monmouth.edu/events/wp-content/uploads/sites/19/2024/12/Strangelove_header.jpg
END:VEVENT
BEGIN:VEVENT
DTSTART;TZID=America/New_York:20250411T180000
DTEND;TZID=America/New_York:20250411T230000
DTSTAMP:20260425T080154
CREATED:20250123T183418Z
LAST-MODIFIED:20250324T144957Z
UID:40810118088-1744394400-1744412400@www.monmouth.edu
SUMMARY:Colleges Against Cancer - Relay for Life
DESCRIPTION:Join the Fight Against Cancer at Monmouth University’s Relay for Life! \nMonmouth University invites you to be a part of Relay for Life\, a powerful and inspiring event that unites our community in the fight against cancer. Hosted by Colleges Against Cancer\, this event is more than just a walk—it’s a chance to make a difference\, honor loved ones\, and celebrate survivors.  Friday\, April 11 6:00 – 11:00 p.m.\, Anacon Hall \nWhy Attend? \n\nCelebrate Survivors: Show your support for those who have won their battle against cancer.\nRemember Loved Ones: Take part in the moving Luminaria Ceremony to honor those we’ve lost.\nMake an Impact: All funds raised go to the American Cancer Society to support groundbreaking research\, patient care programs\, and advocacy efforts.
URL:https://www.monmouth.edu/events/event/colleges-against-cancer-relay-for-life/
LOCATION:Anacon Hall\, 2nd Floor\, Student Center
CATEGORIES:Featured
ATTACH;FMTTYPE=image/png:https://www.monmouth.edu/events/wp-content/uploads/sites/19/2025/01/download-2.png
END:VEVENT
BEGIN:VEVENT
DTSTART;TZID=America/New_York:20250424T190000
DTEND;TZID=America/New_York:20250424T190000
DTSTAMP:20260425T080154
CREATED:20250416T204731Z
LAST-MODIFIED:20250416T204922Z
UID:40810119082-1745521200-1745521200@www.monmouth.edu
SUMMARY:Building a Global Medtech Leader (Leon Hess Business School H.R. Young Lecture\, 2025)
DESCRIPTION:Great Hall Auditorium \nMeet Vincent Forlenza\n\nVincent Forlenza\, chair of Lehigh Univeristy’s Board of Trustees\, is a retired executive known for transforming Becton\, Dickinson and Company from a medical supplies manufacturer into a global leader in medical devices\, diagnostics\, and life sciences. \n\nA Lehigh University alumnus with a bachelor’s in chemical engineering and an MBA from The Wharton School\, he has held key leadership roles in the U.S. and Europe. Forlenza serves as a director for MARAbio Systems\, Inc. and MNHI\, is lead director at Moody’s Corporation\, and is chair emeritus on the Valley Health Systems Board of Trustees. \n\n\n\nRegister for the Lecture
URL:https://www.monmouth.edu/events/event/building-a-global-medtech-leader-leon-hess-business-school-h-r-young-lecture-2025/
LOCATION:The Great Hall Auditorium
CATEGORIES:Alumni,Current Student,Faculty,Featured,Free,Graduate Student,Lectures,Lectures/Workshops/Symposiums,Leon Hess Business School,Undergraduate Student
ATTACH;FMTTYPE=image/jpeg:https://www.monmouth.edu/events/wp-content/uploads/sites/19/2025/03/Forlenza_Vince_FORMAL_800x800-copy.jpg
END:VEVENT
END:VCALENDAR