BEGIN:VCALENDAR
VERSION:2.0
PRODID:-//Events - ECPv6.15.20//NONSGML v1.0//EN
CALSCALE:GREGORIAN
METHOD:PUBLISH
X-ORIGINAL-URL:https://www.monmouth.edu/events
X-WR-CALDESC:Events for Events
REFRESH-INTERVAL;VALUE=DURATION:PT1H
X-Robots-Tag:noindex
X-PUBLISHED-TTL:PT1H
BEGIN:VTIMEZONE
TZID:America/New_York
BEGIN:DAYLIGHT
TZOFFSETFROM:-0500
TZOFFSETTO:-0400
TZNAME:EDT
DTSTART:20230312T070000
END:DAYLIGHT
BEGIN:STANDARD
TZOFFSETFROM:-0400
TZOFFSETTO:-0500
TZNAME:EST
DTSTART:20231105T060000
END:STANDARD
BEGIN:DAYLIGHT
TZOFFSETFROM:-0500
TZOFFSETTO:-0400
TZNAME:EDT
DTSTART:20240310T070000
END:DAYLIGHT
BEGIN:STANDARD
TZOFFSETFROM:-0400
TZOFFSETTO:-0500
TZNAME:EST
DTSTART:20241103T060000
END:STANDARD
BEGIN:DAYLIGHT
TZOFFSETFROM:-0500
TZOFFSETTO:-0400
TZNAME:EDT
DTSTART:20250309T070000
END:DAYLIGHT
BEGIN:STANDARD
TZOFFSETFROM:-0400
TZOFFSETTO:-0500
TZNAME:EST
DTSTART:20251102T060000
END:STANDARD
END:VTIMEZONE
BEGIN:VEVENT
DTSTART;TZID=America/New_York:20241103T090000
DTEND;TZID=America/New_York:20241103T140000
DTSTAMP:20260425T084121
CREATED:20241025T150407Z
LAST-MODIFIED:20241025T150407Z
UID:40810115156-1730624400-1730642400@www.monmouth.edu
SUMMARY:Village Pride Walking Tour NYC
DESCRIPTION:Join us on our Village Pride Walking Tour! On this tour around Greenwich Village\, we will visit historic sites where revolutions began\, riots were sparked\, and history was made. \nWe will see common threads within the LGBTQ+ generations who have lived life in New York City\, sharing their stories throughout the tour. You’ll also learn more about individual stories of Queer activists and the major political and social movements that have shaped the LGBTQ+ community over time. \nSites include the historic Stonewall Inn\, the Gay Liberation Monument\, the NYC AIDS Memorial\, the LGBT Community Center\, and more.
URL:https://www.monmouth.edu/events/event/village-pride-walking-tour-nyc/
LOCATION:New York\, NY
CATEGORIES:Artful Explorations of Gender,Current Student,Diversity and Inclusion,Faculty,Free,Intercultural Center Events
ORGANIZER;CN="Intercultural Center":MAILTO:Intercultural@monmouth.edu
END:VEVENT
BEGIN:VEVENT
DTSTART;TZID=America/New_York:20241107T000000
DTEND;TZID=America/New_York:20241109T235959
DTSTAMP:20260425T084121
CREATED:20240823T171317Z
LAST-MODIFIED:20240823T171317Z
UID:40810112639-1730937600-1731196799@www.monmouth.edu
SUMMARY:The Eighth Biennial International Interdisciplinary Conference on Race
DESCRIPTION:Race and the Freedom to Learn\nCosponsored by the William Monroe Trotter Institute for the Study of Black Culture at UMass Boston \nLocation: Monmouth University Campus \nThe freedom to learn has been inextricably linked to race across time and space. From the era of enslavement in the Americas to book burning in Nazi Germany down to the present humans around the globe have demanded the freedom to learn as a fundamental human right. This right to learn is intrinsically linked to race\, gender\, sexuality\, and class -the denial of which diminishes society while threatening democracy. Denying groups and individuals the right to learn impacts everyone in society and oftentimes involves the censoring of curriculum\, arrest of educators\, and book banning or book burning. The freedom to learn has been particularly denied to marginalized communities including people of color\, women\, and members of the LGBTQIA+ community. \nIn November 2024\, the International Interdisciplinary Conference on Race will focus on “Race and the Freedom to Learn” and invites papers from a range of disciplines\, including history\, anthropology\, education\, gender studies\, ethnic studies\, sociology\, and other disciplines that have grappled with this subject. We welcome individual papers or complete panels from scholars\, educators\, artists\, and activists whose work is related to race\, its intersections\, and the freedom to learn in history\, society\, and culture. We also seek papers from international scholars and offer a few travel stipends to scholars traveling from abroad to attend the conference.
URL:https://www.monmouth.edu/events/event/the-eighth-biennial-international-interdisciplinary-conference-on-race/
LOCATION:Various Campus Locations
CATEGORIES:Alumni,Community Member,Current Student,Diversity and Inclusion,Faculty,Graduate Student,History + Anthropology,Lectures/Workshops/Symposiums,Media,Research Conference,School of Humanities and Social Sciences,Undergraduate Student,Workshops and Professional Development
END:VEVENT
END:VCALENDAR