BEGIN:VCALENDAR
VERSION:2.0
PRODID:-//Events - ECPv6.15.20//NONSGML v1.0//EN
CALSCALE:GREGORIAN
METHOD:PUBLISH
X-WR-CALNAME:Events
X-ORIGINAL-URL:https://www.monmouth.edu/events
X-WR-CALDESC:Events for Events
REFRESH-INTERVAL;VALUE=DURATION:PT1H
X-Robots-Tag:noindex
X-PUBLISHED-TTL:PT1H
BEGIN:VTIMEZONE
TZID:America/New_York
BEGIN:DAYLIGHT
TZOFFSETFROM:-0500
TZOFFSETTO:-0400
TZNAME:EDT
DTSTART:20170312T070000
END:DAYLIGHT
BEGIN:STANDARD
TZOFFSETFROM:-0400
TZOFFSETTO:-0500
TZNAME:EST
DTSTART:20171105T060000
END:STANDARD
BEGIN:DAYLIGHT
TZOFFSETFROM:-0500
TZOFFSETTO:-0400
TZNAME:EDT
DTSTART:20180311T070000
END:DAYLIGHT
BEGIN:STANDARD
TZOFFSETFROM:-0400
TZOFFSETTO:-0500
TZNAME:EST
DTSTART:20181104T060000
END:STANDARD
BEGIN:DAYLIGHT
TZOFFSETFROM:-0500
TZOFFSETTO:-0400
TZNAME:EDT
DTSTART:20190310T070000
END:DAYLIGHT
BEGIN:STANDARD
TZOFFSETFROM:-0400
TZOFFSETTO:-0500
TZNAME:EST
DTSTART:20191103T060000
END:STANDARD
BEGIN:DAYLIGHT
TZOFFSETFROM:-0500
TZOFFSETTO:-0400
TZNAME:EDT
DTSTART:20200308T070000
END:DAYLIGHT
BEGIN:STANDARD
TZOFFSETFROM:-0400
TZOFFSETTO:-0500
TZNAME:EST
DTSTART:20201101T060000
END:STANDARD
BEGIN:DAYLIGHT
TZOFFSETFROM:-0500
TZOFFSETTO:-0400
TZNAME:EDT
DTSTART:20210314T070000
END:DAYLIGHT
BEGIN:STANDARD
TZOFFSETFROM:-0400
TZOFFSETTO:-0500
TZNAME:EST
DTSTART:20211107T060000
END:STANDARD
BEGIN:DAYLIGHT
TZOFFSETFROM:-0500
TZOFFSETTO:-0400
TZNAME:EDT
DTSTART:20220313T070000
END:DAYLIGHT
BEGIN:STANDARD
TZOFFSETFROM:-0400
TZOFFSETTO:-0500
TZNAME:EST
DTSTART:20221106T060000
END:STANDARD
END:VTIMEZONE
BEGIN:VEVENT
DTSTART;TZID=America/New_York:20210205T150000
DTEND;TZID=America/New_York:20210205T150000
DTSTAMP:20260422T052439
CREATED:20210115T202218Z
LAST-MODIFIED:20210115T202527Z
UID:40810110623-1612537200-1612537200@www.monmouth.edu
SUMMARY:Racing into the Space Age: The Life\, Scholarship\, and Legacy of Dr. Walter S. McAfee ’85HN at Monmouth and Beyond
DESCRIPTION:Oops! We could not locate your form. \n\nQuestions? \nPlease reach out to Karen Keene at kkeene@monmouth.edu
URL:https://www.monmouth.edu/events/event/racing-into-the-space-age/
CATEGORIES:Alumni,Community Member,Current Student,Diversity and Inclusion,Faculty,Featured,Free,Graduate Student,Lectures/Workshops/Symposiums,Media,Prospective Undergraduate Student,School of Humanities and Social Sciences,School of Science,School of Social Work,Undergraduate Student,Virtual
ATTACH;FMTTYPE=image/jpeg:https://www.monmouth.edu/events/wp-content/uploads/sites/19/2021/01/mcafee.jpg
END:VEVENT
BEGIN:VEVENT
DTSTART;VALUE=DATE:20210201
DTEND;VALUE=DATE:20210301
DTSTAMP:20260422T052439
CREATED:20210125T180119Z
LAST-MODIFIED:20210217T145139Z
UID:40810110641-1612137600-1614556799@www.monmouth.edu
SUMMARY:Black History Month 2021
DESCRIPTION:Each year\, Monmouth University observes National Black History Month throughout the month of February. Originating in 1926 under the vision of African American historian Carter G. Woodson\, Black History Month provides opportunities for all members of the university to explore the histories\, legacies\, and current contributions of individuals across the African Diaspora. Join the Black History Month Planning Committee for our month-long virtual event series including events organized by students\, faculty\, and staff.
URL:https://www.monmouth.edu/events/event/black-history-month-2021/
CATEGORIES:Alumni,Alumni Calendar Featured,Community Member,Current Student,Diversity and Inclusion,Faculty,Featured,Graduate Student,Intercultural Center,Undergraduate Student,Virtual
ATTACH;FMTTYPE=image/jpeg:https://www.monmouth.edu/events/wp-content/uploads/sites/19/2021/01/bhmcal-copy.jpg
END:VEVENT
BEGIN:VEVENT
DTSTART;TZID=America/New_York:20210127T151500
DTEND;TZID=America/New_York:20210127T161500
DTSTAMP:20260422T052439
CREATED:20201204T162453Z
LAST-MODIFIED:20210127T214155Z
UID:40810110599-1611760500-1611764100@www.monmouth.edu
SUMMARY:Dr. Martin Luther King\, Jr. Distinguished Lecture in Social Justice: Ibram X. Kendi
DESCRIPTION:Oops! We could not locate your form.
URL:https://www.monmouth.edu/events/event/mlk-distinguished-lecture-2021/
CATEGORIES:Alumni,Community Member,Current Student,Diversity and Inclusion,Faculty,Featured,Free,Graduate Student,Lectures,Lectures/Workshops/Symposiums,Media,Prospective Undergraduate Student,Undergraduate Student,Virtual
ATTACH;FMTTYPE=image/jpeg:https://www.monmouth.edu/events/wp-content/uploads/sites/19/2020/12/KendiWeb.jpg
END:VEVENT
BEGIN:VEVENT
DTSTART;TZID=America/New_York:20201015T210000
DTEND;TZID=America/New_York:20201015T210000
DTSTAMP:20260422T052439
CREATED:20200908T215112Z
LAST-MODIFIED:20220418T192152Z
UID:40810110416-1602795600-1602795600@www.monmouth.edu
SUMMARY:I Stand with Immigrants Social Media Campaign and Dialogue
DESCRIPTION:This day-long campaign will allow participants to share their experiences with immigration and why allyship is so critically important. Follow the brothers of Lambda Theta Phi Latin Fraternity\, Incorporated\, all day for ways to participate. There will also be an Instagram Live panel at 9 p.m. featuring those who have direct experience with immigration. \nThis event is just part of Hispanic Heritage Month\, presented by Monmouth University’s Intercultural Center. \nEach year\, Monmouth University observes National Hispanic Heritage Month from September 15 to October 15\, by celebrating the histories\, cultures\, and contributions of those whose ancestors came from Spain\, Mexico\, the Caribbean\, and Central and South America. Join the Hispanic Heritage Month Planning Committee for our month-long virtual event series including critical dialogues\, performances\, scholarship\, and speakers including legendary labor rights organizer and feminist activist Dolores Huerta\, president and founder of the Dolores Huerta Foundation.
URL:https://www.monmouth.edu/events/event/i-stand-with-immigrants-social-media-campaign-and-dialogue/
CATEGORIES:Diversity and Inclusion,Intercultural Center,Intercultural Center Events,Virtual
ATTACH;FMTTYPE=image/jpeg:https://www.monmouth.edu/events/wp-content/uploads/sites/19/2020/09/i-stand-with-immigrants.jpeg
END:VEVENT
BEGIN:VEVENT
DTSTART;TZID=America/New_York:20201014T153000
DTEND;TZID=America/New_York:20201014T163000
DTSTAMP:20260422T052439
CREATED:20200908T214937Z
LAST-MODIFIED:20220418T191436Z
UID:40810110413-1602689400-1602693000@www.monmouth.edu
SUMMARY:Hispanic Heritage Month Closing Keynote: Dolores Huerta; President and Founder\, Dolores Huerta Foundation
DESCRIPTION:Dolores Huerta is a legendary labor leader\, women’s advocate\, and civil rights activist who co-founded the United Farm Workers (UFW). Working alongside UFW President César Chavez\, Huerta was involved in numerous community and labor organizing efforts in Central California\, and quickly became a skilled organizer and negotiator for the union. Huerta still works tirelessly\, developing new leaders and advocating for the working poor\, women\, and children. She speaks regularly to students and organizations across the United States and abroad about issues of social justice and public policy. \nThis event is just part of Hispanic Heritage Month\, presented by Monmouth University’s Intercultural Center. \nEach year\, Monmouth University observes National Hispanic Heritage Month from September 15 to October 15\, by celebrating the histories\, cultures\, and contributions of those whose ancestors came from Spain\, Mexico\, the Caribbean\, and Central and South America. Join the Hispanic Heritage Month Planning Committee for our month-long virtual event series including critical dialogues\, performances\, scholarship\, and speakers including legendary labor rights organizer and feminist activist Dolores Huerta\, president and founder of the Dolores Huerta Foundation.
URL:https://www.monmouth.edu/events/event/dolores-huerta/
CATEGORIES:Diversity and Inclusion,Intercultural Center,Intercultural Center Events,Lectures,Virtual
ATTACH;FMTTYPE=image/jpeg:https://www.monmouth.edu/events/wp-content/uploads/sites/19/2020/09/dolores-huerta.jpeg
END:VEVENT
BEGIN:VEVENT
DTSTART;TZID=America/New_York:20201013T114000
DTEND;TZID=America/New_York:20201013T114000
DTSTAMP:20260422T052439
CREATED:20200908T213841Z
LAST-MODIFIED:20220419T133201Z
UID:40810110410-1602589200-1602589200@www.monmouth.edu
SUMMARY:From Andalucía to New Jersey: The Spanish Diaspora through History\, Dance\, Music and Cuisine
DESCRIPTION:Featuring the Alborada Spanish Dance Theater\, and sponsored by the Department of World Languages and Cultures\, this program will expose participants to the history\, diaspora and multicultural fabric of Spanish culture. \nJoin Us on Zoom \nThis event is just part of Hispanic Heritage Month\, presented by Monmouth University’s Intercultural Center. \nEach year\, Monmouth University observes National Hispanic Heritage Month from September 15 to October 15\, by celebrating the histories\, cultures\, and contributions of those whose ancestors came from Spain\, Mexico\, the Caribbean\, and Central and South America. Join the Hispanic Heritage Month Planning Committee for our month-long virtual event series including critical dialogues\, performances\, scholarship\, and speakers including legendary labor rights organizer and feminist activist Dolores Huerta\, president and founder of the Dolores Huerta Foundation.
URL:https://www.monmouth.edu/events/event/from-andalucia-to-new-jersey/
CATEGORIES:Diversity and Inclusion,Intercultural Center,Intercultural Center Events,Lectures,Virtual
ATTACH;FMTTYPE=image/jpeg:https://www.monmouth.edu/events/wp-content/uploads/sites/19/2020/09/from-andalucia-to-nj.jpeg
END:VEVENT
BEGIN:VEVENT
DTSTART;TZID=America/New_York:20201008T180000
DTEND;TZID=America/New_York:20201008T180000
DTSTAMP:20260422T052439
CREATED:20200908T213631Z
LAST-MODIFIED:20220418T192242Z
UID:40810110407-1602180000-1602180000@www.monmouth.edu
SUMMARY:Reel Talk: “Dolores” Film Screening and Talkback
DESCRIPTION:This event is just part of Hispanic Heritage Month\, presented by Monmouth University’s Intercultural Center. \nEach year\, Monmouth University observes National Hispanic Heritage Month from September 15 to October 15\, by celebrating the histories\, cultures\, and contributions of those whose ancestors came from Spain\, Mexico\, the Caribbean\, and Central and South America. Join the Hispanic Heritage Month Planning Committee for our month-long virtual event series including critical dialogues\, performances\, scholarship\, and speakers including legendary labor rights organizer and feminist activist Dolores Huerta\, president and founder of the Dolores Huerta Foundation.
URL:https://www.monmouth.edu/events/event/reel-talk-dolores-film/
CATEGORIES:Diversity and Inclusion,Film,Intercultural Center,Intercultural Center Events,Virtual
ATTACH;FMTTYPE=image/jpeg:https://www.monmouth.edu/events/wp-content/uploads/sites/19/2020/09/dolores.jpeg
END:VEVENT
BEGIN:VEVENT
DTSTART;TZID=America/New_York:20201006T203000
DTEND;TZID=America/New_York:20201006T203000
DTSTAMP:20260422T052439
CREATED:20200908T212426Z
LAST-MODIFIED:20220418T192331Z
UID:40810110404-1602016200-1602016200@www.monmouth.edu
SUMMARY:But I'm Both: An Afro-Latinx Dialogue
DESCRIPTION:Join alumna @losrizosdero as she discusses experiences and politics within Afro-Latinx communities. Sponsored by Chi Upsilon Sigma National Latin Sorority Inc. and Latin American Student Organization. \nThis event is just part of Hispanic Heritage Month\, presented by Monmouth University’s Intercultural Center. \nEach year\, Monmouth University observes National Hispanic Heritage Month from September 15 to October 15\, by celebrating the histories\, cultures\, and contributions of those whose ancestors came from Spain\, Mexico\, the Caribbean\, and Central and South America. Join the Hispanic Heritage Month Planning Committee for our month-long virtual event series including critical dialogues\, performances\, scholarship\, and speakers including legendary labor rights organizer and feminist activist Dolores Huerta\, president and founder of the Dolores Huerta Foundation.
URL:https://www.monmouth.edu/events/event/but-i-am-both/
CATEGORIES:Diversity and Inclusion,Intercultural Center,Intercultural Center Events,Virtual
ATTACH;FMTTYPE=image/jpeg:https://www.monmouth.edu/events/wp-content/uploads/sites/19/2020/09/but-im-both.jpeg
END:VEVENT
BEGIN:VEVENT
DTSTART;TZID=America/New_York:20200930T213000
DTEND;TZID=America/New_York:20200930T213000
DTSTAMP:20260422T052439
CREATED:20200908T211544Z
LAST-MODIFIED:20220419T133542Z
UID:40810110398-1601501400-1601501400@www.monmouth.edu
SUMMARY:Racism and Colorism within the Latinx Community
DESCRIPTION:Join the sisters of Lambda Theta Alpha Latin Sorority\, Incorporated\, for this important dialogue around colorism and how it shows up within Latinx communities. \nThis event is just part of Hispanic Heritage Month\, presented by Monmouth University’s Intercultural Center. \nEach year\, Monmouth University observes National Hispanic Heritage Month from September 15 to October 15\, by celebrating the histories\, cultures\, and contributions of those whose ancestors came from Spain\, Mexico\, the Caribbean\, and Central and South America. Join the Hispanic Heritage Month Planning Committee for our month-long virtual event series including critical dialogues\, performances\, scholarship\, and speakers including legendary labor rights organizer and feminist activist Dolores Huerta\, president and founder of the Dolores Huerta Foundation.
URL:https://www.monmouth.edu/events/event/racism-and-colorism-within-the-latinx-community/
CATEGORIES:Diversity and Inclusion,Intercultural Center,Intercultural Center Events,Lectures,Virtual
ATTACH;FMTTYPE=image/jpeg:https://www.monmouth.edu/events/wp-content/uploads/sites/19/2020/09/racism-and-colorism.jpeg
END:VEVENT
BEGIN:VEVENT
DTSTART;TZID=America/New_York:20200929T200000
DTEND;TZID=America/New_York:20200929T200000
DTSTAMP:20260422T052439
CREATED:20200908T211328Z
LAST-MODIFIED:20220418T192412Z
UID:40810110395-1601409600-1601409600@www.monmouth.edu
SUMMARY:Latinx Trivia Night
DESCRIPTION:Intercultural Trivia Tuesdays: Latinx History \nTrivia nights are back! Test your knowledge\, compete virtually\, and learn along the way. The top five players will win $100 Amazon Gift Cards. Co-sponsored by the Office of Student Activities and the Intercultural Center. \nThis event is just part of Hispanic Heritage Month\, presented by Monmouth University’s Intercultural Center. \nEach year\, Monmouth University observes National Hispanic Heritage Month from September 15 to October 15\, by celebrating the histories\, cultures\, and contributions of those whose ancestors came from Spain\, Mexico\, the Caribbean\, and Central and South America. Join the Hispanic Heritage Month Planning Committee for our month-long virtual event series including critical dialogues\, performances\, scholarship\, and speakers including legendary labor rights organizer and feminist activist Dolores Huerta\, president and founder of the Dolores Huerta Foundation.
URL:https://www.monmouth.edu/events/event/latinx-trivia-night/
CATEGORIES:Diversity and Inclusion,Intercultural Center,Intercultural Center Events,Virtual
ATTACH;FMTTYPE=image/jpeg:https://www.monmouth.edu/events/wp-content/uploads/sites/19/2020/09/intercultural-trivia-tuesdays.jpeg
END:VEVENT
BEGIN:VEVENT
DTSTART;TZID=America/New_York:20200922T110000
DTEND;TZID=America/New_York:20200922T110000
DTSTAMP:20260422T052439
CREATED:20200908T210249Z
LAST-MODIFIED:20220419T133443Z
UID:40810110386-1600772400-1600772400@www.monmouth.edu
SUMMARY:QUENCH: Global Studies: Latino\, Latinx\, and Caribbean Cultures in the United States\, Lecture and Dialogue with Dr. Luis Mora-Ballesteros
DESCRIPTION:QUENCH your thirst for knowledge in this engaging lecture and critical dialogue by Monmouth University faculty member\, Dr. Luis Mora-Ballesteros. This lecture pursues to provide an understanding of the global achievements in the field of literature and cultures of Latin America\, on being cognizant of some contributions of Latinos\, Latinx\, and Carribeans that trace their roots to speaking-Spanish counties in Central and South America and the Caribbean\, and how their works have made possible to enrich the United States society and culture in the last decade. \nThis event is just part of Hispanic Heritage Month\, presented by Monmouth University’s Intercultural Center. \nEach year\, Monmouth University observes National Hispanic Heritage Month from September 15 to October 15\, by celebrating the histories\, cultures\, and contributions of those whose ancestors came from Spain\, Mexico\, the Caribbean\, and Central and South America. Join the Hispanic Heritage Month Planning Committee for our month-long virtual event series including critical dialogues\, performances\, scholarship\, and speakers including legendary labor rights organizer and feminist activist Dolores Huerta\, president and founder of the Dolores Huerta Foundation.
URL:https://www.monmouth.edu/events/event/quench-global-studies/
CATEGORIES:Diversity and Inclusion,Intercultural Center,Intercultural Center Events,Lectures,Virtual
ATTACH;FMTTYPE=image/jpeg:https://www.monmouth.edu/events/wp-content/uploads/sites/19/2020/09/quench.jpeg
END:VEVENT
BEGIN:VEVENT
DTSTART;TZID=America/New_York:20200916T210000
DTEND;TZID=America/New_York:20200916T210000
DTSTAMP:20260422T052439
CREATED:20200908T205030Z
LAST-MODIFIED:20220418T191642Z
UID:40810110383-1600290000-1600290000@www.monmouth.edu
SUMMARY:Urban Bachata: The Black History of Bachata Dance
DESCRIPTION:Join Chi Upsilon Sigma National Latin Sorority Inc. and Lambda Theta Phi Latin Fraternity\, Incorporated\, for this interactive history of Bachata dance. The program will also include live dance instruction. \nThis event is just part of Hispanic Heritage Month\, presented by Monmouth University’s Intercultural Center. \nEach year\, Monmouth University observes National Hispanic Heritage Month from September 15 to October 15\, by celebrating the histories\, cultures\, and contributions of those whose ancestors came from Spain\, Mexico\, the Caribbean\, and Central and South America. Join the Hispanic Heritage Month Planning Committee for our month-long virtual event series including critical dialogues\, performances\, scholarship\, and speakers including legendary labor rights organizer and feminist activist Dolores Huerta\, president and founder of the Dolores Huerta Foundation.
URL:https://www.monmouth.edu/events/event/urban-bachata/
LOCATION:Online
CATEGORIES:Diversity and Inclusion,Intercultural Center,Intercultural Center Events,Virtual
ATTACH;FMTTYPE=image/jpeg:https://www.monmouth.edu/events/wp-content/uploads/sites/19/2020/09/urban-bachata.jpeg
END:VEVENT
BEGIN:VEVENT
DTSTART;VALUE=DATE:20200915
DTEND;VALUE=DATE:20201016
DTSTAMP:20260422T052439
CREATED:20200908T190740Z
LAST-MODIFIED:20200924T180922Z
UID:40810110380-1600128000-1602806399@www.monmouth.edu
SUMMARY:Hispanic Heritage Month
DESCRIPTION:
URL:https://www.monmouth.edu/events/event/hispanic-heritage-month/
LOCATION:Online
CATEGORIES:Alumni,Community Member,Current Student,Diversity and Inclusion,Faculty,Graduate Student,Intercultural Center,Lectures,Lectures/Workshops/Symposiums,Virtual
ATTACH;FMTTYPE=image/png:https://www.monmouth.edu/events/wp-content/uploads/sites/19/2020/09/HHM-2020-Individual-Flyers.png
END:VEVENT
BEGIN:VEVENT
DTSTART;TZID=America/New_York:20180220T163000
DTEND;TZID=America/New_York:20180220T190000
DTSTAMP:20260422T052439
CREATED:20180725T203512Z
LAST-MODIFIED:20190301T183134Z
UID:40810101107-1519144200-1519153200@www.monmouth.edu
SUMMARY:FILM SCREENING & FACULTY	LED DISCUSSION: REBIRTH OF A NATION BY PAUL D. MILLER AKA DJ SPOOKY
DESCRIPTION:To create his film Rebirth of a Nation\, Paul D. Miller aka DJ Spooky\, remixed D.W. Griffith’s 1915 epic film The Birth of a Nation. His re-telling of this overtly racist story depicted in the Reconstruction-era United States hurtles Griffith’s images into the 21st century. The original film was based on a novel and theater play by Thomas Dixon entitled. By applying DJ technique to cinema\, Miller’s new film parallels\, deconstructs and remixes the original. He likes to think of it as “film as found object” in the same sense that artists such as Marcel Duchamp\, Jeff Koons\, Andy Warhol and David Hammons\, among many others\, have fostered creative investigations into the idea of found objects\, cinema and “appropriation art.” \nThe event will feature a discussion led by Monmouth faculty from a variety of disciplines. Including: Johanna Foster (Sociology)\, Walter Greason (History)\, Mark Ludak (Photography) and Brook Nappi (Anthropology). The first half of the film will screen starting at 4:30 p.m. Faculty will lead a discussion in the middle of the event\, and the second half of the film will follow until 6:45 p.m. \nPaul D. Miller\, aka DJ Spooky\, is an established composer\, multimedia artist\, and author. He travels around the world performing solo\, with chamber groups\, and with orchestras\, while giving talks at prominent universities\, museums\, and conferences. His DJ Mixer app has seen more than 12 million downloads and in 2012- 2013 he was the first artist-in-residence at the Metropolitan Museum of Art in NYC. He is also the executive editor of ORIGIN Magazine. He’s produced and composed work for Yoko Ono\, Thurston Moore\, and scores of artists and award-winning films. Miller’s work as a media artist has appeared in the Whitney Biennial; The Venice Biennial for Architecture; the Ludwig Museum in Cologne\, Germany; Kunsthalle\, Vienna; The Andy Warhol Museum in Pittsburgh; and many other museums and galleries. He has been featured everywhere from CNN to SyFy. His new book The Imaginary App\, published by MIT Press\, was released in 2014. National Geographic named Miller a National Geographic Emerging Explorer for 2014/2015. \nNOTE: Miller will not be present for this event.
URL:https://www.monmouth.edu/events/event/rebirthofanationmiller18/
LOCATION:The Great Hall Auditorium
CATEGORIES:Arts at Monmouth,Diversity and Inclusion,Film,Free,Lectures,Lectures/Workshops/Symposiums
ATTACH;FMTTYPE=image/jpeg:https://www.monmouth.edu/events/wp-content/uploads/sites/19/2018/07/rebirth_hero2.jpg
END:VEVENT
END:VCALENDAR