BEGIN:VCALENDAR
VERSION:2.0
PRODID:-//Events - ECPv6.15.20//NONSGML v1.0//EN
CALSCALE:GREGORIAN
METHOD:PUBLISH
X-WR-CALNAME:Events
X-ORIGINAL-URL:https://www.monmouth.edu/events
X-WR-CALDESC:Events for Events
REFRESH-INTERVAL;VALUE=DURATION:PT1H
X-Robots-Tag:noindex
X-PUBLISHED-TTL:PT1H
BEGIN:VTIMEZONE
TZID:America/New_York
BEGIN:DAYLIGHT
TZOFFSETFROM:-0500
TZOFFSETTO:-0400
TZNAME:EDT
DTSTART:20150308T070000
END:DAYLIGHT
BEGIN:STANDARD
TZOFFSETFROM:-0400
TZOFFSETTO:-0500
TZNAME:EST
DTSTART:20151101T060000
END:STANDARD
BEGIN:DAYLIGHT
TZOFFSETFROM:-0500
TZOFFSETTO:-0400
TZNAME:EDT
DTSTART:20160313T070000
END:DAYLIGHT
BEGIN:STANDARD
TZOFFSETFROM:-0400
TZOFFSETTO:-0500
TZNAME:EST
DTSTART:20161106T060000
END:STANDARD
BEGIN:DAYLIGHT
TZOFFSETFROM:-0500
TZOFFSETTO:-0400
TZNAME:EDT
DTSTART:20170312T070000
END:DAYLIGHT
BEGIN:STANDARD
TZOFFSETFROM:-0400
TZOFFSETTO:-0500
TZNAME:EST
DTSTART:20171105T060000
END:STANDARD
END:VTIMEZONE
BEGIN:VEVENT
DTSTART;TZID=America/New_York:20160620T090000
DTEND;TZID=America/New_York:20160620T170000
DTSTAMP:20260425T090110
CREATED:20180725T204025Z
LAST-MODIFIED:20190304T145454Z
UID:40810101845-1466413200-1466442000@www.monmouth.edu
SUMMARY:Sexual Assault Examination Across the Lifespan - Workshop
DESCRIPTION:Sexual Assault Examination Across the Lifespan\nThis program is designed for the RN with at least 2 years recent clinical experience desiring to obtain the in-depth knowledge and skills needed to provide effective health care and services to victims of sexual assault. Content will include the biological\, psychological\, social and medico-legal dynamics of sexual assault including care of both male and female survivors across the lifespan. \nTopics will include: assessment and evaluation of the adult\, adolescent\, pediatric survivor of sexual assault through the lifespan; role of the SANE in caring for sexual assault and abuse victims across the lifespan; nursing management of the sexually assaulted patient; evidence collection and analysis; exam documentation; clinical skill demonstrations; interdisciplinary collaboration; NJ laws and regulations; and an overview of the criminal justice system including tips on testifying. \nCOST\n$800 \nREGISTER\nFor more information\, contact Barbara Paskewich\, MSN\,RN\, MA\, CHES\, Director of Professional Development and Special Projects\, at 732-571-3694 or bpaskewi@monmouth.edu. \nRegister Online for Workshop
URL:https://www.monmouth.edu/events/event/sexual-assault-examination-across-the-lifespan-workshop/
LOCATION:Monmouth Park Corporate Center
CATEGORIES:Alumni,Community Member,Current Student,Nursing,School of Nursing and Health Studies
ATTACH;FMTTYPE=image/png:https://www.monmouth.edu/events/wp-content/uploads/sites/19/2018/07/NursingWorkshopDisplay3.png
END:VEVENT
END:VCALENDAR