BEGIN:VCALENDAR
VERSION:2.0
PRODID:-//Events - ECPv6.15.20//NONSGML v1.0//EN
CALSCALE:GREGORIAN
METHOD:PUBLISH
X-ORIGINAL-URL:https://www.monmouth.edu/events
X-WR-CALDESC:Events for Events
REFRESH-INTERVAL;VALUE=DURATION:PT1H
X-Robots-Tag:noindex
X-PUBLISHED-TTL:PT1H
BEGIN:VTIMEZONE
TZID:America/New_York
BEGIN:DAYLIGHT
TZOFFSETFROM:-0500
TZOFFSETTO:-0400
TZNAME:EDT
DTSTART:20130310T070000
END:DAYLIGHT
BEGIN:STANDARD
TZOFFSETFROM:-0400
TZOFFSETTO:-0500
TZNAME:EST
DTSTART:20131103T060000
END:STANDARD
BEGIN:DAYLIGHT
TZOFFSETFROM:-0500
TZOFFSETTO:-0400
TZNAME:EDT
DTSTART:20140309T070000
END:DAYLIGHT
BEGIN:STANDARD
TZOFFSETFROM:-0400
TZOFFSETTO:-0500
TZNAME:EST
DTSTART:20141102T060000
END:STANDARD
BEGIN:DAYLIGHT
TZOFFSETFROM:-0500
TZOFFSETTO:-0400
TZNAME:EDT
DTSTART:20150308T070000
END:DAYLIGHT
BEGIN:STANDARD
TZOFFSETFROM:-0400
TZOFFSETTO:-0500
TZNAME:EST
DTSTART:20151101T060000
END:STANDARD
END:VTIMEZONE
BEGIN:VEVENT
DTSTART;TZID=America/New_York:20141105T193000
DTEND;TZID=America/New_York:20141105T220000
DTSTAMP:20260425T070435
CREATED:20180725T204446Z
LAST-MODIFIED:20180725T204446Z
UID:40810102832-1415215800-1415224800@www.monmouth.edu
SUMMARY:Film Screening: Oro Macht Frei
DESCRIPTION:Oro Macht Frei tells the story of the Roman Jewish experience of the Nazi occupation of Rome (Sept 1943 – June 1944). Weaving testimony from Roman Jews together with historical research by renowned scholars on the subject (including Susan Zuccotti\, Alexander Stille\, Liliana Picciotto)\, OMF seeks to bring the viewer into a personal and relatable reflection of the Holocaust in Italy through the eyes of this unique and historic community.   \nThere will be a panel/Q & A following screening.  \nThe panel includes: Joel Markel\, Producer/Founder of Ottimo FilmsSusan Zuccotti\, American historian\, specializing in Holocaust studiesJane Denny\, Director of Education CHHANGE (Center for Holocaust\, Human Rights and Genocide Education) at Brookdale CollegeSaliba Sarsar\, Associate Vice President for Global Initiatives at Monmouth UniversityCatherine Campbell\, Producer/Editor/Writer for Ottimo Films \nModerated by Susan Douglas\, Specialist Professor of History and Anthropology at Monmouth University.
URL:https://www.monmouth.edu/events/event/film-screening-oro-macht-frei/
LOCATION:Pollak Theatre
CATEGORIES:History + Anthropology
ATTACH;FMTTYPE=image/jpeg:https://www.monmouth.edu/events/wp-content/uploads/sites/19/2018/07/OMF-Poster-large-copy.jpg
END:VEVENT
END:VCALENDAR