BEGIN:VCALENDAR
VERSION:2.0
PRODID:-//Events - ECPv6.15.20//NONSGML v1.0//EN
CALSCALE:GREGORIAN
METHOD:PUBLISH
X-WR-CALNAME:Events
X-ORIGINAL-URL:https://www.monmouth.edu/events
X-WR-CALDESC:Events for Events
REFRESH-INTERVAL;VALUE=DURATION:PT1H
X-Robots-Tag:noindex
X-PUBLISHED-TTL:PT1H
BEGIN:VTIMEZONE
TZID:America/New_York
BEGIN:DAYLIGHT
TZOFFSETFROM:-0500
TZOFFSETTO:-0400
TZNAME:EDT
DTSTART:20130310T070000
END:DAYLIGHT
BEGIN:STANDARD
TZOFFSETFROM:-0400
TZOFFSETTO:-0500
TZNAME:EST
DTSTART:20131103T060000
END:STANDARD
BEGIN:DAYLIGHT
TZOFFSETFROM:-0500
TZOFFSETTO:-0400
TZNAME:EDT
DTSTART:20140309T070000
END:DAYLIGHT
BEGIN:STANDARD
TZOFFSETFROM:-0400
TZOFFSETTO:-0500
TZNAME:EST
DTSTART:20141102T060000
END:STANDARD
BEGIN:DAYLIGHT
TZOFFSETFROM:-0500
TZOFFSETTO:-0400
TZNAME:EDT
DTSTART:20150308T070000
END:DAYLIGHT
BEGIN:STANDARD
TZOFFSETFROM:-0400
TZOFFSETTO:-0500
TZNAME:EST
DTSTART:20151101T060000
END:STANDARD
END:VTIMEZONE
BEGIN:VEVENT
DTSTART;TZID=America/New_York:20141108T200000
DTEND;TZID=America/New_York:20141108T230000
DTSTAMP:20260425T083754
CREATED:20180725T204545Z
LAST-MODIFIED:20180725T204545Z
UID:40810103027-1415476800-1415487600@www.monmouth.edu
SUMMARY:True Blues with Corey Harris\, Guy Davis\, and Alvin Youngblood Hart
DESCRIPTION:Hosted by Corey Harris\, a MacArthur Grant recipient\, and featuring renowned roots musicians Guy Davis and Alvin Youngblood Hart\, True Blues chronicles the extraordinary living culture of the blues in an evening of music and conversation. In bringing the True Blues film to the concert stage\, the True Blues concert vividly brings to life this crucial wellspring of American music. \nBoth Corey Harris and Alvin Youngblood Hart were featured in Martin Scorcese’s “The Blues: A Musical Journey\,” which followed Corey on a roots journey to West Africa. Alvin contributed\, as well\, to Wim Wenders’ ”The Soul Of a Man” and Denzel Washington’s “The Great Debaters.” Guy has often followed in the Thespian footsteps of his parents\, Ossie Davis and Ruby Dee\, most recently in the Broadway revival of “Finian’s Rainbow\,” and earlier in “Mulebone” and “Robert Johnson: Trick the Devil.” \nBlues is at the center of their artistry\, and the blues takes center stage in True Blues\, the concert.
URL:https://www.monmouth.edu/events/event/true-blues-with-corey-harris-guy-davis-and-alvin-youngblood-hart/
LOCATION:Pollak Theatre
CATEGORIES:Arts at Monmouth,Concerts
ATTACH;FMTTYPE=image/jpeg:https://www.monmouth.edu/events/wp-content/uploads/sites/19/2018/07/TB.jpg
END:VEVENT
BEGIN:VEVENT
DTSTART;TZID=America/New_York:20141114T200000
DTEND;TZID=America/New_York:20141114T230000
DTSTAMP:20260425T083754
CREATED:20180725T204506Z
LAST-MODIFIED:20180725T204506Z
UID:40810102904-1415995200-1416006000@www.monmouth.edu
SUMMARY:Southside Johnny & The Poor Fools
DESCRIPTION:Southside Johnny & The Poor Fools return to the Pollak Theatre for another riveting evening embarking on a stripped down journey through Johnny Lyon’s eclectic version of the Great American Songbook. Playing a wide range of music from Dylan\, Mose Allison\, Muddy Waters\, NRBQ\, Richard Thompson\, Emmylou Harris\, The Band\, George Jones and more\, The Poor Fools also dive into some of the Southside’s Asbury Jukes material–revisiting some classics as well as the underperformed deep tracks. In this incarnation\, musicians such as Jeff Kazee\, John Conte\, Tommy Byrnes\, and Neal “The Dude” Pawley\, join Johnny for singing\, playing\, and having some fun on stage. It will be a loose mix of songs\, stories\, and banter between the musicians and–hopefully–the audience.  \nNo rules. No fences. With Lyon shaking up each night’s setlist for himself and his gang of multi-instrumentalist band members\, these troubadours ride the rails of the runaway train known as Southside Johnny and The Poor Fools. \n \n Bob Burger will be opening the show.  \nAll ticket holders will receive a free autographed poster signed by the artists after the show.
URL:https://www.monmouth.edu/events/event/southside-johnny-the-poor-fools/
LOCATION:Pollak Theatre
CATEGORIES:Concerts
ATTACH;FMTTYPE=image/jpeg:https://www.monmouth.edu/events/wp-content/uploads/sites/19/2018/07/710SSJ-Poor-Fools.jpg
END:VEVENT
BEGIN:VEVENT
DTSTART;TZID=America/New_York:20141118T200000
DTEND;TZID=America/New_York:20141118T230000
DTSTAMP:20260425T083754
CREATED:20180725T204454Z
LAST-MODIFIED:20180725T204454Z
UID:40810102859-1416340800-1416351600@www.monmouth.edu
SUMMARY:Ani DiFranco
DESCRIPTION:Folk singer Ani DiFranco melds soul\, funk\, jazz\, electronica and spoken word into her eclectic repertoire\, which features the songs “Untouchable Face\,”   “32 Flavors” and “Wishin’ and Hopin’.” A Grammy-winning songwriter and collaborator\, DiFranco has never stopped evolving\, experimenting or pushing the limits of what can be said and sung\, over the course of more than 20 albums. Her CDs include the live two-disc Living in Clip\, the career retrospective Canon and her latest release\, ¿Which Side Are You On? \nAmong DiFranco’s “lifelong tribe of co-conspirators” are Pete Seeger\, Prince\, Dr. John\, Bruce Springsteen and Cyndi Lauper.  The Buffalo\, N.Y. native has made New Orleans her home base for much of the last decade\, but she considers herself a traveler\, touring the world both solo and with her band.Opening the show will be renowned jazz violinist Jenny Scheinman\, who has collaborated and played with artists like Norah Jones\, Lou Reed\,  Aretha Franklin\, Lucinda Williams and Bono.
URL:https://www.monmouth.edu/events/event/ani-difranco/
LOCATION:Pollak Theatre
CATEGORIES:Artful Explorations of Gender,Concerts
ATTACH;FMTTYPE=image/gif:https://www.monmouth.edu/events/wp-content/uploads/sites/19/2018/07/6916AniByShervinLainez_zpsfe630e63.gif
END:VEVENT
BEGIN:VEVENT
DTSTART;TZID=America/New_York:20141120T200000
DTEND;TZID=America/New_York:20141120T230000
DTSTAMP:20260425T083754
CREATED:20180725T204502Z
LAST-MODIFIED:20190909T203742Z
UID:40810102886-1416513600-1416524400@www.monmouth.edu
SUMMARY:Mary Chapin Carpenter
DESCRIPTION:Five-time Grammy Award-winning singer-songwriter and 2012 Nashville Songwriters Hall of Fame inductee Mary Chapin Carpenter will embark on a unique series of intimate\, acoustic performances this fall. The tour marks Carpenter’s return to singing both timeless hits and deep cuts from her expansive and beloved 13-album catalog after performing with orchestras in early 2014. Carpenter will be joined on stage by longtime friends Jon Carroll (piano) and John Doyle (guitars\, bouzouki). \nCarpenter has spent the past year performing alongside world-renowned orchestras since the release of her debut orchestral album\, Songs From the Movie (Zoë /Rounder)\, which was conducted and arranged by six-time Grammy Award winner Vince Mendoza. Carpenter’s world debut orchestral concert took place on January 24 at the Glasgow Royal Concert Hall alongside the BBC Scottish Symphony Orchestra. In March\, she performed two milestone concerts at New York’s Lincoln Center with the New York Philharmonic\, conducted by Mr. Mendoza\, and was joined by special guests Joan Baez\, Shawn Colvin\, Jerry Douglas\, Tift Merritt and Aoife O’Donovan. \nOver the course of\nher career\, Carpenter has sold over 13 million records. With hits like “Passionate Kisses” and “He Thinks He’ll Keep Her\,” she has won five Grammy Awards (with 15 nominations)\, two CMA awards and two Academy of Country Music awards for her vocals. Her songs speak to the most personal of life’s details and the most universal. \nTift Merritt will be opening the show.
URL:https://www.monmouth.edu/events/event/mary-chapin-carpenter/
LOCATION:Pollak Theatre
CATEGORIES:Artful Explorations of Gender,Concerts
ATTACH;FMTTYPE=image/jpeg:https://www.monmouth.edu/events/wp-content/uploads/sites/19/2018/07/APPROVEDMary_Chapin.jpg
END:VEVENT
BEGIN:VEVENT
DTSTART;TZID=America/New_York:20141121T193000
DTEND;TZID=America/New_York:20141121T220000
DTSTAMP:20260425T083754
CREATED:20180725T204430Z
LAST-MODIFIED:20180725T204430Z
UID:40810102763-1416598200-1416607200@www.monmouth.edu
SUMMARY:One Last Waltz: A Celebration of the Music & Legacy of The Band
DESCRIPTION:Tickets on sale Oct. 6    \n A wise man once said it’s better to burn out than fade away\, and on Thanksgiving Day of 1976\, one of the best live acts of the rock era went out in a blaze of glory.  \nGlen Burtnik\, Salvatore Boyd\, Bob Burger & Arne Wendt\, performing as The Band. They will be joined on stage by a cast of artists\, including Southside Johnny\, Pat Guadagno\, Bobby Banderia\, Kate Taylor\, Bruce Gassman\, Frank Puggy DeRosa\, Matt Wade\, Stringbean Sorenson\, Frank Lombardi\, Anthony D’Amato\, Emily Grove\, Nick Foster\, Tommy LaBella\, Taylor Hope and more\, to bring us on a musical journey back in time to the fall of 1976. \nA Burtnik/Boyd Production
URL:https://www.monmouth.edu/events/event/one-last-waltz-a-celebration-of-the-music-legacy-of-the-band/
LOCATION:Pollak Theatre
CATEGORIES:Concerts
ATTACH;FMTTYPE=image/jpeg:https://www.monmouth.edu/events/wp-content/uploads/sites/19/2018/07/One-Last-Waltz-EDITED.jpg
END:VEVENT
BEGIN:VEVENT
DTSTART;TZID=America/New_York:20141126T193000
DTEND;TZID=America/New_York:20141126T220000
DTSTAMP:20260425T083754
CREATED:20180725T204432Z
LAST-MODIFIED:20180725T204432Z
UID:40810102775-1417030200-1417039200@www.monmouth.edu
SUMMARY:A Marvelous Night: The music of Van Morrison
DESCRIPTION:PLEASE NOTE: This concert will take place as scheduled. \nOn Thanksgiving Eve\, some of New Jersey’s finest entertainers will get together at the Pollak Theater to share the music of Van Morrison with their friends. Enjoy the mystical compositions of one of the most influential and unusual artists of our time as performed by legendary front man Rob Paparozzi (Original Blues Brothers Band\, Blood Sweat ‘n Tears ) and Master Song Stylist Pat Guadagno (BobFest\, The Candle Brothers ). The all-star band will include Steven Socrates Delopoulos (Burlap to Cashmere) Irish Tenor Steve Reilly\, Michael Ghegan (Michael Jackson Cirque de Soleil) and a host of other surprise guests. Put the Turkey in the oven\, and bring the family\, just don’t miss this transcendental experience. You will be healed!
URL:https://www.monmouth.edu/events/event/a-marvelous-night-the-music-of-van-morrison-3/
LOCATION:Pollak Theatre
CATEGORIES:Concerts
ATTACH;FMTTYPE=image/jpeg:https://www.monmouth.edu/events/wp-content/uploads/sites/19/2018/07/Van_Morrison_WEB_rf.jpeg
END:VEVENT
END:VCALENDAR