BEGIN:VCALENDAR
VERSION:2.0
PRODID:-//Events - ECPv6.15.20//NONSGML v1.0//EN
CALSCALE:GREGORIAN
METHOD:PUBLISH
X-WR-CALNAME:Events
X-ORIGINAL-URL:https://www.monmouth.edu/events
X-WR-CALDESC:Events for Events
REFRESH-INTERVAL;VALUE=DURATION:PT1H
X-Robots-Tag:noindex
X-PUBLISHED-TTL:PT1H
BEGIN:VTIMEZONE
TZID:America/New_York
BEGIN:DAYLIGHT
TZOFFSETFROM:-0500
TZOFFSETTO:-0400
TZNAME:EDT
DTSTART:20130310T070000
END:DAYLIGHT
BEGIN:STANDARD
TZOFFSETFROM:-0400
TZOFFSETTO:-0500
TZNAME:EST
DTSTART:20131103T060000
END:STANDARD
BEGIN:DAYLIGHT
TZOFFSETFROM:-0500
TZOFFSETTO:-0400
TZNAME:EDT
DTSTART:20140309T070000
END:DAYLIGHT
BEGIN:STANDARD
TZOFFSETFROM:-0400
TZOFFSETTO:-0500
TZNAME:EST
DTSTART:20141102T060000
END:STANDARD
BEGIN:DAYLIGHT
TZOFFSETFROM:-0500
TZOFFSETTO:-0400
TZNAME:EDT
DTSTART:20150308T070000
END:DAYLIGHT
BEGIN:STANDARD
TZOFFSETFROM:-0400
TZOFFSETTO:-0500
TZNAME:EST
DTSTART:20151101T060000
END:STANDARD
END:VTIMEZONE
BEGIN:VEVENT
DTSTART;TZID=America/New_York:20140314T190000
DTEND;TZID=America/New_York:20140314T230000
DTSTAMP:20260425T234658
CREATED:20180725T204632Z
LAST-MODIFIED:20180725T204632Z
UID:40810103288-1394823600-1394838000@www.monmouth.edu
SUMMARY:National Theatre of London: War Horse - Second Screening
DESCRIPTION:National Theatre of London: War Horse – Second Screening \nThe National Theatre’s original stage production of\nWar Horse\, broadcast live from London’s West End to cinemas.   \n \nSince its first performance at the National\nTheatre in 2007\, War Horse has become an international smash hit\,\ncapturing the imagination of four million people around the world.  \nBased on Michael Morpurgo’s novel and adapted\nfor the stage by Nick Stafford\, War Horse takes audiences on an\nextraordinary journey from the fields of rural Devon to the trenches of First\nWorld War France. Filled with stirring music and songs\, this powerfully moving\nand imaginative drama is a show of phenomenal inventiveness. At its heart are\nastonishing life-size puppets by South Africa’s Handspring Puppet Company\, who\nbring breathing\, galloping\, charging horses to thrilling life on stage.   \nDon’t miss your chance to experience this landmark production in a\ncinema near you. 
URL:https://www.monmouth.edu/events/event/national-theatre-of-london-war-horse-second-screening/
LOCATION:Pollak Theatre
CATEGORIES:Concerts
ATTACH;FMTTYPE=image/jpeg:https://www.monmouth.edu/events/wp-content/uploads/sites/19/2018/07/WarHorse.jpg
END:VEVENT
BEGIN:VEVENT
DTSTART;TZID=America/New_York:20140329T200000
DTEND;TZID=America/New_York:20140329T235900
DTSTAMP:20260425T234658
CREATED:20180725T205203Z
LAST-MODIFIED:20190327T180808Z
UID:40810104281-1396123200-1396137540@www.monmouth.edu
SUMMARY:Songwriters by the Sea
DESCRIPTION:The Sounds of Asbury Park and other Shore points are celebrated when a pair of musically minded Jersey Joes — Joe D’Urso and Joe Rapolla — bring their Songwriters by the Sea series of intimate\, relaxed\, and inspired round-robins to the Pollak Theatre stage. What started out as a coffee shop show for area songwriters to casually perform with other writers in Asbury Park has quickly evolved into a national series featuring some of the top songwriters in music today. Artists to perform include Marshall Crenshaw\, David Johansen and Allison Moorer. Opening the show will be Monmouth University students Natalie Zeller\, Bryan Haring and Erin Holmes. \n    
URL:https://www.monmouth.edu/events/event/songwriters-by-the-sea-3/
LOCATION:Pollak Theatre
CATEGORIES:Arts at Monmouth,Concerts
ATTACH;FMTTYPE=image/jpeg:https://www.monmouth.edu/events/wp-content/uploads/sites/19/2018/07/Songwriters_web.jpg
END:VEVENT
END:VCALENDAR