BEGIN:VCALENDAR
VERSION:2.0
PRODID:-//Events - ECPv6.15.20//NONSGML v1.0//EN
CALSCALE:GREGORIAN
METHOD:PUBLISH
X-ORIGINAL-URL:https://www.monmouth.edu/events
X-WR-CALDESC:Events for Events
REFRESH-INTERVAL;VALUE=DURATION:PT1H
X-Robots-Tag:noindex
X-PUBLISHED-TTL:PT1H
BEGIN:VTIMEZONE
TZID:America/New_York
BEGIN:DAYLIGHT
TZOFFSETFROM:-0500
TZOFFSETTO:-0400
TZNAME:EDT
DTSTART:20120311T070000
END:DAYLIGHT
BEGIN:STANDARD
TZOFFSETFROM:-0400
TZOFFSETTO:-0500
TZNAME:EST
DTSTART:20121104T060000
END:STANDARD
BEGIN:DAYLIGHT
TZOFFSETFROM:-0500
TZOFFSETTO:-0400
TZNAME:EDT
DTSTART:20130310T070000
END:DAYLIGHT
BEGIN:STANDARD
TZOFFSETFROM:-0400
TZOFFSETTO:-0500
TZNAME:EST
DTSTART:20131103T060000
END:STANDARD
BEGIN:DAYLIGHT
TZOFFSETFROM:-0500
TZOFFSETTO:-0400
TZNAME:EDT
DTSTART:20140309T070000
END:DAYLIGHT
BEGIN:STANDARD
TZOFFSETFROM:-0400
TZOFFSETTO:-0500
TZNAME:EST
DTSTART:20141102T060000
END:STANDARD
END:VTIMEZONE
BEGIN:VEVENT
DTSTART;TZID=America/New_York:20131101T200000
DTEND;TZID=America/New_York:20131101T200000
DTSTAMP:20260425T112317
CREATED:20180725T205122Z
LAST-MODIFIED:20190909T204219Z
UID:40810104158-1383336000-1383336000@www.monmouth.edu
SUMMARY:Rosanne Cash
DESCRIPTION:For over three decades Rosanne Cash has been one of the most compelling figures in popular music\, with a remarkable body of work noted for its emotional acuity\, rich and resonant imagery\, and unsparing honesty. \nThe eldest daughter of country music icon Johnny Cash and stepdaughter of June Carter Cash of the legendary Carter Family\, Rosanne’s musical and family legacy is rooted in the very beginnings of American country music with its deep cultural and historical connections to the south. Her own thoughtful\, genre-blurring approach\, which encompasses country\, rock\, roots and pop influences\, has garnered her a Grammy\, twelve Grammy nominations and eleven No. 1 singles. On her 2009 album The List\, Cash recorded twelve songs from the list of “100 essential country songs” that her father compiled for her\, and instructed her to learn\, when she was 18 and about to join his road show. The List received two Grammy nominations and won the Americana Music Association Awards’ 2010 Album of the Year. \nFor more information: http://www.rosannecash.com/
URL:https://www.monmouth.edu/events/event/rosanne-cash/
CATEGORIES:Alumni,Arts at Monmouth,Community Member,Concerts,Current Student
ATTACH;FMTTYPE=image/jpeg:https://www.monmouth.edu/events/wp-content/uploads/sites/19/2018/07/Rosanne_Cash_Full.jpg
END:VEVENT
BEGIN:VEVENT
DTSTART;TZID=America/New_York:20131108T200000
DTEND;TZID=America/New_York:20131108T235900
DTSTAMP:20260425T112317
CREATED:20180725T205208Z
LAST-MODIFIED:20180725T205208Z
UID:40810104293-1383940800-1383955140@www.monmouth.edu
SUMMARY:Ani DiFranco
DESCRIPTION:After 20 years in the music biz\, self-described “Little Folksinger” Ani DiFranco is still technically little\, although her influence on fellow musicians\, activists\, and indie-minded people the world over has been huge. She still proudly identifies as a folksinger\, too\, but her understanding of that term has always been far more expansive than a bin at the record store or a category on iTunes\, with ample room for soul\, funk\, jazz\, electronic music\, spoken word\, and a marching band or two. Over the course of more than 20 albums\, including the live double-CD Living in Clip (1997) and the two-disc career retrospective Canon (2007)\, as well as her latest\, Which Side are You On (2012)\, Ani has never stopped evolving\, experimenting\, testing the limits of what can be said and sung. Her lifelong tribe of co-conspirators includes everyone from Pete Seeger and the late Utah Phillips to a new generation of twentysomething singer-songwriters who grew up with her songs and shows—and then there’s the motley crew of folks like Prince\, Maceo Parker\, Andrew Bird\, Dr. John\, Arto Lindsay\, Bruce Springsteen\, Chuck D\, the Buffalo Philharmonic\, Gillian Welch\, Cyndi Lauper\, and even Burmese activist and Nobel Laureate Aung San Suu Kyi\, with whom she has crossed paths in a myriad of ways.  \nOpening the show will be female alternative singer/songwriter Melissa Ferrick\, and three-time world champion spoken word artist featured on NPR\, the BBC\, HBO’s Def Poetry Jam Buddy Wakefield.   \nFor more info: www.righteousbabe.com
URL:https://www.monmouth.edu/events/event/ani-difranco-2/
LOCATION:Pollak Theatre
CATEGORIES:Arts at Monmouth,Concerts
ATTACH;FMTTYPE=image/jpeg:https://www.monmouth.edu/events/wp-content/uploads/sites/19/2018/07/anidifranco_thumb.jpg
END:VEVENT
BEGIN:VEVENT
DTSTART;TZID=America/New_York:20131116T200000
DTEND;TZID=America/New_York:20131116T235900
DTSTAMP:20260425T112317
CREATED:20180725T205207Z
LAST-MODIFIED:20180725T205207Z
UID:40810104290-1384632000-1384646340@www.monmouth.edu
SUMMARY:The Songs of Joni Mitchell & Leonard Cohen …Starring Outstanding Cabaret Performer of the Year Lauren Fox
DESCRIPTION:Through stories and song\, Lauren Fox examines the creative genius–and conflicted desires–of two of folk music’s most enduring artists. Joni Mitchell and Leonard Cohen are widely known to be two of the best and most prolific songwriters of their generation. Less known about the fellow Canadian artists is that they had a relationship early in their careers that lasted only a few months\, but had a lasting effect on their work.  \n Many have speculated as to why the relationship didn’t last\, and that’s what Lauren Fox explores here–BOTH SIDES– through their music\, their histories\, their triumphs and heartbreaks. Fox delves into the meaning behind the songs\, giving us a better understanding of a painter and a poet who mesmerized the world through song. Highlights of the show include Mitchell’s “Chelsea Morning\,” “River” and “Both Sides Now\,” and Cohen’s “Suzanne\,” “Bird On A Wire” and “Hallelujah.”Lauren was featured in an article about “the future of cabaret” in the Arts & Leisure section of The New York Times\, written by Stephen Holden\, the noted Times Music Critic.  Holden raved about Lauren’s Joni Mitchell/Leonard Cohen show as “a knock-out…with startling depth and intensity”\, “remarkable” “dramatically revealing” and “a spellbinding his-and hers-dialogue… that conjures the hippie culture of the Woodstock era.”  “Remarkable!  Enthralling!   Spell-binding!  A knock-out”…Stephen Holden\,The New York Times
URL:https://www.monmouth.edu/events/event/the-songs-of-joni-mitchell-leonard-cohen-starring-outstanding-cabaret-performer-of-the-year-lauren-fox/
LOCATION:Pollak Theatre
CATEGORIES:Arts at Monmouth,Concerts
ATTACH;FMTTYPE=image/jpeg:https://www.monmouth.edu/events/wp-content/uploads/sites/19/2018/07/Lauren_Fox_thumb.jpg
END:VEVENT
BEGIN:VEVENT
DTSTART;TZID=America/New_York:20131122T200000
DTEND;TZID=America/New_York:20131122T230000
DTSTAMP:20260425T112317
CREATED:20180725T204712Z
LAST-MODIFIED:20190102T170134Z
UID:40810103453-1385150400-1385161200@www.monmouth.edu
SUMMARY:Josh Ritter
DESCRIPTION:With startling detail\, distinctive storytelling\, compelling subject matter and astonishing musicianship\, Ritter has developed a singular voice that doesn’t defy categorization so much as it creates its own. Idaho born singer-songwriter Josh Ritter has been called one of the “10 Most Exciting Artists Now” by Entertainment Weekly and one of the “100 Best Living Songwriters” by Paste Magazine. The New York Times praises: “Josh Ritter has a way with metaphor. It’s one of the literary touches in his music that have established him among the cream of the young singer-songwriter crop.” His sixth studio album “The Beast In It’s Tracks” was released in March to more critical acclaim with NPR Music calling it “gorgeous and glorious.” Opening for Josh Ritter will be Acoustic singer/songwriter and Monmouth University Music Industry Student Natalie Zeller.
URL:https://www.monmouth.edu/events/event/josh-ritter/
LOCATION:Pollak Theatre
CATEGORIES:Arts at Monmouth,Concerts
ATTACH;FMTTYPE=image/jpeg:https://www.monmouth.edu/events/wp-content/uploads/sites/19/2018/07/JoshRitter-thumbnail.jpg
END:VEVENT
END:VCALENDAR