BEGIN:VCALENDAR
VERSION:2.0
PRODID:-//Events - ECPv6.15.20//NONSGML v1.0//EN
CALSCALE:GREGORIAN
METHOD:PUBLISH
X-ORIGINAL-URL:https://www.monmouth.edu/events
X-WR-CALDESC:Events for Events
REFRESH-INTERVAL;VALUE=DURATION:PT1H
X-Robots-Tag:noindex
X-PUBLISHED-TTL:PT1H
BEGIN:VTIMEZONE
TZID:America/New_York
BEGIN:DAYLIGHT
TZOFFSETFROM:-0500
TZOFFSETTO:-0400
TZNAME:EDT
DTSTART:20250309T070000
END:DAYLIGHT
BEGIN:STANDARD
TZOFFSETFROM:-0400
TZOFFSETTO:-0500
TZNAME:EST
DTSTART:20251102T060000
END:STANDARD
BEGIN:DAYLIGHT
TZOFFSETFROM:-0500
TZOFFSETTO:-0400
TZNAME:EDT
DTSTART:20260308T070000
END:DAYLIGHT
BEGIN:STANDARD
TZOFFSETFROM:-0400
TZOFFSETTO:-0500
TZNAME:EST
DTSTART:20261101T060000
END:STANDARD
BEGIN:DAYLIGHT
TZOFFSETFROM:-0500
TZOFFSETTO:-0400
TZNAME:EDT
DTSTART:20270314T070000
END:DAYLIGHT
BEGIN:STANDARD
TZOFFSETFROM:-0400
TZOFFSETTO:-0500
TZNAME:EST
DTSTART:20271107T060000
END:STANDARD
END:VTIMEZONE
BEGIN:VEVENT
DTSTART;TZID=America/New_York:20260219T190000
DTEND;TZID=America/New_York:20260219T220000
DTSTAMP:20260422T074933
CREATED:20250826T183314Z
LAST-MODIFIED:20260211T151548Z
UID:40810119500-1771527600-1771538400@www.monmouth.edu
SUMMARY:Life of Pi
DESCRIPTION:★★★★★\n‘Puppetry\, projection and magic \ncombine to stunning effect in a \nsuperlative stage adaptation.’\nThe Stage \nPuppetry\, magic\, and storytelling combine in a unique\, Olivier Award winning stage adaptation of the best-selling novel. Filmed in stunning 4k\, the story of a 16-year-old boy stranded on a lifeboat with a hyena\, zebra\, orangutan\, and a Royal Bengal tiger is brought vividly to life. Hiran Abeysekara (A Midsummer Night’s Dream) plays Pi Patel\, joined on stage by Mina Anwar (The Thin Blue Line)\, Raj Ghatak (The Kite Runner)\, and Nicholas Khan (NT Live: The Beaux Stratagem). \nThis epic staging of Yann Martel’s tale of endurance and hope is\nadapted by Lolita Chakrabati and directed by Max Webster (Henry V).\nThe production has been met with strong critical acclaim across\nnational press\, including many five-star reviews.
URL:https://www.monmouth.edu/events/event/life-of-pi/
LOCATION:Pollak Theatre
CATEGORIES:Alumni,Arts at Monmouth,Broadcast in HD,Community Member,Current Student,Faculty,Featured,Music + Theatre Arts,Theatre
ATTACH;FMTTYPE=image/jpeg:https://www.monmouth.edu/events/wp-content/uploads/sites/19/2025/08/NTL-2023-Life-of-Pi-Hiran-Abeysekera-Pi-Photo-by-Johan-Persson.jpg
ORGANIZER;CN="Center for the Arts":MAILTO:kbarratt@monmouth.edu
END:VEVENT
END:VCALENDAR