BEGIN:VCALENDAR
VERSION:2.0
PRODID:-//Events - ECPv6.15.20//NONSGML v1.0//EN
CALSCALE:GREGORIAN
METHOD:PUBLISH
X-WR-CALNAME:Events
X-ORIGINAL-URL:https://www.monmouth.edu/events
X-WR-CALDESC:Events for Events
REFRESH-INTERVAL;VALUE=DURATION:PT1H
X-Robots-Tag:noindex
X-PUBLISHED-TTL:PT1H
BEGIN:VTIMEZONE
TZID:America/New_York
BEGIN:DAYLIGHT
TZOFFSETFROM:-0500
TZOFFSETTO:-0400
TZNAME:EDT
DTSTART:20240310T070000
END:DAYLIGHT
BEGIN:STANDARD
TZOFFSETFROM:-0400
TZOFFSETTO:-0500
TZNAME:EST
DTSTART:20241103T060000
END:STANDARD
BEGIN:DAYLIGHT
TZOFFSETFROM:-0500
TZOFFSETTO:-0400
TZNAME:EDT
DTSTART:20250309T070000
END:DAYLIGHT
BEGIN:STANDARD
TZOFFSETFROM:-0400
TZOFFSETTO:-0500
TZNAME:EST
DTSTART:20251102T060000
END:STANDARD
BEGIN:DAYLIGHT
TZOFFSETFROM:-0500
TZOFFSETTO:-0400
TZNAME:EDT
DTSTART:20260308T070000
END:DAYLIGHT
BEGIN:STANDARD
TZOFFSETFROM:-0400
TZOFFSETTO:-0500
TZNAME:EST
DTSTART:20261101T060000
END:STANDARD
END:VTIMEZONE
BEGIN:VEVENT
DTSTART;TZID=America/New_York:20251106T190000
DTEND;TZID=America/New_York:20251106T220000
DTSTAMP:20260422T181549
CREATED:20250620T185015Z
LAST-MODIFIED:20250701T174625Z
UID:40810119200-1762455600-1762466400@www.monmouth.edu
SUMMARY:Hamlet
DESCRIPTION:Academy Award® nominee Benedict Cumberbatch (BBC’s Sherlock\, The Imitation Game) takes on the title role of Shakespeare’s great tragedy. As a country arms itself for war\, a family tears itself apart. Forced to avenge his father’s death but paralysed by the task ahead\, Hamlet rages against the impossibility of his predicament\, threatening both his sanity and the security of the state. \n‘Benedict Cumberbatch is a blazing five-star Hamlet’- Daily Telegraph \n‘One of the most visually and atmospherically stunning productions I’ve ever seen\, of anything\, ever.’ – Time Out \n‘This is a Hamlet for a world on the edge: a warning from history\, and a plea for new ideas from a new generation.’ – Variety \nDirected by Lyndsey Turner (Posh\, Chimerica) and produced by Sonia Friedman Productions.
URL:https://www.monmouth.edu/events/event/hamlet-2/
LOCATION:Pollak Theatre
CATEGORIES:Alumni,Arts at Monmouth,Broadcast in HD,Community Member,Current Student,Faculty,Music + Theatre Arts,Theatre
ATTACH;FMTTYPE=image/jpeg:https://www.monmouth.edu/events/wp-content/uploads/sites/19/2025/06/NTL-2023-Hamlet_Listing-Image_1240x874px.jpg
ORGANIZER;CN="Center for the Arts":MAILTO:kbarratt@monmouth.edu
END:VEVENT
BEGIN:VEVENT
DTSTART;TZID=America/New_York:20251108T130000
DTEND;TZID=America/New_York:20251108T170000
DTSTAMP:20260422T181549
CREATED:20250731T142438Z
LAST-MODIFIED:20250902T190613Z
UID:40810119356-1762606800-1762621200@www.monmouth.edu
SUMMARY:La Bohème
DESCRIPTION:With its enchanting setting and spellbinding score\, the world’s most popular opera is as timeless as it is heartbreaking. Franco Zeffirelli’s picture-perfect production brings 19th century Paris to the Met stage as Puccini’s young friends and lovers navigate the joy and struggle of bohemian life. Soprano Juliana Grigoryan is the feeble seamstress Mimì\, opposite tenor Freddie De Tommaso as the ardent poet Rodolfo. Keri-Lynn Wilson conducts the November 8 performance\, which will be transmitted live from the Met stage to the Pollak Theatre.
URL:https://www.monmouth.edu/events/event/la-boheme-2/
LOCATION:Pollak Theatre
CATEGORIES:Alumni,Alumni Affairs,Alumni Events,Arts at Monmouth,Broadcast in HD,Community Member,Current Student,Faculty,Music,Music + Theatre Arts
ATTACH;FMTTYPE=image/jpeg:https://www.monmouth.edu/events/wp-content/uploads/sites/19/2025/07/boheme-1600x685-1.jpg
ORGANIZER;CN="Center for the Arts":MAILTO:kbarratt@monmouth.edu
END:VEVENT
END:VCALENDAR