BEGIN:VCALENDAR
VERSION:2.0
PRODID:-//Events - ECPv6.15.20//NONSGML v1.0//EN
CALSCALE:GREGORIAN
METHOD:PUBLISH
X-ORIGINAL-URL:https://www.monmouth.edu/events
X-WR-CALDESC:Events for Events
REFRESH-INTERVAL;VALUE=DURATION:PT1H
X-Robots-Tag:noindex
X-PUBLISHED-TTL:PT1H
BEGIN:VTIMEZONE
TZID:America/New_York
BEGIN:DAYLIGHT
TZOFFSETFROM:-0500
TZOFFSETTO:-0400
TZNAME:EDT
DTSTART:20240310T070000
END:DAYLIGHT
BEGIN:STANDARD
TZOFFSETFROM:-0400
TZOFFSETTO:-0500
TZNAME:EST
DTSTART:20241103T060000
END:STANDARD
BEGIN:DAYLIGHT
TZOFFSETFROM:-0500
TZOFFSETTO:-0400
TZNAME:EDT
DTSTART:20250309T070000
END:DAYLIGHT
BEGIN:STANDARD
TZOFFSETFROM:-0400
TZOFFSETTO:-0500
TZNAME:EST
DTSTART:20251102T060000
END:STANDARD
BEGIN:DAYLIGHT
TZOFFSETFROM:-0500
TZOFFSETTO:-0400
TZNAME:EDT
DTSTART:20260308T070000
END:DAYLIGHT
BEGIN:STANDARD
TZOFFSETFROM:-0400
TZOFFSETTO:-0500
TZNAME:EST
DTSTART:20261101T060000
END:STANDARD
END:VTIMEZONE
BEGIN:VEVENT
DTSTART;TZID=America/New_York:20251023T190000
DTEND;TZID=America/New_York:20251023T220000
DTSTAMP:20260422T191307
CREATED:20250619T195936Z
LAST-MODIFIED:20250701T174514Z
UID:40810119199-1761246000-1761256800@www.monmouth.edu
SUMMARY:Frankenstein
DESCRIPTION:Directed by Academy Award®-winner Danny Boyle (Trainspotting\, Slumdog Millionaire)\, Frankenstein features Benedict Cumberbatch (Hamlet\, BBC’s Sherlock) and Jonny Lee Miller (Elementary\, Trainspotting) alternating between the roles of Victor Frankenstein and his creation. \nChildlike in his innocence but grotesque in form\, Frankenstein’s bewildered creature is cast out into a hostile universe by his horror-struck maker. Meeting with cruelty wherever he goes\, the increasingly desperate and vengeful Creature determines to track down his creator and strike a terrifying deal. \nScientific responsibility\, parental neglect\, cognitive development and the nature of good and evil\, are embedded within this thrilling and deeply disturbing classic tale. \nThis broadcast will feature the version with Benedict Cumberbatch as the Creature. \n \n 
URL:https://www.monmouth.edu/events/event/ntl-live-frankenstein/
LOCATION:Pollak Theatre
CATEGORIES:Alumni,Arts at Monmouth,Broadcast in HD,Community Member,Current Student,Faculty,Music + Theatre Arts,Theatre
ATTACH;FMTTYPE=image/jpeg:https://www.monmouth.edu/events/wp-content/uploads/sites/19/2025/06/mspfilm-NTL-Frankenstein_1920x1080.jpg
ORGANIZER;CN="Center for the Arts":MAILTO:kbarratt@monmouth.edu
END:VEVENT
END:VCALENDAR