BEGIN:VCALENDAR
VERSION:2.0
PRODID:-//Events - ECPv6.15.20//NONSGML v1.0//EN
CALSCALE:GREGORIAN
METHOD:PUBLISH
X-ORIGINAL-URL:https://www.monmouth.edu/events
X-WR-CALDESC:Events for Events
REFRESH-INTERVAL;VALUE=DURATION:PT1H
X-Robots-Tag:noindex
X-PUBLISHED-TTL:PT1H
BEGIN:VTIMEZONE
TZID:America/New_York
BEGIN:DAYLIGHT
TZOFFSETFROM:-0500
TZOFFSETTO:-0400
TZNAME:EDT
DTSTART:20240310T070000
END:DAYLIGHT
BEGIN:STANDARD
TZOFFSETFROM:-0400
TZOFFSETTO:-0500
TZNAME:EST
DTSTART:20241103T060000
END:STANDARD
BEGIN:DAYLIGHT
TZOFFSETFROM:-0500
TZOFFSETTO:-0400
TZNAME:EDT
DTSTART:20250309T070000
END:DAYLIGHT
BEGIN:STANDARD
TZOFFSETFROM:-0400
TZOFFSETTO:-0500
TZNAME:EST
DTSTART:20251102T060000
END:STANDARD
BEGIN:DAYLIGHT
TZOFFSETFROM:-0500
TZOFFSETTO:-0400
TZNAME:EDT
DTSTART:20260308T070000
END:DAYLIGHT
BEGIN:STANDARD
TZOFFSETFROM:-0400
TZOFFSETTO:-0500
TZNAME:EST
DTSTART:20261101T060000
END:STANDARD
END:VTIMEZONE
BEGIN:VEVENT
DTSTART;TZID=America/New_York:20250531T130000
DTEND;TZID=America/New_York:20250531T170000
DTSTAMP:20260424T022714
CREATED:20240517T191110Z
LAST-MODIFIED:20240926T165038Z
UID:40810112465-1748696400-1748710800@www.monmouth.edu
SUMMARY:Il Barbiere di Siviglia
DESCRIPTION:Rossini’s effervescent comedy retakes the stage in Bartlett Sher’s madcap production. Mezzo-soprano Aigul Akhmetshina headlines a winning ensemble as the feisty heroine\, Rosina\, alongside high-flying tenor Jack Swanson\, in his Met debut\, as her secret beloved\, Count Almaviva. Baritone Andrey Zhilikhovsky stars as Figaro\, the titular barber of Seville\, with bass-baritone Peter Kálmán as Dr. Bartolo and bass Alexander Vinogradov as Don Basilio rounding out the principal cast. Giacomo Sagripanti conducts. This live cinema transmission is part of the Met’s award-winning Live in HD series\, bringing opera to movie theaters across the globe.
URL:https://www.monmouth.edu/events/event/il-barbiere-di-siviglia-2/
LOCATION:Pollak Theatre
CATEGORIES:Alumni,Alumni Affairs,Alumni Events,Arts at Monmouth,Broadcast in HD,Music
ATTACH;FMTTYPE=image/jpeg:https://www.monmouth.edu/events/wp-content/uploads/sites/19/2024/05/BARBIERE_headerjpg.jpg
END:VEVENT
END:VCALENDAR