BEGIN:VCALENDAR
VERSION:2.0
PRODID:-//Events - ECPv6.15.20//NONSGML v1.0//EN
CALSCALE:GREGORIAN
METHOD:PUBLISH
X-WR-CALNAME:Events
X-ORIGINAL-URL:https://www.monmouth.edu/events
X-WR-CALDESC:Events for Events
REFRESH-INTERVAL;VALUE=DURATION:PT1H
X-Robots-Tag:noindex
X-PUBLISHED-TTL:PT1H
BEGIN:VTIMEZONE
TZID:America/New_York
BEGIN:DAYLIGHT
TZOFFSETFROM:-0500
TZOFFSETTO:-0400
TZNAME:EDT
DTSTART:20250309T070000
END:DAYLIGHT
BEGIN:STANDARD
TZOFFSETFROM:-0400
TZOFFSETTO:-0500
TZNAME:EST
DTSTART:20251102T060000
END:STANDARD
BEGIN:DAYLIGHT
TZOFFSETFROM:-0500
TZOFFSETTO:-0400
TZNAME:EDT
DTSTART:20260308T070000
END:DAYLIGHT
BEGIN:STANDARD
TZOFFSETFROM:-0400
TZOFFSETTO:-0500
TZNAME:EST
DTSTART:20261101T060000
END:STANDARD
BEGIN:DAYLIGHT
TZOFFSETFROM:-0500
TZOFFSETTO:-0400
TZNAME:EDT
DTSTART:20270314T070000
END:DAYLIGHT
BEGIN:STANDARD
TZOFFSETFROM:-0400
TZOFFSETTO:-0500
TZNAME:EST
DTSTART:20271107T060000
END:STANDARD
END:VTIMEZONE
BEGIN:VEVENT
DTSTART;TZID=America/New_York:20260110T130000
DTEND;TZID=America/New_York:20260110T170000
DTSTAMP:20260422T075914
CREATED:20250731T170019Z
LAST-MODIFIED:20260105T160513Z
UID:40810119483-1768050000-1768064400@www.monmouth.edu
SUMMARY:I Puritani
DESCRIPTION:For gorgeous melody\, spellbinding coloratura\, and virtuoso vocal fireworks\, I Puritani has few equals. On January 10\, the first new Met production of Bellini’s final masterpiece in nearly 50 years—a striking staging by Charles Edwards\, who makes his company directorial debut after many successes as a set designer—arrives in cinemas worldwide. The Met has assembled a  world-beating quartet of stars\, conducted by Marco Armiliato\, for the demanding principal roles. Soprano Lisette Oropesa and tenor Lawrence Brownlee are Elvira and Arturo\, brought together by love and torn apart by the political rifts of the English Civil War\, with baritone Artur Ruciński as Riccardo\, betrothed to Elvira against her will\, and bass-baritone Christian Van Horn as Elvira’s sympathetic uncle\, Giorgio.
URL:https://www.monmouth.edu/events/event/i-puritani/
LOCATION:Pollak Theatre
CATEGORIES:Alumni,Alumni Affairs,Alumni Events,Arts at Monmouth,Broadcast in HD,Community Member,Current Student,Faculty,Music,Music + Theatre Arts
ATTACH;FMTTYPE=image/jpeg:https://www.monmouth.edu/events/wp-content/uploads/sites/19/2025/07/puritani-1600x685-2.jpg
ORGANIZER;CN="Center for the Arts":MAILTO:kbarratt@monmouth.edu
END:VEVENT
BEGIN:VEVENT
DTSTART;TZID=America/New_York:20260129T190000
DTEND;TZID=America/New_York:20260129T220000
DTSTAMP:20260422T075914
CREATED:20250708T142410Z
LAST-MODIFIED:20251223T190733Z
UID:40810119246-1769713200-1769724000@www.monmouth.edu
SUMMARY:Mrs. Warren's Profession
DESCRIPTION:Mrs. Warren’s Profession \nby Bernard Shaw | directed by Dominic Cooke \nFive-time Olivier Award winner Imelda Staunton (The Crown) joins forces with her real-life daughter Bessie Carter (Bridgerton) for the very first time\, playing mother and daughter in Bernard Shaw’s incendiary moral classic. \nVivie Warren is a woman ahead of her time. Her mother\, however\, is a product of that old patriarchal order. Exploiting it has earned Mrs. Warren a fortune – but at what cost? \nFilmed live from the West End\, this new production reunites Staunton with director Dominic Cooke (Follies\, Good)\, exploring the clash between morality and independence\, traditions and progress.
URL:https://www.monmouth.edu/events/event/mrs-warrensprofession/
LOCATION:Pollak Theatre
CATEGORIES:Alumni,Arts at Monmouth,Broadcast in HD,Community Member,Current Student,Faculty,Music + Theatre Arts,Theatre
ATTACH;FMTTYPE=image/jpeg:https://www.monmouth.edu/events/wp-content/uploads/sites/19/2025/06/NTL-2025-Mrs.-Warrens-Profession-Listing-Image-Landscape.jpg
ORGANIZER;CN="Center for the Arts":MAILTO:kbarratt@monmouth.edu
END:VEVENT
END:VCALENDAR