BEGIN:VCALENDAR
VERSION:2.0
PRODID:-//Events - ECPv6.15.20//NONSGML v1.0//EN
CALSCALE:GREGORIAN
METHOD:PUBLISH
X-WR-CALNAME:Events
X-ORIGINAL-URL:https://www.monmouth.edu/events
X-WR-CALDESC:Events for Events
REFRESH-INTERVAL;VALUE=DURATION:PT1H
X-Robots-Tag:noindex
X-PUBLISHED-TTL:PT1H
BEGIN:VTIMEZONE
TZID:America/New_York
BEGIN:DAYLIGHT
TZOFFSETFROM:-0500
TZOFFSETTO:-0400
TZNAME:EDT
DTSTART:20240310T070000
END:DAYLIGHT
BEGIN:STANDARD
TZOFFSETFROM:-0400
TZOFFSETTO:-0500
TZNAME:EST
DTSTART:20241103T060000
END:STANDARD
BEGIN:DAYLIGHT
TZOFFSETFROM:-0500
TZOFFSETTO:-0400
TZNAME:EDT
DTSTART:20250309T070000
END:DAYLIGHT
BEGIN:STANDARD
TZOFFSETFROM:-0400
TZOFFSETTO:-0500
TZNAME:EST
DTSTART:20251102T060000
END:STANDARD
BEGIN:DAYLIGHT
TZOFFSETFROM:-0500
TZOFFSETTO:-0400
TZNAME:EDT
DTSTART:20260308T070000
END:DAYLIGHT
BEGIN:STANDARD
TZOFFSETFROM:-0400
TZOFFSETTO:-0500
TZNAME:EST
DTSTART:20261101T060000
END:STANDARD
END:VTIMEZONE
BEGIN:VEVENT
DTSTART;TZID=America/New_York:20250614T130000
DTEND;TZID=America/New_York:20250614T170000
DTSTAMP:20260423T145337
CREATED:20240517T184129Z
LAST-MODIFIED:20250324T145321Z
UID:40810112459-1749906000-1749920400@www.monmouth.edu
SUMMARY:Le Nozze di Figaro
DESCRIPTION:Please note due to a University Scheduling conflict this screening has been moved from it’s originally scheduled date to June 14. Conductor Joana Mallwitz makes her Met debut leading an extraordinary cast in Mozart’s comic masterpiece. Bass-baritone Michael Sumuel stars as the clever valet Figaro\, opposite soprano Olga Kulchynska as his betrothed\, the wily maid Susanna. Baritone Joshua Hopkins is the skirt-chasing Count\, with soprano Federica Lombardi as his anguished wife and mezzo-soprano Marianne Crebassa as the adolescent page Cherubino. This live cinema transmission is part of the Met’s award-winning Live in HD series\, bringing opera to movie theaters across the globe.
URL:https://www.monmouth.edu/events/event/le-nozze-di-figaro/
LOCATION:Pollak Theatre
CATEGORIES:Alumni,Alumni Affairs,Alumni Events,Arts at Monmouth,Broadcast in HD,Featured,Music
ATTACH;FMTTYPE=image/jpeg:https://www.monmouth.edu/events/wp-content/uploads/sites/19/2024/05/LeNozze_header.jpg
END:VEVENT
END:VCALENDAR