BEGIN:VCALENDAR
VERSION:2.0
PRODID:-//Events - ECPv6.15.20//NONSGML v1.0//EN
CALSCALE:GREGORIAN
METHOD:PUBLISH
X-ORIGINAL-URL:https://www.monmouth.edu/events
X-WR-CALDESC:Events for Events
REFRESH-INTERVAL;VALUE=DURATION:PT1H
X-Robots-Tag:noindex
X-PUBLISHED-TTL:PT1H
BEGIN:VTIMEZONE
TZID:America/New_York
BEGIN:DAYLIGHT
TZOFFSETFROM:-0500
TZOFFSETTO:-0400
TZNAME:EDT
DTSTART:20140309T070000
END:DAYLIGHT
BEGIN:STANDARD
TZOFFSETFROM:-0400
TZOFFSETTO:-0500
TZNAME:EST
DTSTART:20141102T060000
END:STANDARD
BEGIN:DAYLIGHT
TZOFFSETFROM:-0500
TZOFFSETTO:-0400
TZNAME:EDT
DTSTART:20150308T070000
END:DAYLIGHT
BEGIN:STANDARD
TZOFFSETFROM:-0400
TZOFFSETTO:-0500
TZNAME:EST
DTSTART:20151101T060000
END:STANDARD
BEGIN:DAYLIGHT
TZOFFSETFROM:-0500
TZOFFSETTO:-0400
TZNAME:EDT
DTSTART:20160313T070000
END:DAYLIGHT
BEGIN:STANDARD
TZOFFSETFROM:-0400
TZOFFSETTO:-0500
TZNAME:EST
DTSTART:20161106T060000
END:STANDARD
END:VTIMEZONE
BEGIN:VEVENT
DTSTART;TZID=America/New_York:20151026T180000
DTEND;TZID=America/New_York:20151026T210000
DTSTAMP:20260422T185559
CREATED:20180725T204145Z
LAST-MODIFIED:20181015T124007Z
UID:40810102106-1445882400-1445893200@www.monmouth.edu
SUMMARY:Monmouth University Award for Communication Excellence (MACE) Award
DESCRIPTION:Presentation of this year’s Monmouth Award for Communication Excellence (MACE) will be to film producers/directors Chris Miller and Phil Lord. The event includes a discussion about their award-winning filmmaking techniques moderated by Monmouth University Professor Rob Scott. \nA cocktail reception preceding the presentation will be held at 6 p.m. in the Gallery of Pollak Theatre. \nThe award presentation and program will be held in Pollak Theatre. \nThe program is free but registration will be required. For more information please contact Nicole Frame\, Assistant Director of Conference Services and Special Events\, at 732.571.3473 or nframe@monmouth.edu. \nAbout the Honorees:\nPhil Lord and Chris Miller are the prolific writing and directing duo behind some of today’s most successful films\, including\, The Lego Movie\, 21 & 22 Jump Street and Cloudy with a Chance of Meatballs. In 2014\, the duo saw incredible success at the box office and were the only writers/directors with two films ranked among the top highest grossing features of the year. Up next for film\, the duo will be directing the highly anticipated untitled Star Wars Anthology. Focusing on a young Han Solo\, the feature is slated for a May 25\, 2018 release date and will be written by Lawrence and Jon Kasdan. \nFor more information on this event\, please visit the MACE Award web site.
URL:https://www.monmouth.edu/events/event/monmouth-university-award-for-communication-excellence-mace-award/
CATEGORIES:Alumni,Alumni Affairs,Communication,Community Member,Current Student,Faculty,School of Humanities and Social Sciences
ATTACH;FMTTYPE=image/jpeg:https://www.monmouth.edu/events/wp-content/uploads/sites/19/2018/07/ChrisMillerandPhilLordDisplay.jpg
END:VEVENT
END:VCALENDAR