BEGIN:VCALENDAR
VERSION:2.0
PRODID:-//Events - ECPv6.15.20//NONSGML v1.0//EN
CALSCALE:GREGORIAN
METHOD:PUBLISH
X-WR-CALNAME:Events
X-ORIGINAL-URL:https://www.monmouth.edu/events
X-WR-CALDESC:Events for Events
REFRESH-INTERVAL;VALUE=DURATION:PT1H
X-Robots-Tag:noindex
X-PUBLISHED-TTL:PT1H
BEGIN:VTIMEZONE
TZID:America/New_York
BEGIN:DAYLIGHT
TZOFFSETFROM:-0500
TZOFFSETTO:-0400
TZNAME:EDT
DTSTART:20250309T070000
END:DAYLIGHT
BEGIN:STANDARD
TZOFFSETFROM:-0400
TZOFFSETTO:-0500
TZNAME:EST
DTSTART:20251102T060000
END:STANDARD
BEGIN:DAYLIGHT
TZOFFSETFROM:-0500
TZOFFSETTO:-0400
TZNAME:EDT
DTSTART:20260308T070000
END:DAYLIGHT
BEGIN:STANDARD
TZOFFSETFROM:-0400
TZOFFSETTO:-0500
TZNAME:EST
DTSTART:20261101T060000
END:STANDARD
BEGIN:DAYLIGHT
TZOFFSETFROM:-0500
TZOFFSETTO:-0400
TZNAME:EDT
DTSTART:20270314T070000
END:DAYLIGHT
BEGIN:STANDARD
TZOFFSETFROM:-0400
TZOFFSETTO:-0500
TZNAME:EST
DTSTART:20271107T060000
END:STANDARD
END:VTIMEZONE
BEGIN:VEVENT
DTSTART;TZID=America/New_York:20260311T163000
DTEND;TZID=America/New_York:20260311T173000
DTSTAMP:20260421T010104
CREATED:20260122T205200Z
LAST-MODIFIED:20260122T205200Z
UID:40810120999-1773246600-1773250200@www.monmouth.edu
SUMMARY:Artist Talk: Jake Yuzna
DESCRIPTION:Jake Yuzna (Filmmaker and Monmouth University Assistant Professor)\nArtist Talk\nMarch 11\, 2026\, 4:30pm – 5:30pm\nPozycki Hall\, Lecture Hall 115\n\nJoin us as we welcome the Department of Communication’s newest faculty member to campus\, Assistant Professor Jake Yuzna\, who will share an artist talk and selects from their creative practice. Yuzna is a filmmaker\, artist\, and curator whose work often explores evolving identities\, subculture\, and genre. Their films have been presented at the Cannes Film Festival\, Berlin Film Festival\, London Film Festival\, New Museum of Contemporary Art\, Walker Art Center\, and the British Film Institute\, among others. In addition\, their work has been distributed by NetFlix\, Hulu\, PBS\, and Arté Television\, among others. Yuzna is the first American feature director to win the Teddy Jury Prize at the Berlin Film Festival and has received additional grants and awards from the Guggenheim Foundation\, National Endowment for the Arts\, Creative Capital Foundation\, Frameline Foundation\, McKnight Foundation\, IFP MN\, FilmNorth\, as well as a Richard P. Rogers Spirit of Excellence Award in Directing from the American Film Institute. Yuzna has also curated projects and exhibitions for the Walker Art Center\, Performa: The NYC Biennial of Performance Art\, the Moscow Biennial of Contemporary Art\, the City of Los Angeles\, and SCCA-Center for Contemporary Art–Ljubljana. Their scholarship has been collected by Yale and New York Universities and they have been a contributor to Artforum Magazine since 2020.\n \nIf you have any questions\, feel free to contact ArtNOW’s chair\, Prof. Dickie Cox.
URL:https://www.monmouth.edu/events/event/artist-talk-jake-yuzna/
LOCATION:Pozycki Lecture Hall
CATEGORIES:Alumni,Alumni Affairs,Alumni Events,Arts at Monmouth,Community Member,Free,Lectures,Lectures/Workshops/Symposiums,School of Humanities and Social Sciences,Virtual,Workshops and Professional Development
END:VEVENT
BEGIN:VEVENT
DTSTART;TZID=America/New_York:20260320T180000
DTEND;TZID=America/New_York:20260320T190000
DTSTAMP:20260421T010104
CREATED:20251218T162048Z
LAST-MODIFIED:20260226T184255Z
UID:40810120461-1774029600-1774033200@www.monmouth.edu
SUMMARY:The Lord of the Rings
DESCRIPTION:The Fellowship lives on through the music from The Lord of the Rings trilogy. Celebrate the 25th anniversary of The Lord of the Rings like never before with Candlelight: The Lord of the Rings in Long Branch. This exclusive tribute concert\, performed by a talented string quartet\, will bring the unforgettable music from the films to life. Join us for a night that celebrates the music behind the heroic journey of The Lord of the Rings trilogy. Get your tickets today! \n🏰 There’s no strict dress code\, but guests are encouraged to embrace the spirit of Middle-earth— Dress as your favorite character or let the magic of the films inspire your look. \nProgram- Top hits from The Lord of the Rings trilogy \nThe Lord of the Rings – The Fellowship of the Ring\, Prologue: One Ring to Rule Them All\, Concerning Hobbits\, Amon Hen\, The Breaking of the Fellowship (feat. “In Dreams”) \nThe Lord of the Rings – The Two Towers: Foundations of Stone\, The Riders of Rohan\, Evenstar\, Gollum’s Song \nThe Lord of the Rings – The Return of the King: Minas Tirith (feat. Ben Del Maestro)\, The Ride of the Rohirrim\, The Black Gate Opens (feat. Sir James Galway)\, The Return of the King First\, The Grey Havens (feat. Sir James Galway)\, Into the West
URL:https://www.monmouth.edu/events/event/lord-of-rings/2026-03-20/1/
LOCATION:Pollak Theatre
CATEGORIES:Alumni,Alumni Affairs,Alumni Events,Arts at Monmouth,Community Member,CommWorks,Concerts,Council of Endowed Chairs,Current Student,Faculty,Graduate Student,Honors School,Institute for Health and Wellness,Media,Music,Undergraduate Student
ATTACH;FMTTYPE=image/jpeg:https://www.monmouth.edu/events/wp-content/uploads/sites/19/2025/01/CandeleLight_withoutQR_header-1.jpg
ORGANIZER;CN="Center for the Arts":MAILTO:kbarratt@monmouth.edu
END:VEVENT
BEGIN:VEVENT
DTSTART;TZID=America/New_York:20260320T203000
DTEND;TZID=America/New_York:20260320T213000
DTSTAMP:20260421T010104
CREATED:20251218T162048Z
LAST-MODIFIED:20260226T184255Z
UID:40810120464-1774038600-1774042200@www.monmouth.edu
SUMMARY:The Lord of the Rings
DESCRIPTION:The Fellowship lives on through the music from The Lord of the Rings trilogy. Celebrate the 25th anniversary of The Lord of the Rings like never before with Candlelight: The Lord of the Rings in Long Branch. This exclusive tribute concert\, performed by a talented string quartet\, will bring the unforgettable music from the films to life. Join us for a night that celebrates the music behind the heroic journey of The Lord of the Rings trilogy. Get your tickets today! \n🏰 There’s no strict dress code\, but guests are encouraged to embrace the spirit of Middle-earth— Dress as your favorite character or let the magic of the films inspire your look. \nProgram- Top hits from The Lord of the Rings trilogy \nThe Lord of the Rings – The Fellowship of the Ring\, Prologue: One Ring to Rule Them All\, Concerning Hobbits\, Amon Hen\, The Breaking of the Fellowship (feat. “In Dreams”) \nThe Lord of the Rings – The Two Towers: Foundations of Stone\, The Riders of Rohan\, Evenstar\, Gollum’s Song \nThe Lord of the Rings – The Return of the King: Minas Tirith (feat. Ben Del Maestro)\, The Ride of the Rohirrim\, The Black Gate Opens (feat. Sir James Galway)\, The Return of the King First\, The Grey Havens (feat. Sir James Galway)\, Into the West
URL:https://www.monmouth.edu/events/event/lord-of-rings/2026-03-20/2/
LOCATION:Pollak Theatre
CATEGORIES:Alumni,Alumni Affairs,Alumni Events,Arts at Monmouth,Community Member,CommWorks,Concerts,Council of Endowed Chairs,Current Student,Faculty,Graduate Student,Honors School,Institute for Health and Wellness,Media,Music,Undergraduate Student
ATTACH;FMTTYPE=image/jpeg:https://www.monmouth.edu/events/wp-content/uploads/sites/19/2025/01/CandeleLight_withoutQR_header-1.jpg
ORGANIZER;CN="Center for the Arts":MAILTO:kbarratt@monmouth.edu
END:VEVENT
BEGIN:VEVENT
DTSTART;TZID=America/New_York:20260321T120000
DTEND;TZID=America/New_York:20260321T170000
DTSTAMP:20260421T010104
CREATED:20250731T180001Z
LAST-MODIFIED:20260105T203538Z
UID:40810119485-1774094400-1774112400@www.monmouth.edu
SUMMARY:Tristan und Isolde
DESCRIPTION:Please note that this Metropolitan Opera event will start at 12pm.  \nAfter years of anticipation\, a truly unmissable event arrives at Pollak Theatre on March 21 as the electrifying Lise Davidsen tackles one of the ultimate roles for dramatic soprano: the Irish princess Isolde in Wagner’s transcendent meditation on love and death. Heroic tenor Michael Spyres stars opposite Davidsen as the love-drunk Tristan. The momentous occasion also marks the advent of a new\, Met-debut staging by Yuval Sharon—hailed by The New York Times as “the most visionary opera director of his generation” and the first American to direct an opera at the famed Wagner festival in Bayreuth—as well as Music Director Yannick Nézet-Séguin’s first time leading Tristan und Isolde at the Met. Mezzo-soprano Ekaterina Gubanova reprises her portrayal of Brangäne\, alongside bass-baritone Tomasz Konieczny\, who sings Kurwenal after celebrated Met appearances in Wagner’s Der Fliegende Holländer and Ring cycle. Bass-baritone Ryan Speedo Green makes an important role debut as King Market.
URL:https://www.monmouth.edu/events/event/tristan-und-isolde/
LOCATION:Pollak Theatre
CATEGORIES:Alumni,Alumni Affairs,Alumni Events,Arts at Monmouth,Broadcast in HD,Community Member,Current Student,Faculty,Music,Music + Theatre Arts
ATTACH;FMTTYPE=image/jpeg:https://www.monmouth.edu/events/wp-content/uploads/sites/19/2025/07/tristan-1600x685-2.jpg
ORGANIZER;CN="Center for the Arts":MAILTO:kbarratt@monmouth.edu
END:VEVENT
BEGIN:VEVENT
DTSTART;TZID=America/New_York:20260321T140000
DTEND;TZID=America/New_York:20260321T153000
DTSTAMP:20260421T010104
CREATED:20260303T203421Z
LAST-MODIFIED:20260303T213249Z
UID:40810121761-1774101600-1774107000@www.monmouth.edu
SUMMARY:Comedic Improv with Michael O'Keeffe
DESCRIPTION:Location: Pollak Gallery\n\nComedic improvisation is the true playground of the theatre! Students gain confidence while acquiring skills that allow them to create scenes and stories using nothing but their imaginations and each other – all completely on-the-spot! \n\nThere are some fascinating opposites inherent in improvisation: \n\n• In order to look good you must make others look good. \n• In order to be safe you must take risks. \n• To be self reliant you must trust others. \nTo be able to succeed you must be willing to fail good-naturedly.\n\nWe will explore these concepts along with others\, including teamwork\, focus\, concentration\, mistakes as gifts\, relaxation\, being changed\, listening/observing\, re-incorporation\, comedic timing\, etc.\, etc.\, etc… \n\nWe will be doing structured exercises and games (just like “Whose Line is it Anyway?”)  as a whole group as well as in pairs and trios. We will work on going with our first idea while supporting our partner’s ideas. We will practice trusting our instincts and taking risks in a safe\, fun and playful atmosphere. 
URL:https://www.monmouth.edu/events/event/adult-education-series-comedic-improv/
LOCATION:Pollak Gallery
CATEGORIES:Alumni,Alumni Affairs,Alumni Events,Arts at Monmouth,Lectures,Lectures/Workshops/Symposiums
ATTACH;FMTTYPE=image/jpeg:https://www.monmouth.edu/events/wp-content/uploads/sites/19/2026/03/IMG_9757-1-e1772572679437.jpeg
END:VEVENT
END:VCALENDAR