BEGIN:VCALENDAR
VERSION:2.0
PRODID:-//Events - ECPv6.15.20//NONSGML v1.0//EN
CALSCALE:GREGORIAN
METHOD:PUBLISH
X-WR-CALNAME:Events
X-ORIGINAL-URL:https://www.monmouth.edu/events
X-WR-CALDESC:Events for Events
REFRESH-INTERVAL;VALUE=DURATION:PT1H
X-Robots-Tag:noindex
X-PUBLISHED-TTL:PT1H
BEGIN:VTIMEZONE
TZID:America/New_York
BEGIN:DAYLIGHT
TZOFFSETFROM:-0500
TZOFFSETTO:-0400
TZNAME:EDT
DTSTART:20250309T070000
END:DAYLIGHT
BEGIN:STANDARD
TZOFFSETFROM:-0400
TZOFFSETTO:-0500
TZNAME:EST
DTSTART:20251102T060000
END:STANDARD
BEGIN:DAYLIGHT
TZOFFSETFROM:-0500
TZOFFSETTO:-0400
TZNAME:EDT
DTSTART:20260308T070000
END:DAYLIGHT
BEGIN:STANDARD
TZOFFSETFROM:-0400
TZOFFSETTO:-0500
TZNAME:EST
DTSTART:20261101T060000
END:STANDARD
BEGIN:DAYLIGHT
TZOFFSETFROM:-0500
TZOFFSETTO:-0400
TZNAME:EDT
DTSTART:20270314T070000
END:DAYLIGHT
BEGIN:STANDARD
TZOFFSETFROM:-0400
TZOFFSETTO:-0500
TZNAME:EST
DTSTART:20271107T060000
END:STANDARD
END:VTIMEZONE
BEGIN:VEVENT
DTSTART;TZID=America/New_York:20260108T190000
DTEND;TZID=America/New_York:20260108T210000
DTSTAMP:20260423T022954
CREATED:20250918T124114Z
LAST-MODIFIED:20260108T145509Z
UID:40810119707-1767898800-1767906000@www.monmouth.edu
SUMMARY:Men's Basketball vs William & Mary - Teacher Appreciation
DESCRIPTION:Monmouth University Men’s Basketball vs William & Mary – Teacher Appreciation\nStreaming Video\nTickets;agency=MNMV_PLAGENCY_MPV&orgid=44869&pid=9616203#/event/9616203/seatmap/?minPrice=14.5&maxPrice=107.5&quantity=2&sort=price_desc&ada=false&seatSelection=true&onlyCoupon=true&onlyVoucher=false
URL:https://www.monmouth.edu/events/event/mens-basketball-vs-william-mary/
LOCATION:OceanFirst Bank Center – West Long Branch\, NJ
CATEGORIES:Men's Basketball
END:VEVENT
BEGIN:VEVENT
DTSTART;TZID=America/New_York:20260109T120000
DTEND;TZID=America/New_York:20260109T150000
DTSTAMP:20260423T022954
CREATED:20251002T205513Z
LAST-MODIFIED:20260109T154110Z
UID:40810119775-1767960000-1767970800@www.monmouth.edu
SUMMARY:Women's Swimming at Stony Brook
DESCRIPTION:Monmouth University Women’s Swimming at Stony Brook\nStreaming Video;utm_source=multiple&utm_content=landingpage&utm_term=monmouth&contract_id=0063m00000qeqqqaao
URL:https://www.monmouth.edu/events/event/monmouth-university-womens-swimming-at-stony-brook/
LOCATION:Stony Brook\, NY
CATEGORIES:Women's Swimming
END:VEVENT
BEGIN:VEVENT
DTSTART;TZID=America/New_York:20260109T150000
DTEND;TZID=America/New_York:20260109T180000
DTSTAMP:20260423T022954
CREATED:20251002T205513Z
LAST-MODIFIED:20260106T152511Z
UID:40810119777-1767970800-1767981600@www.monmouth.edu
SUMMARY:Women's Swimming vs Felician
DESCRIPTION:Monmouth University Women’s Swimming vs Felician\nStreaming Video;utm_source=multiple&utm_content=landingpage&utm_term=monmouth&contract_id=0063m00000qeqqqaao
URL:https://www.monmouth.edu/events/event/monmouth-university-womens-swimming-vs-felician-2/
LOCATION:Stony Brook\, NY
CATEGORIES:Women's Swimming
END:VEVENT
BEGIN:VEVENT
DTSTART;TZID=America/New_York:20260109T150000
DTEND;TZID=America/New_York:20260109T180000
DTSTAMP:20260423T022954
CREATED:20251003T172514Z
LAST-MODIFIED:20260106T132510Z
UID:40810119800-1767970800-1767981600@www.monmouth.edu
SUMMARY:Men's Swimming vs Felician
DESCRIPTION:Monmouth University Men’s Swimming vs Felician\nStreaming Video;utm_source=multiple&utm_content=landingpage&utm_term=monmouth&contract_id=0063m00000qeqqqaao
URL:https://www.monmouth.edu/events/event/monmouth-university-mens-swimming-vs-felician/
LOCATION:Stony Brook\, NY
CATEGORIES:Men's Swimming
END:VEVENT
BEGIN:VEVENT
DTSTART;TZID=America/New_York:20260110T140000
DTEND;TZID=America/New_York:20260110T160000
DTSTAMP:20260423T022954
CREATED:20250918T124114Z
LAST-MODIFIED:20260110T145509Z
UID:40810119709-1768053600-1768060800@www.monmouth.edu
SUMMARY:Men's Basketball at Hofstra
DESCRIPTION:Monmouth University Men’s Basketball at Hofstra\nStreaming Video\nStreaming Audio
URL:https://www.monmouth.edu/events/event/mens-basketball-at-hofstra/
LOCATION:David S. Mack Sports and Exhibition Complex – Hempstead\, NY
CATEGORIES:Men's Basketball
END:VEVENT
END:VCALENDAR